BEGIN:VCALENDAR
VERSION:2.0
PRODID:-//Body und Mind - ECPv6.15.16//NONSGML v1.0//EN
CALSCALE:GREGORIAN
METHOD:PUBLISH
X-ORIGINAL-URL:https://bodyundmind.de
X-WR-CALDESC:Veranstaltungen für Body und Mind
REFRESH-INTERVAL;VALUE=DURATION:PT1H
X-Robots-Tag:noindex
X-PUBLISHED-TTL:PT1H
BEGIN:VTIMEZONE
TZID:Europe/Berlin
BEGIN:DAYLIGHT
TZOFFSETFROM:+0100
TZOFFSETTO:+0200
TZNAME:CEST
DTSTART:20250330T010000
END:DAYLIGHT
BEGIN:STANDARD
TZOFFSETFROM:+0200
TZOFFSETTO:+0100
TZNAME:CET
DTSTART:20251026T010000
END:STANDARD
BEGIN:DAYLIGHT
TZOFFSETFROM:+0100
TZOFFSETTO:+0200
TZNAME:CEST
DTSTART:20260329T010000
END:DAYLIGHT
BEGIN:STANDARD
TZOFFSETFROM:+0200
TZOFFSETTO:+0100
TZNAME:CET
DTSTART:20261025T010000
END:STANDARD
BEGIN:DAYLIGHT
TZOFFSETFROM:+0100
TZOFFSETTO:+0200
TZNAME:CEST
DTSTART:20270328T010000
END:DAYLIGHT
BEGIN:STANDARD
TZOFFSETFROM:+0200
TZOFFSETTO:+0100
TZNAME:CET
DTSTART:20271031T010000
END:STANDARD
END:VTIMEZONE
BEGIN:VEVENT
DTSTART;TZID=Europe/Berlin:20260608T190000
DTEND;TZID=Europe/Berlin:20260608T190000
DTSTAMP:20260425T214702
CREATED:20260425T072651Z
LAST-MODIFIED:20260425T072847Z
UID:10000438-1780945200-1780945200@bodyundmind.de
SUMMARY:Klangmeditation und Klangmassage Entspannungstechniken mit Klangschalen
DESCRIPTION:Kursbeginn: Mo.\, 08.06.26 von 19.00-20.00 Uhr \nKursgebühr: 10 € \nVeranstalter: Jessica Schneider \nAnmeldung: Brucker Forum \nTauche ein in eine Welt voller tiefer Entspannung. Bei der Klangmeditation begleiten dich die langanhaltenden Töne tibetischer Klangschalen auf einer wohltuenden Phantasiereise. \nBei der Klangmassage werden die Schalen direkt auf deinen bekleideten Körper aufgelegt und sanft angeschlagen. Die feinen Schwingungen und die Vielfalt der Töne verschmelzen zu einer beruhigenden Melodie. Spüre\, wie du zur Ruhe kommst\, neue Energie tankst und pure Erleichterung findest.\n 
URL:https://bodyundmind.de/veranstaltung-seminar/klangmeditation-und-klangmassage-entspannungstechniken-mit-klangschalen/
LOCATION:Remise (Innenhof) Kloster Spielberg\, Am Schloss Spielberg 4\, Oberschweinbach\, Landkreis Fürstenfeldbruck\, 82294\, Germany
CATEGORIES:Klangmeditation
ATTACH;FMTTYPE=image/jpeg:https://bodyundmind.de/wp-content/uploads/2026/04/yaky_x-singing-bowl-7057298_1920.jpg
GEO:48.2382399;11.1633588
X-APPLE-STRUCTURED-LOCATION;VALUE=URI;X-ADDRESS=Remise (Innenhof) Kloster Spielberg Am Schloss Spielberg 4 Oberschweinbach Landkreis Fürstenfeldbruck 82294 Germany;X-APPLE-RADIUS=500;X-TITLE=Am Schloss Spielberg 4:geo:11.1633588,48.2382399
END:VEVENT
END:VCALENDAR