BEGIN:VCALENDAR
VERSION:2.0
PRODID:-//Body und Mind - ECPv6.15.16//NONSGML v1.0//EN
CALSCALE:GREGORIAN
METHOD:PUBLISH
X-ORIGINAL-URL:https://bodyundmind.de
X-WR-CALDESC:Veranstaltungen für Body und Mind
REFRESH-INTERVAL;VALUE=DURATION:PT1H
X-Robots-Tag:noindex
X-PUBLISHED-TTL:PT1H
BEGIN:VTIMEZONE
TZID:Europe/Berlin
BEGIN:DAYLIGHT
TZOFFSETFROM:+0100
TZOFFSETTO:+0200
TZNAME:CEST
DTSTART:20250330T010000
END:DAYLIGHT
BEGIN:STANDARD
TZOFFSETFROM:+0200
TZOFFSETTO:+0100
TZNAME:CET
DTSTART:20251026T010000
END:STANDARD
BEGIN:DAYLIGHT
TZOFFSETFROM:+0100
TZOFFSETTO:+0200
TZNAME:CEST
DTSTART:20260329T010000
END:DAYLIGHT
BEGIN:STANDARD
TZOFFSETFROM:+0200
TZOFFSETTO:+0100
TZNAME:CET
DTSTART:20261025T010000
END:STANDARD
BEGIN:DAYLIGHT
TZOFFSETFROM:+0100
TZOFFSETTO:+0200
TZNAME:CEST
DTSTART:20270328T010000
END:DAYLIGHT
BEGIN:STANDARD
TZOFFSETFROM:+0200
TZOFFSETTO:+0100
TZNAME:CET
DTSTART:20271031T010000
END:STANDARD
END:VTIMEZONE
BEGIN:VEVENT
DTSTART;TZID=Europe/Berlin:20260226T120000
DTEND;TZID=Europe/Berlin:20260226T130000
DTSTAMP:20260425T202338
CREATED:20260425T073915Z
LAST-MODIFIED:20260425T073915Z
UID:10000447-1772107200-1772110800@bodyundmind.de
SUMMARY:Qi Gong - Meditations-\, Konzentrations- und Bewegungsform
DESCRIPTION:Kursbeginn: jeden Donnerstag ab 08.01.26 jeweils 09.00 Uhr bis 10.00 Uhr\, bis zum 17.12.2026 \nKursgebühr: 5 € \nAnmeldung: E-Mail an mgh.kvtw@brk.de \nQi Gong ist eine Meditations-\, Konzentrations- und Bewegungsform zur Kultivierung von Körper und Geist. Neben Akupunktur\, Pflanzenheilkunde\, Tuina und Diätetik ist Qi Gong ein wichtiger Teil der Traditionellen Chinesischen Medizin (TCM).\nEs soll die Lebensenergie stärken\, Körper\, Geist und Seele harmonisieren und zu einer gesunden geistigen Verfassung verhelfen. Die Übungen dienen der Anreicherung und Harmonisierung des Qi – der Lebenskraft – Margit Schuller-Langscheid leitet diese besondere Art\, Aufmerksamkeit\, Atmung und Bewegung harmonisch zu verbinden.
URL:https://bodyundmind.de/veranstaltung-seminar/qi-gong-meditations-konzentrations-und-bewegungsform/2026-02-26/
LOCATION:Pfarrsaal Vierkirchen\, Gröbmaierstr. 10\, Vierkirchen\, Landkreis Dachau\, 85256\, Germany
CATEGORIES:Qi Gong
ATTACH;FMTTYPE=image/jpeg:https://bodyundmind.de/wp-content/uploads/2026/04/full-shot-women-practising-tai-chi-together-scaled.jpg
GEO:48.3649991;11.4598466
X-APPLE-STRUCTURED-LOCATION;VALUE=URI;X-ADDRESS=Pfarrsaal Vierkirchen Gröbmaierstr. 10 Vierkirchen Landkreis Dachau 85256 Germany;X-APPLE-RADIUS=500;X-TITLE=Gröbmaierstr. 10:geo:11.4598466,48.3649991
END:VEVENT
BEGIN:VEVENT
DTSTART;TZID=Europe/Berlin:20260219T120000
DTEND;TZID=Europe/Berlin:20260219T130000
DTSTAMP:20260425T202338
CREATED:20260425T073915Z
LAST-MODIFIED:20260425T073915Z
UID:10000446-1771502400-1771506000@bodyundmind.de
SUMMARY:Qi Gong - Meditations-\, Konzentrations- und Bewegungsform
DESCRIPTION:Kursbeginn: jeden Donnerstag ab 08.01.26 jeweils 09.00 Uhr bis 10.00 Uhr\, bis zum 17.12.2026 \nKursgebühr: 5 € \nAnmeldung: E-Mail an mgh.kvtw@brk.de \nQi Gong ist eine Meditations-\, Konzentrations- und Bewegungsform zur Kultivierung von Körper und Geist. Neben Akupunktur\, Pflanzenheilkunde\, Tuina und Diätetik ist Qi Gong ein wichtiger Teil der Traditionellen Chinesischen Medizin (TCM).\nEs soll die Lebensenergie stärken\, Körper\, Geist und Seele harmonisieren und zu einer gesunden geistigen Verfassung verhelfen. Die Übungen dienen der Anreicherung und Harmonisierung des Qi – der Lebenskraft – Margit Schuller-Langscheid leitet diese besondere Art\, Aufmerksamkeit\, Atmung und Bewegung harmonisch zu verbinden.
URL:https://bodyundmind.de/veranstaltung-seminar/qi-gong-meditations-konzentrations-und-bewegungsform/2026-02-19/
LOCATION:Pfarrsaal Vierkirchen\, Gröbmaierstr. 10\, Vierkirchen\, Landkreis Dachau\, 85256\, Germany
CATEGORIES:Qi Gong
ATTACH;FMTTYPE=image/jpeg:https://bodyundmind.de/wp-content/uploads/2026/04/full-shot-women-practising-tai-chi-together-scaled.jpg
GEO:48.3649991;11.4598466
X-APPLE-STRUCTURED-LOCATION;VALUE=URI;X-ADDRESS=Pfarrsaal Vierkirchen Gröbmaierstr. 10 Vierkirchen Landkreis Dachau 85256 Germany;X-APPLE-RADIUS=500;X-TITLE=Gröbmaierstr. 10:geo:11.4598466,48.3649991
END:VEVENT
BEGIN:VEVENT
DTSTART;TZID=Europe/Berlin:20260212T120000
DTEND;TZID=Europe/Berlin:20260212T130000
DTSTAMP:20260425T202338
CREATED:20260425T073915Z
LAST-MODIFIED:20260425T073915Z
UID:10000445-1770897600-1770901200@bodyundmind.de
SUMMARY:Qi Gong - Meditations-\, Konzentrations- und Bewegungsform
DESCRIPTION:Kursbeginn: jeden Donnerstag ab 08.01.26 jeweils 09.00 Uhr bis 10.00 Uhr\, bis zum 17.12.2026 \nKursgebühr: 5 € \nAnmeldung: E-Mail an mgh.kvtw@brk.de \nQi Gong ist eine Meditations-\, Konzentrations- und Bewegungsform zur Kultivierung von Körper und Geist. Neben Akupunktur\, Pflanzenheilkunde\, Tuina und Diätetik ist Qi Gong ein wichtiger Teil der Traditionellen Chinesischen Medizin (TCM).\nEs soll die Lebensenergie stärken\, Körper\, Geist und Seele harmonisieren und zu einer gesunden geistigen Verfassung verhelfen. Die Übungen dienen der Anreicherung und Harmonisierung des Qi – der Lebenskraft – Margit Schuller-Langscheid leitet diese besondere Art\, Aufmerksamkeit\, Atmung und Bewegung harmonisch zu verbinden.
URL:https://bodyundmind.de/veranstaltung-seminar/qi-gong-meditations-konzentrations-und-bewegungsform/2026-02-12/
LOCATION:Pfarrsaal Vierkirchen\, Gröbmaierstr. 10\, Vierkirchen\, Landkreis Dachau\, 85256\, Germany
CATEGORIES:Qi Gong
ATTACH;FMTTYPE=image/jpeg:https://bodyundmind.de/wp-content/uploads/2026/04/full-shot-women-practising-tai-chi-together-scaled.jpg
GEO:48.3649991;11.4598466
X-APPLE-STRUCTURED-LOCATION;VALUE=URI;X-ADDRESS=Pfarrsaal Vierkirchen Gröbmaierstr. 10 Vierkirchen Landkreis Dachau 85256 Germany;X-APPLE-RADIUS=500;X-TITLE=Gröbmaierstr. 10:geo:11.4598466,48.3649991
END:VEVENT
BEGIN:VEVENT
DTSTART;TZID=Europe/Berlin:20260205T120000
DTEND;TZID=Europe/Berlin:20260205T130000
DTSTAMP:20260425T202338
CREATED:20260425T073915Z
LAST-MODIFIED:20260425T073915Z
UID:10000444-1770292800-1770296400@bodyundmind.de
SUMMARY:Qi Gong - Meditations-\, Konzentrations- und Bewegungsform
DESCRIPTION:Kursbeginn: jeden Donnerstag ab 08.01.26 jeweils 09.00 Uhr bis 10.00 Uhr\, bis zum 17.12.2026 \nKursgebühr: 5 € \nAnmeldung: E-Mail an mgh.kvtw@brk.de \nQi Gong ist eine Meditations-\, Konzentrations- und Bewegungsform zur Kultivierung von Körper und Geist. Neben Akupunktur\, Pflanzenheilkunde\, Tuina und Diätetik ist Qi Gong ein wichtiger Teil der Traditionellen Chinesischen Medizin (TCM).\nEs soll die Lebensenergie stärken\, Körper\, Geist und Seele harmonisieren und zu einer gesunden geistigen Verfassung verhelfen. Die Übungen dienen der Anreicherung und Harmonisierung des Qi – der Lebenskraft – Margit Schuller-Langscheid leitet diese besondere Art\, Aufmerksamkeit\, Atmung und Bewegung harmonisch zu verbinden.
URL:https://bodyundmind.de/veranstaltung-seminar/qi-gong-meditations-konzentrations-und-bewegungsform/2026-02-05/
LOCATION:Pfarrsaal Vierkirchen\, Gröbmaierstr. 10\, Vierkirchen\, Landkreis Dachau\, 85256\, Germany
CATEGORIES:Qi Gong
ATTACH;FMTTYPE=image/jpeg:https://bodyundmind.de/wp-content/uploads/2026/04/full-shot-women-practising-tai-chi-together-scaled.jpg
GEO:48.3649991;11.4598466
X-APPLE-STRUCTURED-LOCATION;VALUE=URI;X-ADDRESS=Pfarrsaal Vierkirchen Gröbmaierstr. 10 Vierkirchen Landkreis Dachau 85256 Germany;X-APPLE-RADIUS=500;X-TITLE=Gröbmaierstr. 10:geo:11.4598466,48.3649991
END:VEVENT
BEGIN:VEVENT
DTSTART;TZID=Europe/Berlin:20260129T120000
DTEND;TZID=Europe/Berlin:20260129T130000
DTSTAMP:20260425T202338
CREATED:20260425T073915Z
LAST-MODIFIED:20260425T073915Z
UID:10000443-1769688000-1769691600@bodyundmind.de
SUMMARY:Qi Gong - Meditations-\, Konzentrations- und Bewegungsform
DESCRIPTION:Kursbeginn: jeden Donnerstag ab 08.01.26 jeweils 09.00 Uhr bis 10.00 Uhr\, bis zum 17.12.2026 \nKursgebühr: 5 € \nAnmeldung: E-Mail an mgh.kvtw@brk.de \nQi Gong ist eine Meditations-\, Konzentrations- und Bewegungsform zur Kultivierung von Körper und Geist. Neben Akupunktur\, Pflanzenheilkunde\, Tuina und Diätetik ist Qi Gong ein wichtiger Teil der Traditionellen Chinesischen Medizin (TCM).\nEs soll die Lebensenergie stärken\, Körper\, Geist und Seele harmonisieren und zu einer gesunden geistigen Verfassung verhelfen. Die Übungen dienen der Anreicherung und Harmonisierung des Qi – der Lebenskraft – Margit Schuller-Langscheid leitet diese besondere Art\, Aufmerksamkeit\, Atmung und Bewegung harmonisch zu verbinden.
URL:https://bodyundmind.de/veranstaltung-seminar/qi-gong-meditations-konzentrations-und-bewegungsform/2026-01-29/
LOCATION:Pfarrsaal Vierkirchen\, Gröbmaierstr. 10\, Vierkirchen\, Landkreis Dachau\, 85256\, Germany
CATEGORIES:Qi Gong
ATTACH;FMTTYPE=image/jpeg:https://bodyundmind.de/wp-content/uploads/2026/04/full-shot-women-practising-tai-chi-together-scaled.jpg
GEO:48.3649991;11.4598466
X-APPLE-STRUCTURED-LOCATION;VALUE=URI;X-ADDRESS=Pfarrsaal Vierkirchen Gröbmaierstr. 10 Vierkirchen Landkreis Dachau 85256 Germany;X-APPLE-RADIUS=500;X-TITLE=Gröbmaierstr. 10:geo:11.4598466,48.3649991
END:VEVENT
BEGIN:VEVENT
DTSTART;TZID=Europe/Berlin:20260122T120000
DTEND;TZID=Europe/Berlin:20260122T130000
DTSTAMP:20260425T202338
CREATED:20260425T073915Z
LAST-MODIFIED:20260425T073915Z
UID:10000442-1769083200-1769086800@bodyundmind.de
SUMMARY:Qi Gong - Meditations-\, Konzentrations- und Bewegungsform
DESCRIPTION:Kursbeginn: jeden Donnerstag ab 08.01.26 jeweils 09.00 Uhr bis 10.00 Uhr\, bis zum 17.12.2026 \nKursgebühr: 5 € \nAnmeldung: E-Mail an mgh.kvtw@brk.de \nQi Gong ist eine Meditations-\, Konzentrations- und Bewegungsform zur Kultivierung von Körper und Geist. Neben Akupunktur\, Pflanzenheilkunde\, Tuina und Diätetik ist Qi Gong ein wichtiger Teil der Traditionellen Chinesischen Medizin (TCM).\nEs soll die Lebensenergie stärken\, Körper\, Geist und Seele harmonisieren und zu einer gesunden geistigen Verfassung verhelfen. Die Übungen dienen der Anreicherung und Harmonisierung des Qi – der Lebenskraft – Margit Schuller-Langscheid leitet diese besondere Art\, Aufmerksamkeit\, Atmung und Bewegung harmonisch zu verbinden.
URL:https://bodyundmind.de/veranstaltung-seminar/qi-gong-meditations-konzentrations-und-bewegungsform/2026-01-22/
LOCATION:Pfarrsaal Vierkirchen\, Gröbmaierstr. 10\, Vierkirchen\, Landkreis Dachau\, 85256\, Germany
CATEGORIES:Qi Gong
ATTACH;FMTTYPE=image/jpeg:https://bodyundmind.de/wp-content/uploads/2026/04/full-shot-women-practising-tai-chi-together-scaled.jpg
GEO:48.3649991;11.4598466
X-APPLE-STRUCTURED-LOCATION;VALUE=URI;X-ADDRESS=Pfarrsaal Vierkirchen Gröbmaierstr. 10 Vierkirchen Landkreis Dachau 85256 Germany;X-APPLE-RADIUS=500;X-TITLE=Gröbmaierstr. 10:geo:11.4598466,48.3649991
END:VEVENT
BEGIN:VEVENT
DTSTART;TZID=Europe/Berlin:20260115T120000
DTEND;TZID=Europe/Berlin:20260115T130000
DTSTAMP:20260425T202338
CREATED:20260425T073915Z
LAST-MODIFIED:20260425T073915Z
UID:10000441-1768478400-1768482000@bodyundmind.de
SUMMARY:Qi Gong - Meditations-\, Konzentrations- und Bewegungsform
DESCRIPTION:Kursbeginn: jeden Donnerstag ab 08.01.26 jeweils 09.00 Uhr bis 10.00 Uhr\, bis zum 17.12.2026 \nKursgebühr: 5 € \nAnmeldung: E-Mail an mgh.kvtw@brk.de \nQi Gong ist eine Meditations-\, Konzentrations- und Bewegungsform zur Kultivierung von Körper und Geist. Neben Akupunktur\, Pflanzenheilkunde\, Tuina und Diätetik ist Qi Gong ein wichtiger Teil der Traditionellen Chinesischen Medizin (TCM).\nEs soll die Lebensenergie stärken\, Körper\, Geist und Seele harmonisieren und zu einer gesunden geistigen Verfassung verhelfen. Die Übungen dienen der Anreicherung und Harmonisierung des Qi – der Lebenskraft – Margit Schuller-Langscheid leitet diese besondere Art\, Aufmerksamkeit\, Atmung und Bewegung harmonisch zu verbinden.
URL:https://bodyundmind.de/veranstaltung-seminar/qi-gong-meditations-konzentrations-und-bewegungsform/2026-01-15/
LOCATION:Pfarrsaal Vierkirchen\, Gröbmaierstr. 10\, Vierkirchen\, Landkreis Dachau\, 85256\, Germany
CATEGORIES:Qi Gong
ATTACH;FMTTYPE=image/jpeg:https://bodyundmind.de/wp-content/uploads/2026/04/full-shot-women-practising-tai-chi-together-scaled.jpg
GEO:48.3649991;11.4598466
X-APPLE-STRUCTURED-LOCATION;VALUE=URI;X-ADDRESS=Pfarrsaal Vierkirchen Gröbmaierstr. 10 Vierkirchen Landkreis Dachau 85256 Germany;X-APPLE-RADIUS=500;X-TITLE=Gröbmaierstr. 10:geo:11.4598466,48.3649991
END:VEVENT
BEGIN:VEVENT
DTSTART;TZID=Europe/Berlin:20260108T120000
DTEND;TZID=Europe/Berlin:20260108T130000
DTSTAMP:20260425T202338
CREATED:20260425T073915Z
LAST-MODIFIED:20260425T073915Z
UID:10000440-1767873600-1767877200@bodyundmind.de
SUMMARY:Qi Gong - Meditations-\, Konzentrations- und Bewegungsform
DESCRIPTION:Kursbeginn: jeden Donnerstag ab 08.01.26 jeweils 09.00 Uhr bis 10.00 Uhr\, bis zum 17.12.2026 \nKursgebühr: 5 € \nAnmeldung: E-Mail an mgh.kvtw@brk.de \nQi Gong ist eine Meditations-\, Konzentrations- und Bewegungsform zur Kultivierung von Körper und Geist. Neben Akupunktur\, Pflanzenheilkunde\, Tuina und Diätetik ist Qi Gong ein wichtiger Teil der Traditionellen Chinesischen Medizin (TCM).\nEs soll die Lebensenergie stärken\, Körper\, Geist und Seele harmonisieren und zu einer gesunden geistigen Verfassung verhelfen. Die Übungen dienen der Anreicherung und Harmonisierung des Qi – der Lebenskraft – Margit Schuller-Langscheid leitet diese besondere Art\, Aufmerksamkeit\, Atmung und Bewegung harmonisch zu verbinden.
URL:https://bodyundmind.de/veranstaltung-seminar/qi-gong-meditations-konzentrations-und-bewegungsform/2026-01-08/
LOCATION:Pfarrsaal Vierkirchen\, Gröbmaierstr. 10\, Vierkirchen\, Landkreis Dachau\, 85256\, Germany
CATEGORIES:Qi Gong
ATTACH;FMTTYPE=image/jpeg:https://bodyundmind.de/wp-content/uploads/2026/04/full-shot-women-practising-tai-chi-together-scaled.jpg
GEO:48.3649991;11.4598466
X-APPLE-STRUCTURED-LOCATION;VALUE=URI;X-ADDRESS=Pfarrsaal Vierkirchen Gröbmaierstr. 10 Vierkirchen Landkreis Dachau 85256 Germany;X-APPLE-RADIUS=500;X-TITLE=Gröbmaierstr. 10:geo:11.4598466,48.3649991
END:VEVENT
END:VCALENDAR