BEGIN:VCALENDAR
VERSION:2.0
PRODID:-//Body und Mind - ECPv6.15.16//NONSGML v1.0//EN
CALSCALE:GREGORIAN
METHOD:PUBLISH
X-WR-CALNAME:Body und Mind
X-ORIGINAL-URL:https://bodyundmind.de
X-WR-CALDESC:Veranstaltungen für Body und Mind
REFRESH-INTERVAL;VALUE=DURATION:PT1H
X-Robots-Tag:noindex
X-PUBLISHED-TTL:PT1H
BEGIN:VTIMEZONE
TZID:Europe/Berlin
BEGIN:DAYLIGHT
TZOFFSETFROM:+0100
TZOFFSETTO:+0200
TZNAME:CEST
DTSTART:20240331T010000
END:DAYLIGHT
BEGIN:STANDARD
TZOFFSETFROM:+0200
TZOFFSETTO:+0100
TZNAME:CET
DTSTART:20241027T010000
END:STANDARD
BEGIN:DAYLIGHT
TZOFFSETFROM:+0100
TZOFFSETTO:+0200
TZNAME:CEST
DTSTART:20250330T010000
END:DAYLIGHT
BEGIN:STANDARD
TZOFFSETFROM:+0200
TZOFFSETTO:+0100
TZNAME:CET
DTSTART:20251026T010000
END:STANDARD
BEGIN:DAYLIGHT
TZOFFSETFROM:+0100
TZOFFSETTO:+0200
TZNAME:CEST
DTSTART:20260329T010000
END:DAYLIGHT
BEGIN:STANDARD
TZOFFSETFROM:+0200
TZOFFSETTO:+0100
TZNAME:CET
DTSTART:20261025T010000
END:STANDARD
END:VTIMEZONE
BEGIN:VEVENT
DTSTART;TZID=Europe/Berlin:20251023T083000
DTEND;TZID=Europe/Berlin:20251023T143000
DTSTAMP:20260420T160827
CREATED:20250913T053059Z
LAST-MODIFIED:20251009T170517Z
UID:10000028-1761208200-1761229800@bodyundmind.de
SUMMARY:Heilpraktiker Crashkurs ab 23.10.2025
DESCRIPTION:Kursbeginn: ab 23.10.2025 (08:30-14:30 Uhr) \nKursgebühr: 360 € \nVeranstalter: Heilpraktiker Schule Rippel\, Tel.: +49(0) 1773935411\, E-Mail: info@heilpraktikerschule-rippel.de \nWeitere Informationen: Kurstage: 23.10.25 / 30.10.25/ 06.11.25 \nAnmeldung unter folgendem Link \nDie mündliche Prüfung rückt näher und du willst dich optimal vorbereiten? Unser Intensiv-Crashkurs ist speziell darauf ausgelegt\, dich gezielt auf den mündlichen Teil der amtsärztlichen Prüfung zum Heilpraktiker für Psychotherapie vorzubereiten. \nWas dich erwartet:\nPraxisnahes Training: Wir simulieren Prüfungssituationen\, damit du dich sicher fühlst und souverän auftrittst.\nFokus auf Fallbeispiele: Lerne\, wie du komplexe Fälle strukturierst\, Differentialdiagnosen stellst und deine Therapieansätze überzeugend präsentierst.\nSicherer Umgang mit Fragen: Wir üben den souveränen Umgang mit kritischen Fragen und unerwarteten Wendungen.\nRechtliche Sicherheit: Wiederhole die wichtigsten rechtlichen Grundlagen und Fallstricke\, um auch hier perfekt vorbereitet zu sein. \nSichere dir jetzt deinen Platz und gehe selbstbewusst in deine mündliche Prüfung!
URL:https://bodyundmind.de/veranstaltung-seminar/heilpraktiker-crashkurs-muendliche-pruefung-oktober-2025-ab-23-10-2025/
LOCATION:Heilpraktikerschule-Rippel Cordula & Heiko Rippel\, Hauptstraße 18\, Emmerting\, Landkreis Altötting\, 84547\, Germany
CATEGORIES:Ausbildung & Fortbildung
ATTACH;FMTTYPE=image/jpeg:https://bodyundmind.de/wp-content/uploads/2025/01/Heilpraktiker.jpg
GEO:48.1973413;12.7673765
X-APPLE-STRUCTURED-LOCATION;VALUE=URI;X-ADDRESS=Heilpraktikerschule-Rippel Cordula & Heiko Rippel Hauptstraße 18 Emmerting Landkreis Altötting 84547 Germany;X-APPLE-RADIUS=500;X-TITLE=Hauptstraße 18:geo:12.7673765,48.1973413
END:VEVENT
BEGIN:VEVENT
DTSTART;TZID=Europe/Berlin:20250922T090000
DTEND;TZID=Europe/Berlin:20250922T120000
DTSTAMP:20260420T160827
CREATED:20250912T052255Z
LAST-MODIFIED:20250912T052255Z
UID:10000027-1758531600-1758542400@bodyundmind.de
SUMMARY:Erste Hilfe am Kind und Säugling in Emmerting
DESCRIPTION:Kursbeginn: 22.09.2025 (09:00-12:00 Uhr) \nKursgebühr: 50 € \nVeranstalter: Heilpraktikerschule-Rippel in Emmerting \nAnmeldung:Online-Anmeldung \nWeitere Informationen: weiterer Kurs im September \nDieser Kindernotfallkurs richtet sich an alle werdenden Eltern und Großeltern! Der Kurs ist speziell auf die Besonderheiten im Kindesalter (Neugeborene & Kind) ausgerichtet. Inhalte sind u.a.: \n\nWiederbelebung & stabile Seitenlage\nVerschlucken von Fremdkörpern in Atemwegen\nFieberkrampf & Epilepsie\nGehirnerschütterung\nErtrinkungsunfall\nAllergische Reaktionen\nVergiftungen\nVerbrennungen\, Hitzschlag & Sonnenstich\n\n 
URL:https://bodyundmind.de/veranstaltung-seminar/erste-hilfe-am-kind-und-saeugling-in-emmerting-september/
LOCATION:Heilpraktikerschule-Rippel Cordula & Heiko Rippel\, Hauptstraße 18\, Emmerting\, Landkreis Altötting\, 84547\, Germany
CATEGORIES:Ausbildung & Fortbildung
ATTACH;FMTTYPE=image/webp:https://bodyundmind.de/wp-content/uploads/2025/07/Erste-Hilfe-Kurs-Kind-Saeugling.webp
ORGANIZER;CN="Cordula Rippel":MAILTO:info@heilpraktikerschule-rippel.de
GEO:48.1973413;12.7673765
X-APPLE-STRUCTURED-LOCATION;VALUE=URI;X-ADDRESS=Heilpraktikerschule-Rippel Cordula & Heiko Rippel Hauptstraße 18 Emmerting Landkreis Altötting 84547 Germany;X-APPLE-RADIUS=500;X-TITLE=Hauptstraße 18:geo:12.7673765,48.1973413
END:VEVENT
BEGIN:VEVENT
DTSTART;TZID=Europe/Berlin:20250726T083000
DTEND;TZID=Europe/Berlin:20250726T163000
DTSTAMP:20260420T160827
CREATED:20250723T040227Z
LAST-MODIFIED:20250723T170539Z
UID:10000024-1753518600-1753547400@bodyundmind.de
SUMMARY:Erste-Hilfe-Kurs Führerschein/ betriebliche Ersthelfer gemäß DGUV in Emmerting
DESCRIPTION:Kursbeginn: 26.07.2025 (08:30-16:30 Uhr) \nKursgebühr: 50 € (9 UE a 45 Minuten) \nVeranstalter: Heilpraktikerschule-Rippel in Emmerting \nAnmeldung:Online-Anmeldung \nWeitere Informationen: In Emmerting jeden letzten Samstag im Monat. \nUnsere Erste-Hilfe-Kurse bieten Ihnen das Wissen und die Fertigkeiten\, um in Notfallsituationen schnell und effektiv zu handeln. Anhand von praktischen Übungen erlernen Sie lebensrettende Maßnahmen von der Wundversorgung bis zur Herzlungen-Wiederbelebung. Online Erste Hilfe Kurse werden Online nicht anerkannt\, daher finden unsere Kurse alle in Präsenz statt. Als langjährige Erste Hilfe Ausbilder ermöglichen wir eine praxisnahe Vorbereitung für Notfälle. Mehr Informationen zum Kursablauf und den Inhalten haben wir für Sie bei unseren speziellen Kursangeboten aufgeführt. \n 
URL:https://bodyundmind.de/veranstaltung-seminar/erste-hilfe-kurs-fuehrerschein-betriebliche-ersthelfer-gemaess-dguv-in-emmerting/
LOCATION:Heilpraktikerschule-Rippel Cordula & Heiko Rippel\, Hauptstraße 18\, Emmerting\, Landkreis Altötting\, 84547\, Germany
CATEGORIES:Ausbildung & Fortbildung
ATTACH;FMTTYPE=image/webp:https://bodyundmind.de/wp-content/uploads/2025/07/Erste-Hilfe-Kurs-6.jpg.webp
ORGANIZER;CN="Cordula Rippel":MAILTO:info@heilpraktikerschule-rippel.de
GEO:48.1973413;12.7673765
X-APPLE-STRUCTURED-LOCATION;VALUE=URI;X-ADDRESS=Heilpraktikerschule-Rippel Cordula & Heiko Rippel Hauptstraße 18 Emmerting Landkreis Altötting 84547 Germany;X-APPLE-RADIUS=500;X-TITLE=Hauptstraße 18:geo:12.7673765,48.1973413
END:VEVENT
END:VCALENDAR