BEGIN:VCALENDAR
VERSION:2.0
PRODID:-//Body und Mind - ECPv6.15.16//NONSGML v1.0//EN
CALSCALE:GREGORIAN
METHOD:PUBLISH
X-ORIGINAL-URL:https://bodyundmind.de
X-WR-CALDESC:Veranstaltungen für Body und Mind
REFRESH-INTERVAL;VALUE=DURATION:PT1H
X-Robots-Tag:noindex
X-PUBLISHED-TTL:PT1H
BEGIN:VTIMEZONE
TZID:Europe/Berlin
BEGIN:DAYLIGHT
TZOFFSETFROM:+0100
TZOFFSETTO:+0200
TZNAME:CEST
DTSTART:20250330T010000
END:DAYLIGHT
BEGIN:STANDARD
TZOFFSETFROM:+0200
TZOFFSETTO:+0100
TZNAME:CET
DTSTART:20251026T010000
END:STANDARD
BEGIN:DAYLIGHT
TZOFFSETFROM:+0100
TZOFFSETTO:+0200
TZNAME:CEST
DTSTART:20260329T010000
END:DAYLIGHT
BEGIN:STANDARD
TZOFFSETFROM:+0200
TZOFFSETTO:+0100
TZNAME:CET
DTSTART:20261025T010000
END:STANDARD
BEGIN:DAYLIGHT
TZOFFSETFROM:+0100
TZOFFSETTO:+0200
TZNAME:CEST
DTSTART:20270328T010000
END:DAYLIGHT
BEGIN:STANDARD
TZOFFSETFROM:+0200
TZOFFSETTO:+0100
TZNAME:CET
DTSTART:20271031T010000
END:STANDARD
END:VTIMEZONE
BEGIN:VEVENT
DTSTART;TZID=Europe/Berlin:20261126T120000
DTEND;TZID=Europe/Berlin:20261126T130000
DTSTAMP:20260426T024026
CREATED:20260425T073955Z
LAST-MODIFIED:20260425T074118Z
UID:10000486-1795694400-1795698000@bodyundmind.de
SUMMARY:Qi Gong - Meditations-\, Konzentrations- und Bewegungsform (wöchentlich)
DESCRIPTION:Kursbeginn: jeden Donnerstag ab 08.01.26 jeweils 09.00 Uhr bis 10.00 Uhr\, bis zum 17.12.2026 \nKursgebühr: 5 € \nAnmeldung: E-Mail an mgh.kvtw@brk.de \nQi Gong ist eine Meditations-\, Konzentrations- und Bewegungsform zur Kultivierung von Körper und Geist. Neben Akupunktur\, Pflanzenheilkunde\, Tuina und Diätetik ist Qi Gong ein wichtiger Teil der Traditionellen Chinesischen Medizin (TCM).\nEs soll die Lebensenergie stärken\, Körper\, Geist und Seele harmonisieren und zu einer gesunden geistigen Verfassung verhelfen. Die Übungen dienen der Anreicherung und Harmonisierung des Qi – der Lebenskraft – Margit Schuller-Langscheid leitet diese besondere Art\, Aufmerksamkeit\, Atmung und Bewegung harmonisch zu verbinden.
URL:https://bodyundmind.de/veranstaltung-seminar/qi-gong-meditations-konzentrations-und-bewegungsform-2/2026-11-26/
LOCATION:BRK Mehrgenerationenhaus\, Klosterweg 2\, Bad Tölz\, Landkreis Bad Tölz-Wolfratshausen\, 83646\, Germany
CATEGORIES:Qi Gong
ATTACH;FMTTYPE=image/jpeg:https://bodyundmind.de/wp-content/uploads/2026/04/full-shot-women-practising-tai-chi-together-scaled.jpg
GEO:47.7596124;11.5547099
X-APPLE-STRUCTURED-LOCATION;VALUE=URI;X-ADDRESS=BRK Mehrgenerationenhaus Klosterweg 2 Bad Tölz Landkreis Bad Tölz-Wolfratshausen 83646 Germany;X-APPLE-RADIUS=500;X-TITLE=Klosterweg 2:geo:11.5547099,47.7596124
END:VEVENT
BEGIN:VEVENT
DTSTART;TZID=Europe/Berlin:20261203T120000
DTEND;TZID=Europe/Berlin:20261203T130000
DTSTAMP:20260426T024026
CREATED:20260425T073955Z
LAST-MODIFIED:20260425T074118Z
UID:10000487-1796299200-1796302800@bodyundmind.de
SUMMARY:Qi Gong - Meditations-\, Konzentrations- und Bewegungsform (wöchentlich)
DESCRIPTION:Kursbeginn: jeden Donnerstag ab 08.01.26 jeweils 09.00 Uhr bis 10.00 Uhr\, bis zum 17.12.2026 \nKursgebühr: 5 € \nAnmeldung: E-Mail an mgh.kvtw@brk.de \nQi Gong ist eine Meditations-\, Konzentrations- und Bewegungsform zur Kultivierung von Körper und Geist. Neben Akupunktur\, Pflanzenheilkunde\, Tuina und Diätetik ist Qi Gong ein wichtiger Teil der Traditionellen Chinesischen Medizin (TCM).\nEs soll die Lebensenergie stärken\, Körper\, Geist und Seele harmonisieren und zu einer gesunden geistigen Verfassung verhelfen. Die Übungen dienen der Anreicherung und Harmonisierung des Qi – der Lebenskraft – Margit Schuller-Langscheid leitet diese besondere Art\, Aufmerksamkeit\, Atmung und Bewegung harmonisch zu verbinden.
URL:https://bodyundmind.de/veranstaltung-seminar/qi-gong-meditations-konzentrations-und-bewegungsform-2/2026-12-03/
LOCATION:BRK Mehrgenerationenhaus\, Klosterweg 2\, Bad Tölz\, Landkreis Bad Tölz-Wolfratshausen\, 83646\, Germany
CATEGORIES:Qi Gong
ATTACH;FMTTYPE=image/jpeg:https://bodyundmind.de/wp-content/uploads/2026/04/full-shot-women-practising-tai-chi-together-scaled.jpg
GEO:47.7596124;11.5547099
X-APPLE-STRUCTURED-LOCATION;VALUE=URI;X-ADDRESS=BRK Mehrgenerationenhaus Klosterweg 2 Bad Tölz Landkreis Bad Tölz-Wolfratshausen 83646 Germany;X-APPLE-RADIUS=500;X-TITLE=Klosterweg 2:geo:11.5547099,47.7596124
END:VEVENT
BEGIN:VEVENT
DTSTART;TZID=Europe/Berlin:20261210T120000
DTEND;TZID=Europe/Berlin:20261210T130000
DTSTAMP:20260426T024026
CREATED:20260425T073955Z
LAST-MODIFIED:20260425T074118Z
UID:10000488-1796904000-1796907600@bodyundmind.de
SUMMARY:Qi Gong - Meditations-\, Konzentrations- und Bewegungsform (wöchentlich)
DESCRIPTION:Kursbeginn: jeden Donnerstag ab 08.01.26 jeweils 09.00 Uhr bis 10.00 Uhr\, bis zum 17.12.2026 \nKursgebühr: 5 € \nAnmeldung: E-Mail an mgh.kvtw@brk.de \nQi Gong ist eine Meditations-\, Konzentrations- und Bewegungsform zur Kultivierung von Körper und Geist. Neben Akupunktur\, Pflanzenheilkunde\, Tuina und Diätetik ist Qi Gong ein wichtiger Teil der Traditionellen Chinesischen Medizin (TCM).\nEs soll die Lebensenergie stärken\, Körper\, Geist und Seele harmonisieren und zu einer gesunden geistigen Verfassung verhelfen. Die Übungen dienen der Anreicherung und Harmonisierung des Qi – der Lebenskraft – Margit Schuller-Langscheid leitet diese besondere Art\, Aufmerksamkeit\, Atmung und Bewegung harmonisch zu verbinden.
URL:https://bodyundmind.de/veranstaltung-seminar/qi-gong-meditations-konzentrations-und-bewegungsform-2/2026-12-10/
LOCATION:BRK Mehrgenerationenhaus\, Klosterweg 2\, Bad Tölz\, Landkreis Bad Tölz-Wolfratshausen\, 83646\, Germany
CATEGORIES:Qi Gong
ATTACH;FMTTYPE=image/jpeg:https://bodyundmind.de/wp-content/uploads/2026/04/full-shot-women-practising-tai-chi-together-scaled.jpg
GEO:47.7596124;11.5547099
X-APPLE-STRUCTURED-LOCATION;VALUE=URI;X-ADDRESS=BRK Mehrgenerationenhaus Klosterweg 2 Bad Tölz Landkreis Bad Tölz-Wolfratshausen 83646 Germany;X-APPLE-RADIUS=500;X-TITLE=Klosterweg 2:geo:11.5547099,47.7596124
END:VEVENT
BEGIN:VEVENT
DTSTART;TZID=Europe/Berlin:20261217T120000
DTEND;TZID=Europe/Berlin:20261217T130000
DTSTAMP:20260426T024026
CREATED:20260425T073955Z
LAST-MODIFIED:20260425T074118Z
UID:10000489-1797508800-1797512400@bodyundmind.de
SUMMARY:Qi Gong - Meditations-\, Konzentrations- und Bewegungsform (wöchentlich)
DESCRIPTION:Kursbeginn: jeden Donnerstag ab 08.01.26 jeweils 09.00 Uhr bis 10.00 Uhr\, bis zum 17.12.2026 \nKursgebühr: 5 € \nAnmeldung: E-Mail an mgh.kvtw@brk.de \nQi Gong ist eine Meditations-\, Konzentrations- und Bewegungsform zur Kultivierung von Körper und Geist. Neben Akupunktur\, Pflanzenheilkunde\, Tuina und Diätetik ist Qi Gong ein wichtiger Teil der Traditionellen Chinesischen Medizin (TCM).\nEs soll die Lebensenergie stärken\, Körper\, Geist und Seele harmonisieren und zu einer gesunden geistigen Verfassung verhelfen. Die Übungen dienen der Anreicherung und Harmonisierung des Qi – der Lebenskraft – Margit Schuller-Langscheid leitet diese besondere Art\, Aufmerksamkeit\, Atmung und Bewegung harmonisch zu verbinden.
URL:https://bodyundmind.de/veranstaltung-seminar/qi-gong-meditations-konzentrations-und-bewegungsform-2/2026-12-17/
LOCATION:BRK Mehrgenerationenhaus\, Klosterweg 2\, Bad Tölz\, Landkreis Bad Tölz-Wolfratshausen\, 83646\, Germany
CATEGORIES:Qi Gong
ATTACH;FMTTYPE=image/jpeg:https://bodyundmind.de/wp-content/uploads/2026/04/full-shot-women-practising-tai-chi-together-scaled.jpg
GEO:47.7596124;11.5547099
X-APPLE-STRUCTURED-LOCATION;VALUE=URI;X-ADDRESS=BRK Mehrgenerationenhaus Klosterweg 2 Bad Tölz Landkreis Bad Tölz-Wolfratshausen 83646 Germany;X-APPLE-RADIUS=500;X-TITLE=Klosterweg 2:geo:11.5547099,47.7596124
END:VEVENT
END:VCALENDAR