BEGIN:VCALENDAR
VERSION:2.0
PRODID:-//Body und Mind - ECPv6.15.16//NONSGML v1.0//EN
CALSCALE:GREGORIAN
METHOD:PUBLISH
X-WR-CALNAME:Body und Mind
X-ORIGINAL-URL:https://bodyundmind.de
X-WR-CALDESC:Veranstaltungen für Body und Mind
REFRESH-INTERVAL;VALUE=DURATION:PT1H
X-Robots-Tag:noindex
X-PUBLISHED-TTL:PT1H
BEGIN:VTIMEZONE
TZID:Europe/Berlin
BEGIN:DAYLIGHT
TZOFFSETFROM:+0100
TZOFFSETTO:+0200
TZNAME:CEST
DTSTART:20240331T010000
END:DAYLIGHT
BEGIN:STANDARD
TZOFFSETFROM:+0200
TZOFFSETTO:+0100
TZNAME:CET
DTSTART:20241027T010000
END:STANDARD
BEGIN:DAYLIGHT
TZOFFSETFROM:+0100
TZOFFSETTO:+0200
TZNAME:CEST
DTSTART:20250330T010000
END:DAYLIGHT
BEGIN:STANDARD
TZOFFSETFROM:+0200
TZOFFSETTO:+0100
TZNAME:CET
DTSTART:20251026T010000
END:STANDARD
BEGIN:DAYLIGHT
TZOFFSETFROM:+0100
TZOFFSETTO:+0200
TZNAME:CEST
DTSTART:20260329T010000
END:DAYLIGHT
BEGIN:STANDARD
TZOFFSETFROM:+0200
TZOFFSETTO:+0100
TZNAME:CET
DTSTART:20261025T010000
END:STANDARD
END:VTIMEZONE
BEGIN:VEVENT
DTSTART;TZID=Europe/Berlin:20251116T090000
DTEND;TZID=Europe/Berlin:20251116T130000
DTSTAMP:20260422T074002
CREATED:20251019T204922Z
LAST-MODIFIED:20251019T204922Z
UID:10000032-1763283600-1763298000@bodyundmind.de
SUMMARY:Rise & shine Workshop - atmen\, bewegen\, genießen am 16.11.2025
DESCRIPTION:Kursbeginn: 16.11.2025 (09:00-13:00 Uhr) \nKursgebühr: 66 € \nVeranstalter: Monika Kreil-Brunauer (Yoga\, Cranio)\, Rita Perberschlager (Breathwork\, Cranio) \nWeitere Informationen: Anmeldung unter +436803061569 oder monika@herzhand.at \nSei mit deinem Körper präsent. \nDie Qualität der Jahreszeit lädt uns zum Rückzug und zur Innenschau ein. In der TCM ist diese Zeit dem Metall- bzw. Wasserelement zugeschrieben\, Ballast darf abgegeben werden und Energien in den Meridianen zum Fließen gebracht. Mit Atemübungen\, Akupressur und Yoga unterstützen wir diesen Prozess. \nBist du dabei? \nWir freuen uns auf deine Teilnahme.
URL:https://bodyundmind.de/veranstaltung-seminar/rise-shine-workshop-atmen-bewegen-geniessen-am-16-11-2025/
LOCATION:freiraum & studio 2\, Salzburger Straße 21\, Braunau\, Bezirk Braunau\, 5280\, Austria
CATEGORIES:Workshop,Yoga
ATTACH;FMTTYPE=image/jpeg:https://bodyundmind.de/wp-content/uploads/2025/09/woman-8563442_1280.jpg
GEO:48.2539725;13.0355017
X-APPLE-STRUCTURED-LOCATION;VALUE=URI;X-ADDRESS=freiraum & studio 2 Salzburger Straße 21 Braunau Bezirk Braunau 5280 Austria;X-APPLE-RADIUS=500;X-TITLE=Salzburger Straße 21:geo:13.0355017,48.2539725
END:VEVENT
END:VCALENDAR