BEGIN:VCALENDAR
VERSION:2.0
PRODID:-//Body und Mind - ECPv6.15.16//NONSGML v1.0//EN
CALSCALE:GREGORIAN
METHOD:PUBLISH
X-WR-CALNAME:Body und Mind
X-ORIGINAL-URL:https://bodyundmind.de
X-WR-CALDESC:Veranstaltungen für Body und Mind
REFRESH-INTERVAL;VALUE=DURATION:PT1H
X-Robots-Tag:noindex
X-PUBLISHED-TTL:PT1H
BEGIN:VTIMEZONE
TZID:Europe/Berlin
BEGIN:DAYLIGHT
TZOFFSETFROM:+0100
TZOFFSETTO:+0200
TZNAME:CEST
DTSTART:20270328T010000
END:DAYLIGHT
BEGIN:STANDARD
TZOFFSETFROM:+0200
TZOFFSETTO:+0100
TZNAME:CET
DTSTART:20271031T010000
END:STANDARD
BEGIN:DAYLIGHT
TZOFFSETFROM:+0100
TZOFFSETTO:+0200
TZNAME:CEST
DTSTART:20280326T010000
END:DAYLIGHT
BEGIN:STANDARD
TZOFFSETFROM:+0200
TZOFFSETTO:+0100
TZNAME:CET
DTSTART:20281029T010000
END:STANDARD
BEGIN:DAYLIGHT
TZOFFSETFROM:+0100
TZOFFSETTO:+0200
TZNAME:CEST
DTSTART:20290325T010000
END:DAYLIGHT
BEGIN:STANDARD
TZOFFSETFROM:+0200
TZOFFSETTO:+0100
TZNAME:CET
DTSTART:20291028T010000
END:STANDARD
BEGIN:DAYLIGHT
TZOFFSETFROM:+0100
TZOFFSETTO:+0200
TZNAME:CEST
DTSTART:20300331T010000
END:DAYLIGHT
BEGIN:STANDARD
TZOFFSETFROM:+0200
TZOFFSETTO:+0100
TZNAME:CET
DTSTART:20301027T010000
END:STANDARD
END:VTIMEZONE
BEGIN:VEVENT
DTSTART;TZID=Europe/Berlin:20280305T200000
DTEND;TZID=Europe/Berlin:20280305T203500
DTSTAMP:20260421T055008
CREATED:20260131T072652Z
LAST-MODIFIED:20260131T072652Z
UID:10000390-1835899200-1835901300@bodyundmind.de
SUMMARY:Online-Yoga-Kurs (jeden 1. Sonntag im Monat)
DESCRIPTION:Kursbeginn: jeden 1. Sonntag im Monat \nKursgebühr: auf Anfrage \nVeranstalter: Monika Kreil-Brunauer (Yoga\, Cranio) \nAnmeldung: Anmeldung unter monika@herzhand.at \nWeitere Informationen:  Der Einstieg ist jederzeit möglich. \nFinde Deine Balance! Unser Körper als wunderbares Zusammenspiel kann durch gezielte Yogaübungen in seiner Ausgeglichenheit unterstützt werden.
URL:https://bodyundmind.de/veranstaltung-seminar/online-yoga-kurs-jeden-1-sonntag-im-monat-2/2028-03-05/
CATEGORIES:Yoga
ATTACH;FMTTYPE=image/jpeg:https://bodyundmind.de/wp-content/uploads/2025/01/woman-2562216_1280.jpg
END:VEVENT
BEGIN:VEVENT
DTSTART;TZID=Europe/Berlin:20280402T080000
DTEND;TZID=Europe/Berlin:20280402T083500
DTSTAMP:20260421T055009
CREATED:20260131T071658Z
LAST-MODIFIED:20260131T071658Z
UID:10000271-1838275200-1838277300@bodyundmind.de
SUMMARY:Online-Yoga-Kurs (jeden 1. Sonntag im Monat)
DESCRIPTION:Kursbeginn: jeden 1. Sonntag im Monat \nKursgebühr: auf Anfrage \nVeranstalter: Monika Kreil-Brunauer (Yoga\, Cranio) \nAnmeldung: Anmeldung unter monika@herzhand.at \nWeitere Informationen:  Der Einstieg ist jederzeit möglich. \nFinde Deine Balance! Unser Körper als wunderbares Zusammenspiel kann durch gezielte Yogaübungen in seiner Ausgeglichenheit unterstützt werden.
URL:https://bodyundmind.de/veranstaltung-seminar/online-yoga-kurs-jeden-1-sonntag-im-monat/2028-04-02/
CATEGORIES:Yoga
ATTACH;FMTTYPE=image/jpeg:https://bodyundmind.de/wp-content/uploads/2025/01/woman-2562216_1280.jpg
END:VEVENT
BEGIN:VEVENT
DTSTART;TZID=Europe/Berlin:20280402T200000
DTEND;TZID=Europe/Berlin:20280402T203500
DTSTAMP:20260421T055009
CREATED:20260131T072652Z
LAST-MODIFIED:20260131T072652Z
UID:10000391-1838318400-1838320500@bodyundmind.de
SUMMARY:Online-Yoga-Kurs (jeden 1. Sonntag im Monat)
DESCRIPTION:Kursbeginn: jeden 1. Sonntag im Monat \nKursgebühr: auf Anfrage \nVeranstalter: Monika Kreil-Brunauer (Yoga\, Cranio) \nAnmeldung: Anmeldung unter monika@herzhand.at \nWeitere Informationen:  Der Einstieg ist jederzeit möglich. \nFinde Deine Balance! Unser Körper als wunderbares Zusammenspiel kann durch gezielte Yogaübungen in seiner Ausgeglichenheit unterstützt werden.
URL:https://bodyundmind.de/veranstaltung-seminar/online-yoga-kurs-jeden-1-sonntag-im-monat-2/2028-04-02/
CATEGORIES:Yoga
ATTACH;FMTTYPE=image/jpeg:https://bodyundmind.de/wp-content/uploads/2025/01/woman-2562216_1280.jpg
END:VEVENT
BEGIN:VEVENT
DTSTART;TZID=Europe/Berlin:20280507T080000
DTEND;TZID=Europe/Berlin:20280507T083500
DTSTAMP:20260421T055009
CREATED:20260131T071658Z
LAST-MODIFIED:20260131T071658Z
UID:10000272-1841299200-1841301300@bodyundmind.de
SUMMARY:Online-Yoga-Kurs (jeden 1. Sonntag im Monat)
DESCRIPTION:Kursbeginn: jeden 1. Sonntag im Monat \nKursgebühr: auf Anfrage \nVeranstalter: Monika Kreil-Brunauer (Yoga\, Cranio) \nAnmeldung: Anmeldung unter monika@herzhand.at \nWeitere Informationen:  Der Einstieg ist jederzeit möglich. \nFinde Deine Balance! Unser Körper als wunderbares Zusammenspiel kann durch gezielte Yogaübungen in seiner Ausgeglichenheit unterstützt werden.
URL:https://bodyundmind.de/veranstaltung-seminar/online-yoga-kurs-jeden-1-sonntag-im-monat/2028-05-07/
CATEGORIES:Yoga
ATTACH;FMTTYPE=image/jpeg:https://bodyundmind.de/wp-content/uploads/2025/01/woman-2562216_1280.jpg
END:VEVENT
BEGIN:VEVENT
DTSTART;TZID=Europe/Berlin:20280507T200000
DTEND;TZID=Europe/Berlin:20280507T203500
DTSTAMP:20260421T055009
CREATED:20260131T072652Z
LAST-MODIFIED:20260131T072652Z
UID:10000392-1841342400-1841344500@bodyundmind.de
SUMMARY:Online-Yoga-Kurs (jeden 1. Sonntag im Monat)
DESCRIPTION:Kursbeginn: jeden 1. Sonntag im Monat \nKursgebühr: auf Anfrage \nVeranstalter: Monika Kreil-Brunauer (Yoga\, Cranio) \nAnmeldung: Anmeldung unter monika@herzhand.at \nWeitere Informationen:  Der Einstieg ist jederzeit möglich. \nFinde Deine Balance! Unser Körper als wunderbares Zusammenspiel kann durch gezielte Yogaübungen in seiner Ausgeglichenheit unterstützt werden.
URL:https://bodyundmind.de/veranstaltung-seminar/online-yoga-kurs-jeden-1-sonntag-im-monat-2/2028-05-07/
CATEGORIES:Yoga
ATTACH;FMTTYPE=image/jpeg:https://bodyundmind.de/wp-content/uploads/2025/01/woman-2562216_1280.jpg
END:VEVENT
BEGIN:VEVENT
DTSTART;TZID=Europe/Berlin:20280604T080000
DTEND;TZID=Europe/Berlin:20280604T083500
DTSTAMP:20260421T055009
CREATED:20260131T071658Z
LAST-MODIFIED:20260131T071658Z
UID:10000273-1843718400-1843720500@bodyundmind.de
SUMMARY:Online-Yoga-Kurs (jeden 1. Sonntag im Monat)
DESCRIPTION:Kursbeginn: jeden 1. Sonntag im Monat \nKursgebühr: auf Anfrage \nVeranstalter: Monika Kreil-Brunauer (Yoga\, Cranio) \nAnmeldung: Anmeldung unter monika@herzhand.at \nWeitere Informationen:  Der Einstieg ist jederzeit möglich. \nFinde Deine Balance! Unser Körper als wunderbares Zusammenspiel kann durch gezielte Yogaübungen in seiner Ausgeglichenheit unterstützt werden.
URL:https://bodyundmind.de/veranstaltung-seminar/online-yoga-kurs-jeden-1-sonntag-im-monat/2028-06-04/
CATEGORIES:Yoga
ATTACH;FMTTYPE=image/jpeg:https://bodyundmind.de/wp-content/uploads/2025/01/woman-2562216_1280.jpg
END:VEVENT
BEGIN:VEVENT
DTSTART;TZID=Europe/Berlin:20280604T200000
DTEND;TZID=Europe/Berlin:20280604T203500
DTSTAMP:20260421T055009
CREATED:20260131T072652Z
LAST-MODIFIED:20260131T072652Z
UID:10000393-1843761600-1843763700@bodyundmind.de
SUMMARY:Online-Yoga-Kurs (jeden 1. Sonntag im Monat)
DESCRIPTION:Kursbeginn: jeden 1. Sonntag im Monat \nKursgebühr: auf Anfrage \nVeranstalter: Monika Kreil-Brunauer (Yoga\, Cranio) \nAnmeldung: Anmeldung unter monika@herzhand.at \nWeitere Informationen:  Der Einstieg ist jederzeit möglich. \nFinde Deine Balance! Unser Körper als wunderbares Zusammenspiel kann durch gezielte Yogaübungen in seiner Ausgeglichenheit unterstützt werden.
URL:https://bodyundmind.de/veranstaltung-seminar/online-yoga-kurs-jeden-1-sonntag-im-monat-2/2028-06-04/
CATEGORIES:Yoga
ATTACH;FMTTYPE=image/jpeg:https://bodyundmind.de/wp-content/uploads/2025/01/woman-2562216_1280.jpg
END:VEVENT
BEGIN:VEVENT
DTSTART;TZID=Europe/Berlin:20280702T080000
DTEND;TZID=Europe/Berlin:20280702T083500
DTSTAMP:20260421T055009
CREATED:20260131T071658Z
LAST-MODIFIED:20260131T071658Z
UID:10000274-1846137600-1846139700@bodyundmind.de
SUMMARY:Online-Yoga-Kurs (jeden 1. Sonntag im Monat)
DESCRIPTION:Kursbeginn: jeden 1. Sonntag im Monat \nKursgebühr: auf Anfrage \nVeranstalter: Monika Kreil-Brunauer (Yoga\, Cranio) \nAnmeldung: Anmeldung unter monika@herzhand.at \nWeitere Informationen:  Der Einstieg ist jederzeit möglich. \nFinde Deine Balance! Unser Körper als wunderbares Zusammenspiel kann durch gezielte Yogaübungen in seiner Ausgeglichenheit unterstützt werden.
URL:https://bodyundmind.de/veranstaltung-seminar/online-yoga-kurs-jeden-1-sonntag-im-monat/2028-07-02/
CATEGORIES:Yoga
ATTACH;FMTTYPE=image/jpeg:https://bodyundmind.de/wp-content/uploads/2025/01/woman-2562216_1280.jpg
END:VEVENT
BEGIN:VEVENT
DTSTART;TZID=Europe/Berlin:20280702T200000
DTEND;TZID=Europe/Berlin:20280702T203500
DTSTAMP:20260421T055009
CREATED:20260131T072652Z
LAST-MODIFIED:20260131T072652Z
UID:10000394-1846180800-1846182900@bodyundmind.de
SUMMARY:Online-Yoga-Kurs (jeden 1. Sonntag im Monat)
DESCRIPTION:Kursbeginn: jeden 1. Sonntag im Monat \nKursgebühr: auf Anfrage \nVeranstalter: Monika Kreil-Brunauer (Yoga\, Cranio) \nAnmeldung: Anmeldung unter monika@herzhand.at \nWeitere Informationen:  Der Einstieg ist jederzeit möglich. \nFinde Deine Balance! Unser Körper als wunderbares Zusammenspiel kann durch gezielte Yogaübungen in seiner Ausgeglichenheit unterstützt werden.
URL:https://bodyundmind.de/veranstaltung-seminar/online-yoga-kurs-jeden-1-sonntag-im-monat-2/2028-07-02/
CATEGORIES:Yoga
ATTACH;FMTTYPE=image/jpeg:https://bodyundmind.de/wp-content/uploads/2025/01/woman-2562216_1280.jpg
END:VEVENT
BEGIN:VEVENT
DTSTART;TZID=Europe/Berlin:20280806T080000
DTEND;TZID=Europe/Berlin:20280806T083500
DTSTAMP:20260421T055009
CREATED:20260131T071658Z
LAST-MODIFIED:20260131T071658Z
UID:10000275-1849161600-1849163700@bodyundmind.de
SUMMARY:Online-Yoga-Kurs (jeden 1. Sonntag im Monat)
DESCRIPTION:Kursbeginn: jeden 1. Sonntag im Monat \nKursgebühr: auf Anfrage \nVeranstalter: Monika Kreil-Brunauer (Yoga\, Cranio) \nAnmeldung: Anmeldung unter monika@herzhand.at \nWeitere Informationen:  Der Einstieg ist jederzeit möglich. \nFinde Deine Balance! Unser Körper als wunderbares Zusammenspiel kann durch gezielte Yogaübungen in seiner Ausgeglichenheit unterstützt werden.
URL:https://bodyundmind.de/veranstaltung-seminar/online-yoga-kurs-jeden-1-sonntag-im-monat/2028-08-06/
CATEGORIES:Yoga
ATTACH;FMTTYPE=image/jpeg:https://bodyundmind.de/wp-content/uploads/2025/01/woman-2562216_1280.jpg
END:VEVENT
BEGIN:VEVENT
DTSTART;TZID=Europe/Berlin:20280806T200000
DTEND;TZID=Europe/Berlin:20280806T203500
DTSTAMP:20260421T055009
CREATED:20260131T072652Z
LAST-MODIFIED:20260131T072652Z
UID:10000395-1849204800-1849206900@bodyundmind.de
SUMMARY:Online-Yoga-Kurs (jeden 1. Sonntag im Monat)
DESCRIPTION:Kursbeginn: jeden 1. Sonntag im Monat \nKursgebühr: auf Anfrage \nVeranstalter: Monika Kreil-Brunauer (Yoga\, Cranio) \nAnmeldung: Anmeldung unter monika@herzhand.at \nWeitere Informationen:  Der Einstieg ist jederzeit möglich. \nFinde Deine Balance! Unser Körper als wunderbares Zusammenspiel kann durch gezielte Yogaübungen in seiner Ausgeglichenheit unterstützt werden.
URL:https://bodyundmind.de/veranstaltung-seminar/online-yoga-kurs-jeden-1-sonntag-im-monat-2/2028-08-06/
CATEGORIES:Yoga
ATTACH;FMTTYPE=image/jpeg:https://bodyundmind.de/wp-content/uploads/2025/01/woman-2562216_1280.jpg
END:VEVENT
BEGIN:VEVENT
DTSTART;TZID=Europe/Berlin:20280903T080000
DTEND;TZID=Europe/Berlin:20280903T083500
DTSTAMP:20260421T055009
CREATED:20260131T071658Z
LAST-MODIFIED:20260131T071658Z
UID:10000276-1851580800-1851582900@bodyundmind.de
SUMMARY:Online-Yoga-Kurs (jeden 1. Sonntag im Monat)
DESCRIPTION:Kursbeginn: jeden 1. Sonntag im Monat \nKursgebühr: auf Anfrage \nVeranstalter: Monika Kreil-Brunauer (Yoga\, Cranio) \nAnmeldung: Anmeldung unter monika@herzhand.at \nWeitere Informationen:  Der Einstieg ist jederzeit möglich. \nFinde Deine Balance! Unser Körper als wunderbares Zusammenspiel kann durch gezielte Yogaübungen in seiner Ausgeglichenheit unterstützt werden.
URL:https://bodyundmind.de/veranstaltung-seminar/online-yoga-kurs-jeden-1-sonntag-im-monat/2028-09-03/
CATEGORIES:Yoga
ATTACH;FMTTYPE=image/jpeg:https://bodyundmind.de/wp-content/uploads/2025/01/woman-2562216_1280.jpg
END:VEVENT
BEGIN:VEVENT
DTSTART;TZID=Europe/Berlin:20280903T200000
DTEND;TZID=Europe/Berlin:20280903T203500
DTSTAMP:20260421T055009
CREATED:20260131T072652Z
LAST-MODIFIED:20260131T072652Z
UID:10000396-1851624000-1851626100@bodyundmind.de
SUMMARY:Online-Yoga-Kurs (jeden 1. Sonntag im Monat)
DESCRIPTION:Kursbeginn: jeden 1. Sonntag im Monat \nKursgebühr: auf Anfrage \nVeranstalter: Monika Kreil-Brunauer (Yoga\, Cranio) \nAnmeldung: Anmeldung unter monika@herzhand.at \nWeitere Informationen:  Der Einstieg ist jederzeit möglich. \nFinde Deine Balance! Unser Körper als wunderbares Zusammenspiel kann durch gezielte Yogaübungen in seiner Ausgeglichenheit unterstützt werden.
URL:https://bodyundmind.de/veranstaltung-seminar/online-yoga-kurs-jeden-1-sonntag-im-monat-2/2028-09-03/
CATEGORIES:Yoga
ATTACH;FMTTYPE=image/jpeg:https://bodyundmind.de/wp-content/uploads/2025/01/woman-2562216_1280.jpg
END:VEVENT
BEGIN:VEVENT
DTSTART;TZID=Europe/Berlin:20281001T080000
DTEND;TZID=Europe/Berlin:20281001T083500
DTSTAMP:20260421T055009
CREATED:20260131T071658Z
LAST-MODIFIED:20260131T071658Z
UID:10000277-1854000000-1854002100@bodyundmind.de
SUMMARY:Online-Yoga-Kurs (jeden 1. Sonntag im Monat)
DESCRIPTION:Kursbeginn: jeden 1. Sonntag im Monat \nKursgebühr: auf Anfrage \nVeranstalter: Monika Kreil-Brunauer (Yoga\, Cranio) \nAnmeldung: Anmeldung unter monika@herzhand.at \nWeitere Informationen:  Der Einstieg ist jederzeit möglich. \nFinde Deine Balance! Unser Körper als wunderbares Zusammenspiel kann durch gezielte Yogaübungen in seiner Ausgeglichenheit unterstützt werden.
URL:https://bodyundmind.de/veranstaltung-seminar/online-yoga-kurs-jeden-1-sonntag-im-monat/2028-10-01/
CATEGORIES:Yoga
ATTACH;FMTTYPE=image/jpeg:https://bodyundmind.de/wp-content/uploads/2025/01/woman-2562216_1280.jpg
END:VEVENT
BEGIN:VEVENT
DTSTART;TZID=Europe/Berlin:20281001T200000
DTEND;TZID=Europe/Berlin:20281001T203500
DTSTAMP:20260421T055009
CREATED:20260131T072652Z
LAST-MODIFIED:20260131T072652Z
UID:10000397-1854043200-1854045300@bodyundmind.de
SUMMARY:Online-Yoga-Kurs (jeden 1. Sonntag im Monat)
DESCRIPTION:Kursbeginn: jeden 1. Sonntag im Monat \nKursgebühr: auf Anfrage \nVeranstalter: Monika Kreil-Brunauer (Yoga\, Cranio) \nAnmeldung: Anmeldung unter monika@herzhand.at \nWeitere Informationen:  Der Einstieg ist jederzeit möglich. \nFinde Deine Balance! Unser Körper als wunderbares Zusammenspiel kann durch gezielte Yogaübungen in seiner Ausgeglichenheit unterstützt werden.
URL:https://bodyundmind.de/veranstaltung-seminar/online-yoga-kurs-jeden-1-sonntag-im-monat-2/2028-10-01/
CATEGORIES:Yoga
ATTACH;FMTTYPE=image/jpeg:https://bodyundmind.de/wp-content/uploads/2025/01/woman-2562216_1280.jpg
END:VEVENT
BEGIN:VEVENT
DTSTART;TZID=Europe/Berlin:20281105T080000
DTEND;TZID=Europe/Berlin:20281105T083500
DTSTAMP:20260421T055009
CREATED:20260131T071658Z
LAST-MODIFIED:20260131T071658Z
UID:10000278-1857024000-1857026100@bodyundmind.de
SUMMARY:Online-Yoga-Kurs (jeden 1. Sonntag im Monat)
DESCRIPTION:Kursbeginn: jeden 1. Sonntag im Monat \nKursgebühr: auf Anfrage \nVeranstalter: Monika Kreil-Brunauer (Yoga\, Cranio) \nAnmeldung: Anmeldung unter monika@herzhand.at \nWeitere Informationen:  Der Einstieg ist jederzeit möglich. \nFinde Deine Balance! Unser Körper als wunderbares Zusammenspiel kann durch gezielte Yogaübungen in seiner Ausgeglichenheit unterstützt werden.
URL:https://bodyundmind.de/veranstaltung-seminar/online-yoga-kurs-jeden-1-sonntag-im-monat/2028-11-05/
CATEGORIES:Yoga
ATTACH;FMTTYPE=image/jpeg:https://bodyundmind.de/wp-content/uploads/2025/01/woman-2562216_1280.jpg
END:VEVENT
BEGIN:VEVENT
DTSTART;TZID=Europe/Berlin:20281105T200000
DTEND;TZID=Europe/Berlin:20281105T203500
DTSTAMP:20260421T055009
CREATED:20260131T072652Z
LAST-MODIFIED:20260131T072652Z
UID:10000398-1857067200-1857069300@bodyundmind.de
SUMMARY:Online-Yoga-Kurs (jeden 1. Sonntag im Monat)
DESCRIPTION:Kursbeginn: jeden 1. Sonntag im Monat \nKursgebühr: auf Anfrage \nVeranstalter: Monika Kreil-Brunauer (Yoga\, Cranio) \nAnmeldung: Anmeldung unter monika@herzhand.at \nWeitere Informationen:  Der Einstieg ist jederzeit möglich. \nFinde Deine Balance! Unser Körper als wunderbares Zusammenspiel kann durch gezielte Yogaübungen in seiner Ausgeglichenheit unterstützt werden.
URL:https://bodyundmind.de/veranstaltung-seminar/online-yoga-kurs-jeden-1-sonntag-im-monat-2/2028-11-05/
CATEGORIES:Yoga
ATTACH;FMTTYPE=image/jpeg:https://bodyundmind.de/wp-content/uploads/2025/01/woman-2562216_1280.jpg
END:VEVENT
BEGIN:VEVENT
DTSTART;TZID=Europe/Berlin:20281203T080000
DTEND;TZID=Europe/Berlin:20281203T083500
DTSTAMP:20260421T055009
CREATED:20260131T071658Z
LAST-MODIFIED:20260131T071658Z
UID:10000279-1859443200-1859445300@bodyundmind.de
SUMMARY:Online-Yoga-Kurs (jeden 1. Sonntag im Monat)
DESCRIPTION:Kursbeginn: jeden 1. Sonntag im Monat \nKursgebühr: auf Anfrage \nVeranstalter: Monika Kreil-Brunauer (Yoga\, Cranio) \nAnmeldung: Anmeldung unter monika@herzhand.at \nWeitere Informationen:  Der Einstieg ist jederzeit möglich. \nFinde Deine Balance! Unser Körper als wunderbares Zusammenspiel kann durch gezielte Yogaübungen in seiner Ausgeglichenheit unterstützt werden.
URL:https://bodyundmind.de/veranstaltung-seminar/online-yoga-kurs-jeden-1-sonntag-im-monat/2028-12-03/
CATEGORIES:Yoga
ATTACH;FMTTYPE=image/jpeg:https://bodyundmind.de/wp-content/uploads/2025/01/woman-2562216_1280.jpg
END:VEVENT
BEGIN:VEVENT
DTSTART;TZID=Europe/Berlin:20281203T200000
DTEND;TZID=Europe/Berlin:20281203T203500
DTSTAMP:20260421T055009
CREATED:20260131T072652Z
LAST-MODIFIED:20260131T072652Z
UID:10000399-1859486400-1859488500@bodyundmind.de
SUMMARY:Online-Yoga-Kurs (jeden 1. Sonntag im Monat)
DESCRIPTION:Kursbeginn: jeden 1. Sonntag im Monat \nKursgebühr: auf Anfrage \nVeranstalter: Monika Kreil-Brunauer (Yoga\, Cranio) \nAnmeldung: Anmeldung unter monika@herzhand.at \nWeitere Informationen:  Der Einstieg ist jederzeit möglich. \nFinde Deine Balance! Unser Körper als wunderbares Zusammenspiel kann durch gezielte Yogaübungen in seiner Ausgeglichenheit unterstützt werden.
URL:https://bodyundmind.de/veranstaltung-seminar/online-yoga-kurs-jeden-1-sonntag-im-monat-2/2028-12-03/
CATEGORIES:Yoga
ATTACH;FMTTYPE=image/jpeg:https://bodyundmind.de/wp-content/uploads/2025/01/woman-2562216_1280.jpg
END:VEVENT
BEGIN:VEVENT
DTSTART;TZID=Europe/Berlin:20290107T080000
DTEND;TZID=Europe/Berlin:20290107T083500
DTSTAMP:20260421T055009
CREATED:20260131T071658Z
LAST-MODIFIED:20260131T071658Z
UID:10000280-1862467200-1862469300@bodyundmind.de
SUMMARY:Online-Yoga-Kurs (jeden 1. Sonntag im Monat)
DESCRIPTION:Kursbeginn: jeden 1. Sonntag im Monat \nKursgebühr: auf Anfrage \nVeranstalter: Monika Kreil-Brunauer (Yoga\, Cranio) \nAnmeldung: Anmeldung unter monika@herzhand.at \nWeitere Informationen:  Der Einstieg ist jederzeit möglich. \nFinde Deine Balance! Unser Körper als wunderbares Zusammenspiel kann durch gezielte Yogaübungen in seiner Ausgeglichenheit unterstützt werden.
URL:https://bodyundmind.de/veranstaltung-seminar/online-yoga-kurs-jeden-1-sonntag-im-monat/2029-01-07/
CATEGORIES:Yoga
ATTACH;FMTTYPE=image/jpeg:https://bodyundmind.de/wp-content/uploads/2025/01/woman-2562216_1280.jpg
END:VEVENT
BEGIN:VEVENT
DTSTART;TZID=Europe/Berlin:20290107T200000
DTEND;TZID=Europe/Berlin:20290107T203500
DTSTAMP:20260421T055009
CREATED:20260131T072652Z
LAST-MODIFIED:20260131T072652Z
UID:10000400-1862510400-1862512500@bodyundmind.de
SUMMARY:Online-Yoga-Kurs (jeden 1. Sonntag im Monat)
DESCRIPTION:Kursbeginn: jeden 1. Sonntag im Monat \nKursgebühr: auf Anfrage \nVeranstalter: Monika Kreil-Brunauer (Yoga\, Cranio) \nAnmeldung: Anmeldung unter monika@herzhand.at \nWeitere Informationen:  Der Einstieg ist jederzeit möglich. \nFinde Deine Balance! Unser Körper als wunderbares Zusammenspiel kann durch gezielte Yogaübungen in seiner Ausgeglichenheit unterstützt werden.
URL:https://bodyundmind.de/veranstaltung-seminar/online-yoga-kurs-jeden-1-sonntag-im-monat-2/2029-01-07/
CATEGORIES:Yoga
ATTACH;FMTTYPE=image/jpeg:https://bodyundmind.de/wp-content/uploads/2025/01/woman-2562216_1280.jpg
END:VEVENT
BEGIN:VEVENT
DTSTART;TZID=Europe/Berlin:20290204T080000
DTEND;TZID=Europe/Berlin:20290204T083500
DTSTAMP:20260421T055009
CREATED:20260131T071658Z
LAST-MODIFIED:20260131T071658Z
UID:10000281-1864886400-1864888500@bodyundmind.de
SUMMARY:Online-Yoga-Kurs (jeden 1. Sonntag im Monat)
DESCRIPTION:Kursbeginn: jeden 1. Sonntag im Monat \nKursgebühr: auf Anfrage \nVeranstalter: Monika Kreil-Brunauer (Yoga\, Cranio) \nAnmeldung: Anmeldung unter monika@herzhand.at \nWeitere Informationen:  Der Einstieg ist jederzeit möglich. \nFinde Deine Balance! Unser Körper als wunderbares Zusammenspiel kann durch gezielte Yogaübungen in seiner Ausgeglichenheit unterstützt werden.
URL:https://bodyundmind.de/veranstaltung-seminar/online-yoga-kurs-jeden-1-sonntag-im-monat/2029-02-04/
CATEGORIES:Yoga
ATTACH;FMTTYPE=image/jpeg:https://bodyundmind.de/wp-content/uploads/2025/01/woman-2562216_1280.jpg
END:VEVENT
BEGIN:VEVENT
DTSTART;TZID=Europe/Berlin:20290204T200000
DTEND;TZID=Europe/Berlin:20290204T203500
DTSTAMP:20260421T055009
CREATED:20260131T072652Z
LAST-MODIFIED:20260131T072652Z
UID:10000401-1864929600-1864931700@bodyundmind.de
SUMMARY:Online-Yoga-Kurs (jeden 1. Sonntag im Monat)
DESCRIPTION:Kursbeginn: jeden 1. Sonntag im Monat \nKursgebühr: auf Anfrage \nVeranstalter: Monika Kreil-Brunauer (Yoga\, Cranio) \nAnmeldung: Anmeldung unter monika@herzhand.at \nWeitere Informationen:  Der Einstieg ist jederzeit möglich. \nFinde Deine Balance! Unser Körper als wunderbares Zusammenspiel kann durch gezielte Yogaübungen in seiner Ausgeglichenheit unterstützt werden.
URL:https://bodyundmind.de/veranstaltung-seminar/online-yoga-kurs-jeden-1-sonntag-im-monat-2/2029-02-04/
CATEGORIES:Yoga
ATTACH;FMTTYPE=image/jpeg:https://bodyundmind.de/wp-content/uploads/2025/01/woman-2562216_1280.jpg
END:VEVENT
BEGIN:VEVENT
DTSTART;TZID=Europe/Berlin:20290304T080000
DTEND;TZID=Europe/Berlin:20290304T083500
DTSTAMP:20260421T055009
CREATED:20260131T071658Z
LAST-MODIFIED:20260131T071658Z
UID:10000282-1867305600-1867307700@bodyundmind.de
SUMMARY:Online-Yoga-Kurs (jeden 1. Sonntag im Monat)
DESCRIPTION:Kursbeginn: jeden 1. Sonntag im Monat \nKursgebühr: auf Anfrage \nVeranstalter: Monika Kreil-Brunauer (Yoga\, Cranio) \nAnmeldung: Anmeldung unter monika@herzhand.at \nWeitere Informationen:  Der Einstieg ist jederzeit möglich. \nFinde Deine Balance! Unser Körper als wunderbares Zusammenspiel kann durch gezielte Yogaübungen in seiner Ausgeglichenheit unterstützt werden.
URL:https://bodyundmind.de/veranstaltung-seminar/online-yoga-kurs-jeden-1-sonntag-im-monat/2029-03-04/
CATEGORIES:Yoga
ATTACH;FMTTYPE=image/jpeg:https://bodyundmind.de/wp-content/uploads/2025/01/woman-2562216_1280.jpg
END:VEVENT
BEGIN:VEVENT
DTSTART;TZID=Europe/Berlin:20290304T200000
DTEND;TZID=Europe/Berlin:20290304T203500
DTSTAMP:20260421T055009
CREATED:20260131T072652Z
LAST-MODIFIED:20260131T072652Z
UID:10000402-1867348800-1867350900@bodyundmind.de
SUMMARY:Online-Yoga-Kurs (jeden 1. Sonntag im Monat)
DESCRIPTION:Kursbeginn: jeden 1. Sonntag im Monat \nKursgebühr: auf Anfrage \nVeranstalter: Monika Kreil-Brunauer (Yoga\, Cranio) \nAnmeldung: Anmeldung unter monika@herzhand.at \nWeitere Informationen:  Der Einstieg ist jederzeit möglich. \nFinde Deine Balance! Unser Körper als wunderbares Zusammenspiel kann durch gezielte Yogaübungen in seiner Ausgeglichenheit unterstützt werden.
URL:https://bodyundmind.de/veranstaltung-seminar/online-yoga-kurs-jeden-1-sonntag-im-monat-2/2029-03-04/
CATEGORIES:Yoga
ATTACH;FMTTYPE=image/jpeg:https://bodyundmind.de/wp-content/uploads/2025/01/woman-2562216_1280.jpg
END:VEVENT
BEGIN:VEVENT
DTSTART;TZID=Europe/Berlin:20290401T080000
DTEND;TZID=Europe/Berlin:20290401T083500
DTSTAMP:20260421T055009
CREATED:20260131T071658Z
LAST-MODIFIED:20260131T071658Z
UID:10000283-1869724800-1869726900@bodyundmind.de
SUMMARY:Online-Yoga-Kurs (jeden 1. Sonntag im Monat)
DESCRIPTION:Kursbeginn: jeden 1. Sonntag im Monat \nKursgebühr: auf Anfrage \nVeranstalter: Monika Kreil-Brunauer (Yoga\, Cranio) \nAnmeldung: Anmeldung unter monika@herzhand.at \nWeitere Informationen:  Der Einstieg ist jederzeit möglich. \nFinde Deine Balance! Unser Körper als wunderbares Zusammenspiel kann durch gezielte Yogaübungen in seiner Ausgeglichenheit unterstützt werden.
URL:https://bodyundmind.de/veranstaltung-seminar/online-yoga-kurs-jeden-1-sonntag-im-monat/2029-04-01/
CATEGORIES:Yoga
ATTACH;FMTTYPE=image/jpeg:https://bodyundmind.de/wp-content/uploads/2025/01/woman-2562216_1280.jpg
END:VEVENT
BEGIN:VEVENT
DTSTART;TZID=Europe/Berlin:20290401T200000
DTEND;TZID=Europe/Berlin:20290401T203500
DTSTAMP:20260421T055009
CREATED:20260131T072652Z
LAST-MODIFIED:20260131T072652Z
UID:10000403-1869768000-1869770100@bodyundmind.de
SUMMARY:Online-Yoga-Kurs (jeden 1. Sonntag im Monat)
DESCRIPTION:Kursbeginn: jeden 1. Sonntag im Monat \nKursgebühr: auf Anfrage \nVeranstalter: Monika Kreil-Brunauer (Yoga\, Cranio) \nAnmeldung: Anmeldung unter monika@herzhand.at \nWeitere Informationen:  Der Einstieg ist jederzeit möglich. \nFinde Deine Balance! Unser Körper als wunderbares Zusammenspiel kann durch gezielte Yogaübungen in seiner Ausgeglichenheit unterstützt werden.
URL:https://bodyundmind.de/veranstaltung-seminar/online-yoga-kurs-jeden-1-sonntag-im-monat-2/2029-04-01/
CATEGORIES:Yoga
ATTACH;FMTTYPE=image/jpeg:https://bodyundmind.de/wp-content/uploads/2025/01/woman-2562216_1280.jpg
END:VEVENT
BEGIN:VEVENT
DTSTART;TZID=Europe/Berlin:20290506T080000
DTEND;TZID=Europe/Berlin:20290506T083500
DTSTAMP:20260421T055009
CREATED:20260131T071658Z
LAST-MODIFIED:20260131T071658Z
UID:10000284-1872748800-1872750900@bodyundmind.de
SUMMARY:Online-Yoga-Kurs (jeden 1. Sonntag im Monat)
DESCRIPTION:Kursbeginn: jeden 1. Sonntag im Monat \nKursgebühr: auf Anfrage \nVeranstalter: Monika Kreil-Brunauer (Yoga\, Cranio) \nAnmeldung: Anmeldung unter monika@herzhand.at \nWeitere Informationen:  Der Einstieg ist jederzeit möglich. \nFinde Deine Balance! Unser Körper als wunderbares Zusammenspiel kann durch gezielte Yogaübungen in seiner Ausgeglichenheit unterstützt werden.
URL:https://bodyundmind.de/veranstaltung-seminar/online-yoga-kurs-jeden-1-sonntag-im-monat/2029-05-06/
CATEGORIES:Yoga
ATTACH;FMTTYPE=image/jpeg:https://bodyundmind.de/wp-content/uploads/2025/01/woman-2562216_1280.jpg
END:VEVENT
BEGIN:VEVENT
DTSTART;TZID=Europe/Berlin:20290506T200000
DTEND;TZID=Europe/Berlin:20290506T203500
DTSTAMP:20260421T055009
CREATED:20260131T072652Z
LAST-MODIFIED:20260131T072652Z
UID:10000404-1872792000-1872794100@bodyundmind.de
SUMMARY:Online-Yoga-Kurs (jeden 1. Sonntag im Monat)
DESCRIPTION:Kursbeginn: jeden 1. Sonntag im Monat \nKursgebühr: auf Anfrage \nVeranstalter: Monika Kreil-Brunauer (Yoga\, Cranio) \nAnmeldung: Anmeldung unter monika@herzhand.at \nWeitere Informationen:  Der Einstieg ist jederzeit möglich. \nFinde Deine Balance! Unser Körper als wunderbares Zusammenspiel kann durch gezielte Yogaübungen in seiner Ausgeglichenheit unterstützt werden.
URL:https://bodyundmind.de/veranstaltung-seminar/online-yoga-kurs-jeden-1-sonntag-im-monat-2/2029-05-06/
CATEGORIES:Yoga
ATTACH;FMTTYPE=image/jpeg:https://bodyundmind.de/wp-content/uploads/2025/01/woman-2562216_1280.jpg
END:VEVENT
BEGIN:VEVENT
DTSTART;TZID=Europe/Berlin:20290603T080000
DTEND;TZID=Europe/Berlin:20290603T083500
DTSTAMP:20260421T055009
CREATED:20260131T071658Z
LAST-MODIFIED:20260131T071658Z
UID:10000285-1875168000-1875170100@bodyundmind.de
SUMMARY:Online-Yoga-Kurs (jeden 1. Sonntag im Monat)
DESCRIPTION:Kursbeginn: jeden 1. Sonntag im Monat \nKursgebühr: auf Anfrage \nVeranstalter: Monika Kreil-Brunauer (Yoga\, Cranio) \nAnmeldung: Anmeldung unter monika@herzhand.at \nWeitere Informationen:  Der Einstieg ist jederzeit möglich. \nFinde Deine Balance! Unser Körper als wunderbares Zusammenspiel kann durch gezielte Yogaübungen in seiner Ausgeglichenheit unterstützt werden.
URL:https://bodyundmind.de/veranstaltung-seminar/online-yoga-kurs-jeden-1-sonntag-im-monat/2029-06-03/
CATEGORIES:Yoga
ATTACH;FMTTYPE=image/jpeg:https://bodyundmind.de/wp-content/uploads/2025/01/woman-2562216_1280.jpg
END:VEVENT
END:VCALENDAR