BEGIN:VCALENDAR
VERSION:2.0
PRODID:-//Body und Mind - ECPv6.15.16//NONSGML v1.0//EN
CALSCALE:GREGORIAN
METHOD:PUBLISH
X-ORIGINAL-URL:https://bodyundmind.de
X-WR-CALDESC:Veranstaltungen für Body und Mind
REFRESH-INTERVAL;VALUE=DURATION:PT1H
X-Robots-Tag:noindex
X-PUBLISHED-TTL:PT1H
BEGIN:VTIMEZONE
TZID:Europe/Berlin
BEGIN:DAYLIGHT
TZOFFSETFROM:+0100
TZOFFSETTO:+0200
TZNAME:CEST
DTSTART:20250330T010000
END:DAYLIGHT
BEGIN:STANDARD
TZOFFSETFROM:+0200
TZOFFSETTO:+0100
TZNAME:CET
DTSTART:20251026T010000
END:STANDARD
BEGIN:DAYLIGHT
TZOFFSETFROM:+0100
TZOFFSETTO:+0200
TZNAME:CEST
DTSTART:20260329T010000
END:DAYLIGHT
BEGIN:STANDARD
TZOFFSETFROM:+0200
TZOFFSETTO:+0100
TZNAME:CET
DTSTART:20261025T010000
END:STANDARD
BEGIN:DAYLIGHT
TZOFFSETFROM:+0100
TZOFFSETTO:+0200
TZNAME:CEST
DTSTART:20270328T010000
END:DAYLIGHT
BEGIN:STANDARD
TZOFFSETFROM:+0200
TZOFFSETTO:+0100
TZNAME:CET
DTSTART:20271031T010000
END:STANDARD
END:VTIMEZONE
BEGIN:VEVENT
DTSTART;TZID=Europe/Berlin:20260301T200000
DTEND;TZID=Europe/Berlin:20260301T203500
DTSTAMP:20260420T202053
CREATED:20260131T072652Z
LAST-MODIFIED:20260131T072652Z
UID:10000366-1772395200-1772397300@bodyundmind.de
SUMMARY:Online-Yoga-Kurs (jeden 1. Sonntag im Monat)
DESCRIPTION:Kursbeginn: jeden 1. Sonntag im Monat \nKursgebühr: auf Anfrage \nVeranstalter: Monika Kreil-Brunauer (Yoga\, Cranio) \nAnmeldung: Anmeldung unter monika@herzhand.at \nWeitere Informationen:  Der Einstieg ist jederzeit möglich. \nFinde Deine Balance! Unser Körper als wunderbares Zusammenspiel kann durch gezielte Yogaübungen in seiner Ausgeglichenheit unterstützt werden.
URL:https://bodyundmind.de/veranstaltung-seminar/online-yoga-kurs-jeden-1-sonntag-im-monat-2/2026-03-01/
CATEGORIES:Yoga
ATTACH;FMTTYPE=image/jpeg:https://bodyundmind.de/wp-content/uploads/2025/01/woman-2562216_1280.jpg
END:VEVENT
BEGIN:VEVENT
DTSTART;TZID=Europe/Berlin:20260405T080000
DTEND;TZID=Europe/Berlin:20260405T083500
DTSTAMP:20260420T202053
CREATED:20260131T071658Z
LAST-MODIFIED:20260131T071658Z
UID:10000247-1775376000-1775378100@bodyundmind.de
SUMMARY:Online-Yoga-Kurs (jeden 1. Sonntag im Monat)
DESCRIPTION:Kursbeginn: jeden 1. Sonntag im Monat \nKursgebühr: auf Anfrage \nVeranstalter: Monika Kreil-Brunauer (Yoga\, Cranio) \nAnmeldung: Anmeldung unter monika@herzhand.at \nWeitere Informationen:  Der Einstieg ist jederzeit möglich. \nFinde Deine Balance! Unser Körper als wunderbares Zusammenspiel kann durch gezielte Yogaübungen in seiner Ausgeglichenheit unterstützt werden.
URL:https://bodyundmind.de/veranstaltung-seminar/online-yoga-kurs-jeden-1-sonntag-im-monat/2026-04-05/
CATEGORIES:Yoga
ATTACH;FMTTYPE=image/jpeg:https://bodyundmind.de/wp-content/uploads/2025/01/woman-2562216_1280.jpg
END:VEVENT
BEGIN:VEVENT
DTSTART;TZID=Europe/Berlin:20260405T200000
DTEND;TZID=Europe/Berlin:20260405T203500
DTSTAMP:20260420T202053
CREATED:20260131T072652Z
LAST-MODIFIED:20260131T072652Z
UID:10000367-1775419200-1775421300@bodyundmind.de
SUMMARY:Online-Yoga-Kurs (jeden 1. Sonntag im Monat)
DESCRIPTION:Kursbeginn: jeden 1. Sonntag im Monat \nKursgebühr: auf Anfrage \nVeranstalter: Monika Kreil-Brunauer (Yoga\, Cranio) \nAnmeldung: Anmeldung unter monika@herzhand.at \nWeitere Informationen:  Der Einstieg ist jederzeit möglich. \nFinde Deine Balance! Unser Körper als wunderbares Zusammenspiel kann durch gezielte Yogaübungen in seiner Ausgeglichenheit unterstützt werden.
URL:https://bodyundmind.de/veranstaltung-seminar/online-yoga-kurs-jeden-1-sonntag-im-monat-2/2026-04-05/
CATEGORIES:Yoga
ATTACH;FMTTYPE=image/jpeg:https://bodyundmind.de/wp-content/uploads/2025/01/woman-2562216_1280.jpg
END:VEVENT
END:VCALENDAR