BEGIN:VCALENDAR
VERSION:2.0
PRODID:-//Body und Mind - ECPv6.15.16//NONSGML v1.0//EN
CALSCALE:GREGORIAN
METHOD:PUBLISH
X-WR-CALNAME:Body und Mind
X-ORIGINAL-URL:https://bodyundmind.de
X-WR-CALDESC:Veranstaltungen für Body und Mind
REFRESH-INTERVAL;VALUE=DURATION:PT1H
X-Robots-Tag:noindex
X-PUBLISHED-TTL:PT1H
BEGIN:VTIMEZONE
TZID:Europe/Berlin
BEGIN:DAYLIGHT
TZOFFSETFROM:+0100
TZOFFSETTO:+0200
TZNAME:CEST
DTSTART:20240331T010000
END:DAYLIGHT
BEGIN:STANDARD
TZOFFSETFROM:+0200
TZOFFSETTO:+0100
TZNAME:CET
DTSTART:20241027T010000
END:STANDARD
BEGIN:DAYLIGHT
TZOFFSETFROM:+0100
TZOFFSETTO:+0200
TZNAME:CEST
DTSTART:20250330T010000
END:DAYLIGHT
BEGIN:STANDARD
TZOFFSETFROM:+0200
TZOFFSETTO:+0100
TZNAME:CET
DTSTART:20251026T010000
END:STANDARD
BEGIN:DAYLIGHT
TZOFFSETFROM:+0100
TZOFFSETTO:+0200
TZNAME:CEST
DTSTART:20260329T010000
END:DAYLIGHT
BEGIN:STANDARD
TZOFFSETFROM:+0200
TZOFFSETTO:+0100
TZNAME:CET
DTSTART:20261025T010000
END:STANDARD
BEGIN:DAYLIGHT
TZOFFSETFROM:+0100
TZOFFSETTO:+0200
TZNAME:CEST
DTSTART:20270328T010000
END:DAYLIGHT
BEGIN:STANDARD
TZOFFSETFROM:+0200
TZOFFSETTO:+0100
TZNAME:CET
DTSTART:20271031T010000
END:STANDARD
END:VTIMEZONE
BEGIN:VEVENT
DTSTART;TZID=Europe/Berlin:20251108T090000
DTEND;TZID=Europe/Berlin:20251108T120000
DTSTAMP:20260420T190544
CREATED:20251120T195803Z
LAST-MODIFIED:20260130T131708Z
UID:10000149-1762592400-1762603200@bodyundmind.de
SUMMARY:Yoga für Beckenboden und Hormone 08.11.2025 / 22.11.2025
DESCRIPTION:Kursbeginn: 08.11.2025 und 22.11.2025 \nKursgebühr: 70 € (2 Termine)\, 40 € (ein Termin)\, \nVeranstalter: Monika Kreil-Brunauer (Yoga\, Cranio) \nAnmeldung: Anmeldung unter +43(0)680 2450920 oder ekiz.uttendorf@gmx.at \nWeitere Informationen:  Beide Workshops sind einzeln buchbar \nFinde Deine Balance! Unser Körper als wunderbares Zusammenspiel kann durch gezielte Yogaübungen in seiner Ausgeglichenheit unterstützt werden. \n1. Samstag: Der Beckenboden als Basis unserer inneren und äußeren Aufrichtung – so kann sich unsere innere Balance auch im Außen widerspiegeln. \n2. Samstag: Mit Elementen aus dem Hormonyoga kann das körperliche Wohlbefinden positiv beeinflusst werden.
URL:https://bodyundmind.de/veranstaltung-seminar/yoga-fuer-beckenboden-und-hormone-2/
LOCATION:Eltern-Kind-Zentrum Uttendorf “Kids & Co.”\, Sportplatzstraße 1a\, Helpfau-Uttendorf\, Öberösterrreich\, 5261\, Austria
CATEGORIES:Workshop,Yoga
ATTACH;FMTTYPE=image/jpeg:https://bodyundmind.de/wp-content/uploads/2025/01/woman-2562216_1280.jpg
GEO:48.1642192;13.1176619
X-APPLE-STRUCTURED-LOCATION;VALUE=URI;X-ADDRESS=Eltern-Kind-Zentrum Uttendorf “Kids & Co.” Sportplatzstraße 1a Helpfau-Uttendorf Öberösterrreich 5261 Austria;X-APPLE-RADIUS=500;X-TITLE=Sportplatzstraße 1a:geo:13.1176619,48.1642192
END:VEVENT
BEGIN:VEVENT
DTSTART;TZID=Europe/Berlin:20251108T090000
DTEND;TZID=Europe/Berlin:20251108T120000
DTSTAMP:20260420T190544
CREATED:20251025T073901Z
LAST-MODIFIED:20260130T131826Z
UID:10000033-1762592400-1762603200@bodyundmind.de
SUMMARY:Yoga für Beckenboden und Hormone 08.11.2025 / 22.11.2025
DESCRIPTION:Kursbeginn: 08.11.2025 und 22.11.2025 \nKursgebühr: 70 € (2 Termine)\, 40 € (ein Termin)\, \nVeranstalter: Monika Kreil-Brunauer (Yoga\, Cranio) \nAnmeldung: Anmeldung unter +43(0)680 2450920 oder ekiz.uttendorf@gmx.at \nWeitere Informationen:  Beide Workshops sind einzeln buchbar \nFinde Deine Balance! Unser Körper als wunderbares Zusammenspiel kann durch gezielte Yogaübungen in seiner Ausgeglichenheit unterstützt werden. \n1. Samstag: Der Beckenboden als Basis unserer inneren und äußeren Aufrichtung – so kann sich unsere innere Balance auch im Außen widerspiegeln. \n2. Samstag: Mit Elementen aus dem Hormonyoga kann das körperliche Wohlbefinden positiv beeinflusst werden.
URL:https://bodyundmind.de/veranstaltung-seminar/yoga-fuer-beckenboden-und-hormone/
LOCATION:Eltern-Kind-Zentrum Uttendorf “Kids & Co.”\, Sportplatzstraße 1a\, Helpfau-Uttendorf\, Öberösterrreich\, 5261\, Austria
CATEGORIES:Workshop,Yoga
ATTACH;FMTTYPE=image/jpeg:https://bodyundmind.de/wp-content/uploads/2025/01/woman-2562216_1280.jpg
GEO:48.1642192;13.1176619
X-APPLE-STRUCTURED-LOCATION;VALUE=URI;X-ADDRESS=Eltern-Kind-Zentrum Uttendorf “Kids & Co.” Sportplatzstraße 1a Helpfau-Uttendorf Öberösterrreich 5261 Austria;X-APPLE-RADIUS=500;X-TITLE=Sportplatzstraße 1a:geo:13.1176619,48.1642192
END:VEVENT
BEGIN:VEVENT
DTSTART;TZID=Europe/Berlin:20260201T080000
DTEND;TZID=Europe/Berlin:20260201T083500
DTSTAMP:20260420T190544
CREATED:20260131T071658Z
LAST-MODIFIED:20260131T071658Z
UID:10000245-1769932800-1769934900@bodyundmind.de
SUMMARY:Online-Yoga-Kurs (jeden 1. Sonntag im Monat)
DESCRIPTION:Kursbeginn: jeden 1. Sonntag im Monat \nKursgebühr: auf Anfrage \nVeranstalter: Monika Kreil-Brunauer (Yoga\, Cranio) \nAnmeldung: Anmeldung unter monika@herzhand.at \nWeitere Informationen:  Der Einstieg ist jederzeit möglich. \nFinde Deine Balance! Unser Körper als wunderbares Zusammenspiel kann durch gezielte Yogaübungen in seiner Ausgeglichenheit unterstützt werden.
URL:https://bodyundmind.de/veranstaltung-seminar/online-yoga-kurs-jeden-1-sonntag-im-monat/2026-02-01/
CATEGORIES:Yoga
ATTACH;FMTTYPE=image/jpeg:https://bodyundmind.de/wp-content/uploads/2025/01/woman-2562216_1280.jpg
END:VEVENT
BEGIN:VEVENT
DTSTART;TZID=Europe/Berlin:20260201T200000
DTEND;TZID=Europe/Berlin:20260201T203500
DTSTAMP:20260420T190544
CREATED:20260131T072652Z
LAST-MODIFIED:20260131T072652Z
UID:10000365-1769976000-1769978100@bodyundmind.de
SUMMARY:Online-Yoga-Kurs (jeden 1. Sonntag im Monat)
DESCRIPTION:Kursbeginn: jeden 1. Sonntag im Monat \nKursgebühr: auf Anfrage \nVeranstalter: Monika Kreil-Brunauer (Yoga\, Cranio) \nAnmeldung: Anmeldung unter monika@herzhand.at \nWeitere Informationen:  Der Einstieg ist jederzeit möglich. \nFinde Deine Balance! Unser Körper als wunderbares Zusammenspiel kann durch gezielte Yogaübungen in seiner Ausgeglichenheit unterstützt werden.
URL:https://bodyundmind.de/veranstaltung-seminar/online-yoga-kurs-jeden-1-sonntag-im-monat-2/2026-02-01/
CATEGORIES:Yoga
ATTACH;FMTTYPE=image/jpeg:https://bodyundmind.de/wp-content/uploads/2025/01/woman-2562216_1280.jpg
END:VEVENT
BEGIN:VEVENT
DTSTART;TZID=Europe/Berlin:20260301T080000
DTEND;TZID=Europe/Berlin:20260301T083500
DTSTAMP:20260420T190544
CREATED:20260131T071658Z
LAST-MODIFIED:20260131T071658Z
UID:10000246-1772352000-1772354100@bodyundmind.de
SUMMARY:Online-Yoga-Kurs (jeden 1. Sonntag im Monat)
DESCRIPTION:Kursbeginn: jeden 1. Sonntag im Monat \nKursgebühr: auf Anfrage \nVeranstalter: Monika Kreil-Brunauer (Yoga\, Cranio) \nAnmeldung: Anmeldung unter monika@herzhand.at \nWeitere Informationen:  Der Einstieg ist jederzeit möglich. \nFinde Deine Balance! Unser Körper als wunderbares Zusammenspiel kann durch gezielte Yogaübungen in seiner Ausgeglichenheit unterstützt werden.
URL:https://bodyundmind.de/veranstaltung-seminar/online-yoga-kurs-jeden-1-sonntag-im-monat/2026-03-01/
CATEGORIES:Yoga
ATTACH;FMTTYPE=image/jpeg:https://bodyundmind.de/wp-content/uploads/2025/01/woman-2562216_1280.jpg
END:VEVENT
BEGIN:VEVENT
DTSTART;TZID=Europe/Berlin:20260301T200000
DTEND;TZID=Europe/Berlin:20260301T203500
DTSTAMP:20260420T190544
CREATED:20260131T072652Z
LAST-MODIFIED:20260131T072652Z
UID:10000366-1772395200-1772397300@bodyundmind.de
SUMMARY:Online-Yoga-Kurs (jeden 1. Sonntag im Monat)
DESCRIPTION:Kursbeginn: jeden 1. Sonntag im Monat \nKursgebühr: auf Anfrage \nVeranstalter: Monika Kreil-Brunauer (Yoga\, Cranio) \nAnmeldung: Anmeldung unter monika@herzhand.at \nWeitere Informationen:  Der Einstieg ist jederzeit möglich. \nFinde Deine Balance! Unser Körper als wunderbares Zusammenspiel kann durch gezielte Yogaübungen in seiner Ausgeglichenheit unterstützt werden.
URL:https://bodyundmind.de/veranstaltung-seminar/online-yoga-kurs-jeden-1-sonntag-im-monat-2/2026-03-01/
CATEGORIES:Yoga
ATTACH;FMTTYPE=image/jpeg:https://bodyundmind.de/wp-content/uploads/2025/01/woman-2562216_1280.jpg
END:VEVENT
BEGIN:VEVENT
DTSTART;TZID=Europe/Berlin:20260405T080000
DTEND;TZID=Europe/Berlin:20260405T083500
DTSTAMP:20260420T190544
CREATED:20260131T071658Z
LAST-MODIFIED:20260131T071658Z
UID:10000247-1775376000-1775378100@bodyundmind.de
SUMMARY:Online-Yoga-Kurs (jeden 1. Sonntag im Monat)
DESCRIPTION:Kursbeginn: jeden 1. Sonntag im Monat \nKursgebühr: auf Anfrage \nVeranstalter: Monika Kreil-Brunauer (Yoga\, Cranio) \nAnmeldung: Anmeldung unter monika@herzhand.at \nWeitere Informationen:  Der Einstieg ist jederzeit möglich. \nFinde Deine Balance! Unser Körper als wunderbares Zusammenspiel kann durch gezielte Yogaübungen in seiner Ausgeglichenheit unterstützt werden.
URL:https://bodyundmind.de/veranstaltung-seminar/online-yoga-kurs-jeden-1-sonntag-im-monat/2026-04-05/
CATEGORIES:Yoga
ATTACH;FMTTYPE=image/jpeg:https://bodyundmind.de/wp-content/uploads/2025/01/woman-2562216_1280.jpg
END:VEVENT
BEGIN:VEVENT
DTSTART;TZID=Europe/Berlin:20260405T200000
DTEND;TZID=Europe/Berlin:20260405T203500
DTSTAMP:20260420T190544
CREATED:20260131T072652Z
LAST-MODIFIED:20260131T072652Z
UID:10000367-1775419200-1775421300@bodyundmind.de
SUMMARY:Online-Yoga-Kurs (jeden 1. Sonntag im Monat)
DESCRIPTION:Kursbeginn: jeden 1. Sonntag im Monat \nKursgebühr: auf Anfrage \nVeranstalter: Monika Kreil-Brunauer (Yoga\, Cranio) \nAnmeldung: Anmeldung unter monika@herzhand.at \nWeitere Informationen:  Der Einstieg ist jederzeit möglich. \nFinde Deine Balance! Unser Körper als wunderbares Zusammenspiel kann durch gezielte Yogaübungen in seiner Ausgeglichenheit unterstützt werden.
URL:https://bodyundmind.de/veranstaltung-seminar/online-yoga-kurs-jeden-1-sonntag-im-monat-2/2026-04-05/
CATEGORIES:Yoga
ATTACH;FMTTYPE=image/jpeg:https://bodyundmind.de/wp-content/uploads/2025/01/woman-2562216_1280.jpg
END:VEVENT
END:VCALENDAR