BEGIN:VCALENDAR
VERSION:2.0
PRODID:-//Body und Mind - ECPv6.15.16//NONSGML v1.0//EN
CALSCALE:GREGORIAN
METHOD:PUBLISH
X-ORIGINAL-URL:https://bodyundmind.de
X-WR-CALDESC:Veranstaltungen für Body und Mind
REFRESH-INTERVAL;VALUE=DURATION:PT1H
X-Robots-Tag:noindex
X-PUBLISHED-TTL:PT1H
BEGIN:VTIMEZONE
TZID:Europe/Berlin
BEGIN:DAYLIGHT
TZOFFSETFROM:+0100
TZOFFSETTO:+0200
TZNAME:CEST
DTSTART:20240331T010000
END:DAYLIGHT
BEGIN:STANDARD
TZOFFSETFROM:+0200
TZOFFSETTO:+0100
TZNAME:CET
DTSTART:20241027T010000
END:STANDARD
BEGIN:DAYLIGHT
TZOFFSETFROM:+0100
TZOFFSETTO:+0200
TZNAME:CEST
DTSTART:20250330T010000
END:DAYLIGHT
BEGIN:STANDARD
TZOFFSETFROM:+0200
TZOFFSETTO:+0100
TZNAME:CET
DTSTART:20251026T010000
END:STANDARD
BEGIN:DAYLIGHT
TZOFFSETFROM:+0100
TZOFFSETTO:+0200
TZNAME:CEST
DTSTART:20260329T010000
END:DAYLIGHT
BEGIN:STANDARD
TZOFFSETFROM:+0200
TZOFFSETTO:+0100
TZNAME:CET
DTSTART:20261025T010000
END:STANDARD
BEGIN:DAYLIGHT
TZOFFSETFROM:+0100
TZOFFSETTO:+0200
TZNAME:CEST
DTSTART:20270328T010000
END:DAYLIGHT
BEGIN:STANDARD
TZOFFSETFROM:+0200
TZOFFSETTO:+0100
TZNAME:CET
DTSTART:20271031T010000
END:STANDARD
END:VTIMEZONE
BEGIN:VEVENT
DTSTART;TZID=Europe/Berlin:20250921T090000
DTEND;TZID=Europe/Berlin:20250921T130000
DTSTAMP:20260420T233415
CREATED:20250918T201551Z
LAST-MODIFIED:20250918T201551Z
UID:10000030-1758445200-1758459600@bodyundmind.de
SUMMARY:Rise & shine Workshop - atmen\, bewegen\, genießen am 21.09.2025
DESCRIPTION:Kursbeginn: 21.09.2025 (09:00-13:00 Uhr) \nKursgebühr: 66 € \nVeranstalter: Monika Kreil-Brunauer (Yoga\, Cranio)\, Rita Perberschlager (Breathwork\, Cranio) \nWeitere Informationen: Anmeldung unter +436803061569 oder monika@herzhand.at \nSei mit deinem Körper präsent. \nHerbst Tag- und Nachtgleiche steht für Innehalten und Balance finden. In der TCM steht ist das Erdelement dem Milz- und Magenmeridian zugeschrieben\, wir ehren die Fülle in uns und laden die geerdete Leichtigkeit ein. Mit Atemübungen\, Akupressur und Yoga unterstützen wir diesen Prozess. \nWir freuen uns auf deine Teilnahme.
URL:https://bodyundmind.de/veranstaltung-seminar/rise-shine-workshop-atmen-bewegen-geniessen-am-21-09-2025/
LOCATION:freiraum & studio 2\, Salzburger Straße 21\, Braunau\, Bezirk Braunau\, 5280\, Austria
CATEGORIES:Workshop,Yoga
ATTACH;FMTTYPE=image/jpeg:https://bodyundmind.de/wp-content/uploads/2025/09/woman-8563442_1280.jpg
GEO:48.2539725;13.0355017
X-APPLE-STRUCTURED-LOCATION;VALUE=URI;X-ADDRESS=freiraum & studio 2 Salzburger Straße 21 Braunau Bezirk Braunau 5280 Austria;X-APPLE-RADIUS=500;X-TITLE=Salzburger Straße 21:geo:13.0355017,48.2539725
END:VEVENT
BEGIN:VEVENT
DTSTART;TZID=Europe/Berlin:20251116T090000
DTEND;TZID=Europe/Berlin:20251116T130000
DTSTAMP:20260420T233415
CREATED:20251019T204922Z
LAST-MODIFIED:20251019T204922Z
UID:10000032-1763283600-1763298000@bodyundmind.de
SUMMARY:Rise & shine Workshop - atmen\, bewegen\, genießen am 16.11.2025
DESCRIPTION:Kursbeginn: 16.11.2025 (09:00-13:00 Uhr) \nKursgebühr: 66 € \nVeranstalter: Monika Kreil-Brunauer (Yoga\, Cranio)\, Rita Perberschlager (Breathwork\, Cranio) \nWeitere Informationen: Anmeldung unter +436803061569 oder monika@herzhand.at \nSei mit deinem Körper präsent. \nDie Qualität der Jahreszeit lädt uns zum Rückzug und zur Innenschau ein. In der TCM ist diese Zeit dem Metall- bzw. Wasserelement zugeschrieben\, Ballast darf abgegeben werden und Energien in den Meridianen zum Fließen gebracht. Mit Atemübungen\, Akupressur und Yoga unterstützen wir diesen Prozess. \nBist du dabei? \nWir freuen uns auf deine Teilnahme.
URL:https://bodyundmind.de/veranstaltung-seminar/rise-shine-workshop-atmen-bewegen-geniessen-am-16-11-2025/
LOCATION:freiraum & studio 2\, Salzburger Straße 21\, Braunau\, Bezirk Braunau\, 5280\, Austria
CATEGORIES:Workshop,Yoga
ATTACH;FMTTYPE=image/jpeg:https://bodyundmind.de/wp-content/uploads/2025/09/woman-8563442_1280.jpg
GEO:48.2539725;13.0355017
X-APPLE-STRUCTURED-LOCATION;VALUE=URI;X-ADDRESS=freiraum & studio 2 Salzburger Straße 21 Braunau Bezirk Braunau 5280 Austria;X-APPLE-RADIUS=500;X-TITLE=Salzburger Straße 21:geo:13.0355017,48.2539725
END:VEVENT
BEGIN:VEVENT
DTSTART;TZID=Europe/Berlin:20260320T183000
DTEND;TZID=Europe/Berlin:20260320T193000
DTSTAMP:20260420T233415
CREATED:20260201T073445Z
LAST-MODIFIED:20260206T133451Z
UID:10000428-1774031400-1774035000@bodyundmind.de
SUMMARY:OSTARA / Frühlingstagundnachtgleiche / Das Fest des Gleichgewichts und der Balance am 20.03.2026
DESCRIPTION:Kursbeginn: 20.03.2026 \nKursgebühr: 8 Euro \nVeranstaltungsort: 84375 Kirchdorf am Inn\, nähere Informationen auf Anfrage \nVeranstalter: Ulrike Eichinger (Cranio\, Astrologie) \nAnmeldung: Anmeldung und nähere Infos unter +49 157 79624899 oder ulrike.eichinger@gmail.com \nWas bisher im Dunkeln keimte\, beginnt sich mit zarten Trieben zu zeigen und das lebendige Erwachen der Erde wird sichtbar. \nJetzt ist die perfekte Zeit\, neue Samen zu säen – sowohl in der Erde als auch in deinem Leben. \nSo wie die Natur\, kehren auch wir Menschen aus dem stillen Rückzug der dunklen Jahreszeit zurück.\nEs ist Zeit für Aufbruch – lasst uns gemeinsam Aufbrechen!
URL:https://bodyundmind.de/veranstaltung-seminar/ostara-fruehlingstagundnachtgleiche-das-fest-des-gleichgewichts-und-der-balance-am-20-03-2026/
CATEGORIES:Astrologie
ATTACH;FMTTYPE=image/jpeg:https://bodyundmind.de/wp-content/uploads/2026/02/tree-164915_1280.jpg
END:VEVENT
END:VCALENDAR