BEGIN:VCALENDAR
VERSION:2.0
PRODID:-//Body und Mind - ECPv6.15.16//NONSGML v1.0//EN
CALSCALE:GREGORIAN
METHOD:PUBLISH
X-WR-CALNAME:Body und Mind
X-ORIGINAL-URL:https://bodyundmind.de
X-WR-CALDESC:Veranstaltungen für Body und Mind
REFRESH-INTERVAL;VALUE=DURATION:PT1H
X-Robots-Tag:noindex
X-PUBLISHED-TTL:PT1H
BEGIN:VTIMEZONE
TZID:Europe/Berlin
BEGIN:DAYLIGHT
TZOFFSETFROM:+0100
TZOFFSETTO:+0200
TZNAME:CEST
DTSTART:20260329T010000
END:DAYLIGHT
BEGIN:STANDARD
TZOFFSETFROM:+0200
TZOFFSETTO:+0100
TZNAME:CET
DTSTART:20261025T010000
END:STANDARD
BEGIN:DAYLIGHT
TZOFFSETFROM:+0100
TZOFFSETTO:+0200
TZNAME:CEST
DTSTART:20270328T010000
END:DAYLIGHT
BEGIN:STANDARD
TZOFFSETFROM:+0200
TZOFFSETTO:+0100
TZNAME:CET
DTSTART:20271031T010000
END:STANDARD
BEGIN:DAYLIGHT
TZOFFSETFROM:+0100
TZOFFSETTO:+0200
TZNAME:CEST
DTSTART:20280326T010000
END:DAYLIGHT
BEGIN:STANDARD
TZOFFSETFROM:+0200
TZOFFSETTO:+0100
TZNAME:CET
DTSTART:20281029T010000
END:STANDARD
BEGIN:DAYLIGHT
TZOFFSETFROM:+0100
TZOFFSETTO:+0200
TZNAME:CEST
DTSTART:20290325T010000
END:DAYLIGHT
BEGIN:STANDARD
TZOFFSETFROM:+0200
TZOFFSETTO:+0100
TZNAME:CET
DTSTART:20291028T010000
END:STANDARD
END:VTIMEZONE
BEGIN:VEVENT
DTSTART;TZID=Europe/Berlin:20270307T080000
DTEND;TZID=Europe/Berlin:20270307T083500
DTSTAMP:20260420T233354
CREATED:20260131T071658Z
LAST-MODIFIED:20260131T071658Z
UID:10000258-1804406400-1804408500@bodyundmind.de
SUMMARY:Online-Yoga-Kurs (jeden 1. Sonntag im Monat)
DESCRIPTION:Kursbeginn: jeden 1. Sonntag im Monat \nKursgebühr: auf Anfrage \nVeranstalter: Monika Kreil-Brunauer (Yoga\, Cranio) \nAnmeldung: Anmeldung unter monika@herzhand.at \nWeitere Informationen:  Der Einstieg ist jederzeit möglich. \nFinde Deine Balance! Unser Körper als wunderbares Zusammenspiel kann durch gezielte Yogaübungen in seiner Ausgeglichenheit unterstützt werden.
URL:https://bodyundmind.de/veranstaltung-seminar/online-yoga-kurs-jeden-1-sonntag-im-monat/2027-03-07/
CATEGORIES:Yoga
ATTACH;FMTTYPE=image/jpeg:https://bodyundmind.de/wp-content/uploads/2025/01/woman-2562216_1280.jpg
END:VEVENT
BEGIN:VEVENT
DTSTART;TZID=Europe/Berlin:20270307T200000
DTEND;TZID=Europe/Berlin:20270307T203500
DTSTAMP:20260420T233354
CREATED:20260131T072652Z
LAST-MODIFIED:20260131T072652Z
UID:10000378-1804449600-1804451700@bodyundmind.de
SUMMARY:Online-Yoga-Kurs (jeden 1. Sonntag im Monat)
DESCRIPTION:Kursbeginn: jeden 1. Sonntag im Monat \nKursgebühr: auf Anfrage \nVeranstalter: Monika Kreil-Brunauer (Yoga\, Cranio) \nAnmeldung: Anmeldung unter monika@herzhand.at \nWeitere Informationen:  Der Einstieg ist jederzeit möglich. \nFinde Deine Balance! Unser Körper als wunderbares Zusammenspiel kann durch gezielte Yogaübungen in seiner Ausgeglichenheit unterstützt werden.
URL:https://bodyundmind.de/veranstaltung-seminar/online-yoga-kurs-jeden-1-sonntag-im-monat-2/2027-03-07/
CATEGORIES:Yoga
ATTACH;FMTTYPE=image/jpeg:https://bodyundmind.de/wp-content/uploads/2025/01/woman-2562216_1280.jpg
END:VEVENT
BEGIN:VEVENT
DTSTART;TZID=Europe/Berlin:20270404T080000
DTEND;TZID=Europe/Berlin:20270404T083500
DTSTAMP:20260420T233354
CREATED:20260131T071658Z
LAST-MODIFIED:20260131T071658Z
UID:10000259-1806825600-1806827700@bodyundmind.de
SUMMARY:Online-Yoga-Kurs (jeden 1. Sonntag im Monat)
DESCRIPTION:Kursbeginn: jeden 1. Sonntag im Monat \nKursgebühr: auf Anfrage \nVeranstalter: Monika Kreil-Brunauer (Yoga\, Cranio) \nAnmeldung: Anmeldung unter monika@herzhand.at \nWeitere Informationen:  Der Einstieg ist jederzeit möglich. \nFinde Deine Balance! Unser Körper als wunderbares Zusammenspiel kann durch gezielte Yogaübungen in seiner Ausgeglichenheit unterstützt werden.
URL:https://bodyundmind.de/veranstaltung-seminar/online-yoga-kurs-jeden-1-sonntag-im-monat/2027-04-04/
CATEGORIES:Yoga
ATTACH;FMTTYPE=image/jpeg:https://bodyundmind.de/wp-content/uploads/2025/01/woman-2562216_1280.jpg
END:VEVENT
BEGIN:VEVENT
DTSTART;TZID=Europe/Berlin:20270404T200000
DTEND;TZID=Europe/Berlin:20270404T203500
DTSTAMP:20260420T233354
CREATED:20260131T072652Z
LAST-MODIFIED:20260131T072652Z
UID:10000379-1806868800-1806870900@bodyundmind.de
SUMMARY:Online-Yoga-Kurs (jeden 1. Sonntag im Monat)
DESCRIPTION:Kursbeginn: jeden 1. Sonntag im Monat \nKursgebühr: auf Anfrage \nVeranstalter: Monika Kreil-Brunauer (Yoga\, Cranio) \nAnmeldung: Anmeldung unter monika@herzhand.at \nWeitere Informationen:  Der Einstieg ist jederzeit möglich. \nFinde Deine Balance! Unser Körper als wunderbares Zusammenspiel kann durch gezielte Yogaübungen in seiner Ausgeglichenheit unterstützt werden.
URL:https://bodyundmind.de/veranstaltung-seminar/online-yoga-kurs-jeden-1-sonntag-im-monat-2/2027-04-04/
CATEGORIES:Yoga
ATTACH;FMTTYPE=image/jpeg:https://bodyundmind.de/wp-content/uploads/2025/01/woman-2562216_1280.jpg
END:VEVENT
BEGIN:VEVENT
DTSTART;TZID=Europe/Berlin:20270502T080000
DTEND;TZID=Europe/Berlin:20270502T083500
DTSTAMP:20260420T233354
CREATED:20260131T071658Z
LAST-MODIFIED:20260131T071658Z
UID:10000260-1809244800-1809246900@bodyundmind.de
SUMMARY:Online-Yoga-Kurs (jeden 1. Sonntag im Monat)
DESCRIPTION:Kursbeginn: jeden 1. Sonntag im Monat \nKursgebühr: auf Anfrage \nVeranstalter: Monika Kreil-Brunauer (Yoga\, Cranio) \nAnmeldung: Anmeldung unter monika@herzhand.at \nWeitere Informationen:  Der Einstieg ist jederzeit möglich. \nFinde Deine Balance! Unser Körper als wunderbares Zusammenspiel kann durch gezielte Yogaübungen in seiner Ausgeglichenheit unterstützt werden.
URL:https://bodyundmind.de/veranstaltung-seminar/online-yoga-kurs-jeden-1-sonntag-im-monat/2027-05-02/
CATEGORIES:Yoga
ATTACH;FMTTYPE=image/jpeg:https://bodyundmind.de/wp-content/uploads/2025/01/woman-2562216_1280.jpg
END:VEVENT
BEGIN:VEVENT
DTSTART;TZID=Europe/Berlin:20270502T200000
DTEND;TZID=Europe/Berlin:20270502T203500
DTSTAMP:20260420T233354
CREATED:20260131T072652Z
LAST-MODIFIED:20260131T072652Z
UID:10000380-1809288000-1809290100@bodyundmind.de
SUMMARY:Online-Yoga-Kurs (jeden 1. Sonntag im Monat)
DESCRIPTION:Kursbeginn: jeden 1. Sonntag im Monat \nKursgebühr: auf Anfrage \nVeranstalter: Monika Kreil-Brunauer (Yoga\, Cranio) \nAnmeldung: Anmeldung unter monika@herzhand.at \nWeitere Informationen:  Der Einstieg ist jederzeit möglich. \nFinde Deine Balance! Unser Körper als wunderbares Zusammenspiel kann durch gezielte Yogaübungen in seiner Ausgeglichenheit unterstützt werden.
URL:https://bodyundmind.de/veranstaltung-seminar/online-yoga-kurs-jeden-1-sonntag-im-monat-2/2027-05-02/
CATEGORIES:Yoga
ATTACH;FMTTYPE=image/jpeg:https://bodyundmind.de/wp-content/uploads/2025/01/woman-2562216_1280.jpg
END:VEVENT
BEGIN:VEVENT
DTSTART;TZID=Europe/Berlin:20270606T080000
DTEND;TZID=Europe/Berlin:20270606T083500
DTSTAMP:20260420T233354
CREATED:20260131T071658Z
LAST-MODIFIED:20260131T071658Z
UID:10000261-1812268800-1812270900@bodyundmind.de
SUMMARY:Online-Yoga-Kurs (jeden 1. Sonntag im Monat)
DESCRIPTION:Kursbeginn: jeden 1. Sonntag im Monat \nKursgebühr: auf Anfrage \nVeranstalter: Monika Kreil-Brunauer (Yoga\, Cranio) \nAnmeldung: Anmeldung unter monika@herzhand.at \nWeitere Informationen:  Der Einstieg ist jederzeit möglich. \nFinde Deine Balance! Unser Körper als wunderbares Zusammenspiel kann durch gezielte Yogaübungen in seiner Ausgeglichenheit unterstützt werden.
URL:https://bodyundmind.de/veranstaltung-seminar/online-yoga-kurs-jeden-1-sonntag-im-monat/2027-06-06/
CATEGORIES:Yoga
ATTACH;FMTTYPE=image/jpeg:https://bodyundmind.de/wp-content/uploads/2025/01/woman-2562216_1280.jpg
END:VEVENT
BEGIN:VEVENT
DTSTART;TZID=Europe/Berlin:20270606T200000
DTEND;TZID=Europe/Berlin:20270606T203500
DTSTAMP:20260420T233354
CREATED:20260131T072652Z
LAST-MODIFIED:20260131T072652Z
UID:10000381-1812312000-1812314100@bodyundmind.de
SUMMARY:Online-Yoga-Kurs (jeden 1. Sonntag im Monat)
DESCRIPTION:Kursbeginn: jeden 1. Sonntag im Monat \nKursgebühr: auf Anfrage \nVeranstalter: Monika Kreil-Brunauer (Yoga\, Cranio) \nAnmeldung: Anmeldung unter monika@herzhand.at \nWeitere Informationen:  Der Einstieg ist jederzeit möglich. \nFinde Deine Balance! Unser Körper als wunderbares Zusammenspiel kann durch gezielte Yogaübungen in seiner Ausgeglichenheit unterstützt werden.
URL:https://bodyundmind.de/veranstaltung-seminar/online-yoga-kurs-jeden-1-sonntag-im-monat-2/2027-06-06/
CATEGORIES:Yoga
ATTACH;FMTTYPE=image/jpeg:https://bodyundmind.de/wp-content/uploads/2025/01/woman-2562216_1280.jpg
END:VEVENT
BEGIN:VEVENT
DTSTART;TZID=Europe/Berlin:20270704T080000
DTEND;TZID=Europe/Berlin:20270704T083500
DTSTAMP:20260420T233354
CREATED:20260131T071658Z
LAST-MODIFIED:20260131T071658Z
UID:10000262-1814688000-1814690100@bodyundmind.de
SUMMARY:Online-Yoga-Kurs (jeden 1. Sonntag im Monat)
DESCRIPTION:Kursbeginn: jeden 1. Sonntag im Monat \nKursgebühr: auf Anfrage \nVeranstalter: Monika Kreil-Brunauer (Yoga\, Cranio) \nAnmeldung: Anmeldung unter monika@herzhand.at \nWeitere Informationen:  Der Einstieg ist jederzeit möglich. \nFinde Deine Balance! Unser Körper als wunderbares Zusammenspiel kann durch gezielte Yogaübungen in seiner Ausgeglichenheit unterstützt werden.
URL:https://bodyundmind.de/veranstaltung-seminar/online-yoga-kurs-jeden-1-sonntag-im-monat/2027-07-04/
CATEGORIES:Yoga
ATTACH;FMTTYPE=image/jpeg:https://bodyundmind.de/wp-content/uploads/2025/01/woman-2562216_1280.jpg
END:VEVENT
BEGIN:VEVENT
DTSTART;TZID=Europe/Berlin:20270704T200000
DTEND;TZID=Europe/Berlin:20270704T203500
DTSTAMP:20260420T233354
CREATED:20260131T072652Z
LAST-MODIFIED:20260131T072652Z
UID:10000382-1814731200-1814733300@bodyundmind.de
SUMMARY:Online-Yoga-Kurs (jeden 1. Sonntag im Monat)
DESCRIPTION:Kursbeginn: jeden 1. Sonntag im Monat \nKursgebühr: auf Anfrage \nVeranstalter: Monika Kreil-Brunauer (Yoga\, Cranio) \nAnmeldung: Anmeldung unter monika@herzhand.at \nWeitere Informationen:  Der Einstieg ist jederzeit möglich. \nFinde Deine Balance! Unser Körper als wunderbares Zusammenspiel kann durch gezielte Yogaübungen in seiner Ausgeglichenheit unterstützt werden.
URL:https://bodyundmind.de/veranstaltung-seminar/online-yoga-kurs-jeden-1-sonntag-im-monat-2/2027-07-04/
CATEGORIES:Yoga
ATTACH;FMTTYPE=image/jpeg:https://bodyundmind.de/wp-content/uploads/2025/01/woman-2562216_1280.jpg
END:VEVENT
BEGIN:VEVENT
DTSTART;TZID=Europe/Berlin:20270801T080000
DTEND;TZID=Europe/Berlin:20270801T083500
DTSTAMP:20260420T233354
CREATED:20260131T071658Z
LAST-MODIFIED:20260131T071658Z
UID:10000263-1817107200-1817109300@bodyundmind.de
SUMMARY:Online-Yoga-Kurs (jeden 1. Sonntag im Monat)
DESCRIPTION:Kursbeginn: jeden 1. Sonntag im Monat \nKursgebühr: auf Anfrage \nVeranstalter: Monika Kreil-Brunauer (Yoga\, Cranio) \nAnmeldung: Anmeldung unter monika@herzhand.at \nWeitere Informationen:  Der Einstieg ist jederzeit möglich. \nFinde Deine Balance! Unser Körper als wunderbares Zusammenspiel kann durch gezielte Yogaübungen in seiner Ausgeglichenheit unterstützt werden.
URL:https://bodyundmind.de/veranstaltung-seminar/online-yoga-kurs-jeden-1-sonntag-im-monat/2027-08-01/
CATEGORIES:Yoga
ATTACH;FMTTYPE=image/jpeg:https://bodyundmind.de/wp-content/uploads/2025/01/woman-2562216_1280.jpg
END:VEVENT
BEGIN:VEVENT
DTSTART;TZID=Europe/Berlin:20270801T200000
DTEND;TZID=Europe/Berlin:20270801T203500
DTSTAMP:20260420T233354
CREATED:20260131T072652Z
LAST-MODIFIED:20260131T072652Z
UID:10000383-1817150400-1817152500@bodyundmind.de
SUMMARY:Online-Yoga-Kurs (jeden 1. Sonntag im Monat)
DESCRIPTION:Kursbeginn: jeden 1. Sonntag im Monat \nKursgebühr: auf Anfrage \nVeranstalter: Monika Kreil-Brunauer (Yoga\, Cranio) \nAnmeldung: Anmeldung unter monika@herzhand.at \nWeitere Informationen:  Der Einstieg ist jederzeit möglich. \nFinde Deine Balance! Unser Körper als wunderbares Zusammenspiel kann durch gezielte Yogaübungen in seiner Ausgeglichenheit unterstützt werden.
URL:https://bodyundmind.de/veranstaltung-seminar/online-yoga-kurs-jeden-1-sonntag-im-monat-2/2027-08-01/
CATEGORIES:Yoga
ATTACH;FMTTYPE=image/jpeg:https://bodyundmind.de/wp-content/uploads/2025/01/woman-2562216_1280.jpg
END:VEVENT
BEGIN:VEVENT
DTSTART;TZID=Europe/Berlin:20270905T080000
DTEND;TZID=Europe/Berlin:20270905T083500
DTSTAMP:20260420T233354
CREATED:20260131T071658Z
LAST-MODIFIED:20260131T071658Z
UID:10000264-1820131200-1820133300@bodyundmind.de
SUMMARY:Online-Yoga-Kurs (jeden 1. Sonntag im Monat)
DESCRIPTION:Kursbeginn: jeden 1. Sonntag im Monat \nKursgebühr: auf Anfrage \nVeranstalter: Monika Kreil-Brunauer (Yoga\, Cranio) \nAnmeldung: Anmeldung unter monika@herzhand.at \nWeitere Informationen:  Der Einstieg ist jederzeit möglich. \nFinde Deine Balance! Unser Körper als wunderbares Zusammenspiel kann durch gezielte Yogaübungen in seiner Ausgeglichenheit unterstützt werden.
URL:https://bodyundmind.de/veranstaltung-seminar/online-yoga-kurs-jeden-1-sonntag-im-monat/2027-09-05/
CATEGORIES:Yoga
ATTACH;FMTTYPE=image/jpeg:https://bodyundmind.de/wp-content/uploads/2025/01/woman-2562216_1280.jpg
END:VEVENT
BEGIN:VEVENT
DTSTART;TZID=Europe/Berlin:20270905T200000
DTEND;TZID=Europe/Berlin:20270905T203500
DTSTAMP:20260420T233354
CREATED:20260131T072652Z
LAST-MODIFIED:20260131T072652Z
UID:10000384-1820174400-1820176500@bodyundmind.de
SUMMARY:Online-Yoga-Kurs (jeden 1. Sonntag im Monat)
DESCRIPTION:Kursbeginn: jeden 1. Sonntag im Monat \nKursgebühr: auf Anfrage \nVeranstalter: Monika Kreil-Brunauer (Yoga\, Cranio) \nAnmeldung: Anmeldung unter monika@herzhand.at \nWeitere Informationen:  Der Einstieg ist jederzeit möglich. \nFinde Deine Balance! Unser Körper als wunderbares Zusammenspiel kann durch gezielte Yogaübungen in seiner Ausgeglichenheit unterstützt werden.
URL:https://bodyundmind.de/veranstaltung-seminar/online-yoga-kurs-jeden-1-sonntag-im-monat-2/2027-09-05/
CATEGORIES:Yoga
ATTACH;FMTTYPE=image/jpeg:https://bodyundmind.de/wp-content/uploads/2025/01/woman-2562216_1280.jpg
END:VEVENT
BEGIN:VEVENT
DTSTART;TZID=Europe/Berlin:20271003T080000
DTEND;TZID=Europe/Berlin:20271003T083500
DTSTAMP:20260420T233354
CREATED:20260131T071658Z
LAST-MODIFIED:20260131T071658Z
UID:10000265-1822550400-1822552500@bodyundmind.de
SUMMARY:Online-Yoga-Kurs (jeden 1. Sonntag im Monat)
DESCRIPTION:Kursbeginn: jeden 1. Sonntag im Monat \nKursgebühr: auf Anfrage \nVeranstalter: Monika Kreil-Brunauer (Yoga\, Cranio) \nAnmeldung: Anmeldung unter monika@herzhand.at \nWeitere Informationen:  Der Einstieg ist jederzeit möglich. \nFinde Deine Balance! Unser Körper als wunderbares Zusammenspiel kann durch gezielte Yogaübungen in seiner Ausgeglichenheit unterstützt werden.
URL:https://bodyundmind.de/veranstaltung-seminar/online-yoga-kurs-jeden-1-sonntag-im-monat/2027-10-03/
CATEGORIES:Yoga
ATTACH;FMTTYPE=image/jpeg:https://bodyundmind.de/wp-content/uploads/2025/01/woman-2562216_1280.jpg
END:VEVENT
BEGIN:VEVENT
DTSTART;TZID=Europe/Berlin:20271003T200000
DTEND;TZID=Europe/Berlin:20271003T203500
DTSTAMP:20260420T233354
CREATED:20260131T072652Z
LAST-MODIFIED:20260131T072652Z
UID:10000385-1822593600-1822595700@bodyundmind.de
SUMMARY:Online-Yoga-Kurs (jeden 1. Sonntag im Monat)
DESCRIPTION:Kursbeginn: jeden 1. Sonntag im Monat \nKursgebühr: auf Anfrage \nVeranstalter: Monika Kreil-Brunauer (Yoga\, Cranio) \nAnmeldung: Anmeldung unter monika@herzhand.at \nWeitere Informationen:  Der Einstieg ist jederzeit möglich. \nFinde Deine Balance! Unser Körper als wunderbares Zusammenspiel kann durch gezielte Yogaübungen in seiner Ausgeglichenheit unterstützt werden.
URL:https://bodyundmind.de/veranstaltung-seminar/online-yoga-kurs-jeden-1-sonntag-im-monat-2/2027-10-03/
CATEGORIES:Yoga
ATTACH;FMTTYPE=image/jpeg:https://bodyundmind.de/wp-content/uploads/2025/01/woman-2562216_1280.jpg
END:VEVENT
BEGIN:VEVENT
DTSTART;TZID=Europe/Berlin:20271107T080000
DTEND;TZID=Europe/Berlin:20271107T083500
DTSTAMP:20260420T233354
CREATED:20260131T071658Z
LAST-MODIFIED:20260131T071658Z
UID:10000266-1825574400-1825576500@bodyundmind.de
SUMMARY:Online-Yoga-Kurs (jeden 1. Sonntag im Monat)
DESCRIPTION:Kursbeginn: jeden 1. Sonntag im Monat \nKursgebühr: auf Anfrage \nVeranstalter: Monika Kreil-Brunauer (Yoga\, Cranio) \nAnmeldung: Anmeldung unter monika@herzhand.at \nWeitere Informationen:  Der Einstieg ist jederzeit möglich. \nFinde Deine Balance! Unser Körper als wunderbares Zusammenspiel kann durch gezielte Yogaübungen in seiner Ausgeglichenheit unterstützt werden.
URL:https://bodyundmind.de/veranstaltung-seminar/online-yoga-kurs-jeden-1-sonntag-im-monat/2027-11-07/
CATEGORIES:Yoga
ATTACH;FMTTYPE=image/jpeg:https://bodyundmind.de/wp-content/uploads/2025/01/woman-2562216_1280.jpg
END:VEVENT
BEGIN:VEVENT
DTSTART;TZID=Europe/Berlin:20271107T200000
DTEND;TZID=Europe/Berlin:20271107T203500
DTSTAMP:20260420T233354
CREATED:20260131T072652Z
LAST-MODIFIED:20260131T072652Z
UID:10000386-1825617600-1825619700@bodyundmind.de
SUMMARY:Online-Yoga-Kurs (jeden 1. Sonntag im Monat)
DESCRIPTION:Kursbeginn: jeden 1. Sonntag im Monat \nKursgebühr: auf Anfrage \nVeranstalter: Monika Kreil-Brunauer (Yoga\, Cranio) \nAnmeldung: Anmeldung unter monika@herzhand.at \nWeitere Informationen:  Der Einstieg ist jederzeit möglich. \nFinde Deine Balance! Unser Körper als wunderbares Zusammenspiel kann durch gezielte Yogaübungen in seiner Ausgeglichenheit unterstützt werden.
URL:https://bodyundmind.de/veranstaltung-seminar/online-yoga-kurs-jeden-1-sonntag-im-monat-2/2027-11-07/
CATEGORIES:Yoga
ATTACH;FMTTYPE=image/jpeg:https://bodyundmind.de/wp-content/uploads/2025/01/woman-2562216_1280.jpg
END:VEVENT
BEGIN:VEVENT
DTSTART;TZID=Europe/Berlin:20271205T080000
DTEND;TZID=Europe/Berlin:20271205T083500
DTSTAMP:20260420T233354
CREATED:20260131T071658Z
LAST-MODIFIED:20260131T071658Z
UID:10000267-1827993600-1827995700@bodyundmind.de
SUMMARY:Online-Yoga-Kurs (jeden 1. Sonntag im Monat)
DESCRIPTION:Kursbeginn: jeden 1. Sonntag im Monat \nKursgebühr: auf Anfrage \nVeranstalter: Monika Kreil-Brunauer (Yoga\, Cranio) \nAnmeldung: Anmeldung unter monika@herzhand.at \nWeitere Informationen:  Der Einstieg ist jederzeit möglich. \nFinde Deine Balance! Unser Körper als wunderbares Zusammenspiel kann durch gezielte Yogaübungen in seiner Ausgeglichenheit unterstützt werden.
URL:https://bodyundmind.de/veranstaltung-seminar/online-yoga-kurs-jeden-1-sonntag-im-monat/2027-12-05/
CATEGORIES:Yoga
ATTACH;FMTTYPE=image/jpeg:https://bodyundmind.de/wp-content/uploads/2025/01/woman-2562216_1280.jpg
END:VEVENT
BEGIN:VEVENT
DTSTART;TZID=Europe/Berlin:20271205T200000
DTEND;TZID=Europe/Berlin:20271205T203500
DTSTAMP:20260420T233354
CREATED:20260131T072652Z
LAST-MODIFIED:20260131T072652Z
UID:10000387-1828036800-1828038900@bodyundmind.de
SUMMARY:Online-Yoga-Kurs (jeden 1. Sonntag im Monat)
DESCRIPTION:Kursbeginn: jeden 1. Sonntag im Monat \nKursgebühr: auf Anfrage \nVeranstalter: Monika Kreil-Brunauer (Yoga\, Cranio) \nAnmeldung: Anmeldung unter monika@herzhand.at \nWeitere Informationen:  Der Einstieg ist jederzeit möglich. \nFinde Deine Balance! Unser Körper als wunderbares Zusammenspiel kann durch gezielte Yogaübungen in seiner Ausgeglichenheit unterstützt werden.
URL:https://bodyundmind.de/veranstaltung-seminar/online-yoga-kurs-jeden-1-sonntag-im-monat-2/2027-12-05/
CATEGORIES:Yoga
ATTACH;FMTTYPE=image/jpeg:https://bodyundmind.de/wp-content/uploads/2025/01/woman-2562216_1280.jpg
END:VEVENT
BEGIN:VEVENT
DTSTART;TZID=Europe/Berlin:20280102T080000
DTEND;TZID=Europe/Berlin:20280102T083500
DTSTAMP:20260420T233354
CREATED:20260131T071658Z
LAST-MODIFIED:20260131T071658Z
UID:10000268-1830412800-1830414900@bodyundmind.de
SUMMARY:Online-Yoga-Kurs (jeden 1. Sonntag im Monat)
DESCRIPTION:Kursbeginn: jeden 1. Sonntag im Monat \nKursgebühr: auf Anfrage \nVeranstalter: Monika Kreil-Brunauer (Yoga\, Cranio) \nAnmeldung: Anmeldung unter monika@herzhand.at \nWeitere Informationen:  Der Einstieg ist jederzeit möglich. \nFinde Deine Balance! Unser Körper als wunderbares Zusammenspiel kann durch gezielte Yogaübungen in seiner Ausgeglichenheit unterstützt werden.
URL:https://bodyundmind.de/veranstaltung-seminar/online-yoga-kurs-jeden-1-sonntag-im-monat/2028-01-02/
CATEGORIES:Yoga
ATTACH;FMTTYPE=image/jpeg:https://bodyundmind.de/wp-content/uploads/2025/01/woman-2562216_1280.jpg
END:VEVENT
BEGIN:VEVENT
DTSTART;TZID=Europe/Berlin:20280102T200000
DTEND;TZID=Europe/Berlin:20280102T203500
DTSTAMP:20260420T233354
CREATED:20260131T072652Z
LAST-MODIFIED:20260131T072652Z
UID:10000388-1830456000-1830458100@bodyundmind.de
SUMMARY:Online-Yoga-Kurs (jeden 1. Sonntag im Monat)
DESCRIPTION:Kursbeginn: jeden 1. Sonntag im Monat \nKursgebühr: auf Anfrage \nVeranstalter: Monika Kreil-Brunauer (Yoga\, Cranio) \nAnmeldung: Anmeldung unter monika@herzhand.at \nWeitere Informationen:  Der Einstieg ist jederzeit möglich. \nFinde Deine Balance! Unser Körper als wunderbares Zusammenspiel kann durch gezielte Yogaübungen in seiner Ausgeglichenheit unterstützt werden.
URL:https://bodyundmind.de/veranstaltung-seminar/online-yoga-kurs-jeden-1-sonntag-im-monat-2/2028-01-02/
CATEGORIES:Yoga
ATTACH;FMTTYPE=image/jpeg:https://bodyundmind.de/wp-content/uploads/2025/01/woman-2562216_1280.jpg
END:VEVENT
BEGIN:VEVENT
DTSTART;TZID=Europe/Berlin:20280206T080000
DTEND;TZID=Europe/Berlin:20280206T083500
DTSTAMP:20260420T233354
CREATED:20260131T071658Z
LAST-MODIFIED:20260131T071658Z
UID:10000269-1833436800-1833438900@bodyundmind.de
SUMMARY:Online-Yoga-Kurs (jeden 1. Sonntag im Monat)
DESCRIPTION:Kursbeginn: jeden 1. Sonntag im Monat \nKursgebühr: auf Anfrage \nVeranstalter: Monika Kreil-Brunauer (Yoga\, Cranio) \nAnmeldung: Anmeldung unter monika@herzhand.at \nWeitere Informationen:  Der Einstieg ist jederzeit möglich. \nFinde Deine Balance! Unser Körper als wunderbares Zusammenspiel kann durch gezielte Yogaübungen in seiner Ausgeglichenheit unterstützt werden.
URL:https://bodyundmind.de/veranstaltung-seminar/online-yoga-kurs-jeden-1-sonntag-im-monat/2028-02-06/
CATEGORIES:Yoga
ATTACH;FMTTYPE=image/jpeg:https://bodyundmind.de/wp-content/uploads/2025/01/woman-2562216_1280.jpg
END:VEVENT
BEGIN:VEVENT
DTSTART;TZID=Europe/Berlin:20280206T200000
DTEND;TZID=Europe/Berlin:20280206T203500
DTSTAMP:20260420T233354
CREATED:20260131T072652Z
LAST-MODIFIED:20260131T072652Z
UID:10000389-1833480000-1833482100@bodyundmind.de
SUMMARY:Online-Yoga-Kurs (jeden 1. Sonntag im Monat)
DESCRIPTION:Kursbeginn: jeden 1. Sonntag im Monat \nKursgebühr: auf Anfrage \nVeranstalter: Monika Kreil-Brunauer (Yoga\, Cranio) \nAnmeldung: Anmeldung unter monika@herzhand.at \nWeitere Informationen:  Der Einstieg ist jederzeit möglich. \nFinde Deine Balance! Unser Körper als wunderbares Zusammenspiel kann durch gezielte Yogaübungen in seiner Ausgeglichenheit unterstützt werden.
URL:https://bodyundmind.de/veranstaltung-seminar/online-yoga-kurs-jeden-1-sonntag-im-monat-2/2028-02-06/
CATEGORIES:Yoga
ATTACH;FMTTYPE=image/jpeg:https://bodyundmind.de/wp-content/uploads/2025/01/woman-2562216_1280.jpg
END:VEVENT
BEGIN:VEVENT
DTSTART;TZID=Europe/Berlin:20280305T080000
DTEND;TZID=Europe/Berlin:20280305T083500
DTSTAMP:20260420T233354
CREATED:20260131T071658Z
LAST-MODIFIED:20260131T071658Z
UID:10000270-1835856000-1835858100@bodyundmind.de
SUMMARY:Online-Yoga-Kurs (jeden 1. Sonntag im Monat)
DESCRIPTION:Kursbeginn: jeden 1. Sonntag im Monat \nKursgebühr: auf Anfrage \nVeranstalter: Monika Kreil-Brunauer (Yoga\, Cranio) \nAnmeldung: Anmeldung unter monika@herzhand.at \nWeitere Informationen:  Der Einstieg ist jederzeit möglich. \nFinde Deine Balance! Unser Körper als wunderbares Zusammenspiel kann durch gezielte Yogaübungen in seiner Ausgeglichenheit unterstützt werden.
URL:https://bodyundmind.de/veranstaltung-seminar/online-yoga-kurs-jeden-1-sonntag-im-monat/2028-03-05/
CATEGORIES:Yoga
ATTACH;FMTTYPE=image/jpeg:https://bodyundmind.de/wp-content/uploads/2025/01/woman-2562216_1280.jpg
END:VEVENT
BEGIN:VEVENT
DTSTART;TZID=Europe/Berlin:20280305T200000
DTEND;TZID=Europe/Berlin:20280305T203500
DTSTAMP:20260420T233354
CREATED:20260131T072652Z
LAST-MODIFIED:20260131T072652Z
UID:10000390-1835899200-1835901300@bodyundmind.de
SUMMARY:Online-Yoga-Kurs (jeden 1. Sonntag im Monat)
DESCRIPTION:Kursbeginn: jeden 1. Sonntag im Monat \nKursgebühr: auf Anfrage \nVeranstalter: Monika Kreil-Brunauer (Yoga\, Cranio) \nAnmeldung: Anmeldung unter monika@herzhand.at \nWeitere Informationen:  Der Einstieg ist jederzeit möglich. \nFinde Deine Balance! Unser Körper als wunderbares Zusammenspiel kann durch gezielte Yogaübungen in seiner Ausgeglichenheit unterstützt werden.
URL:https://bodyundmind.de/veranstaltung-seminar/online-yoga-kurs-jeden-1-sonntag-im-monat-2/2028-03-05/
CATEGORIES:Yoga
ATTACH;FMTTYPE=image/jpeg:https://bodyundmind.de/wp-content/uploads/2025/01/woman-2562216_1280.jpg
END:VEVENT
BEGIN:VEVENT
DTSTART;TZID=Europe/Berlin:20280402T080000
DTEND;TZID=Europe/Berlin:20280402T083500
DTSTAMP:20260420T233354
CREATED:20260131T071658Z
LAST-MODIFIED:20260131T071658Z
UID:10000271-1838275200-1838277300@bodyundmind.de
SUMMARY:Online-Yoga-Kurs (jeden 1. Sonntag im Monat)
DESCRIPTION:Kursbeginn: jeden 1. Sonntag im Monat \nKursgebühr: auf Anfrage \nVeranstalter: Monika Kreil-Brunauer (Yoga\, Cranio) \nAnmeldung: Anmeldung unter monika@herzhand.at \nWeitere Informationen:  Der Einstieg ist jederzeit möglich. \nFinde Deine Balance! Unser Körper als wunderbares Zusammenspiel kann durch gezielte Yogaübungen in seiner Ausgeglichenheit unterstützt werden.
URL:https://bodyundmind.de/veranstaltung-seminar/online-yoga-kurs-jeden-1-sonntag-im-monat/2028-04-02/
CATEGORIES:Yoga
ATTACH;FMTTYPE=image/jpeg:https://bodyundmind.de/wp-content/uploads/2025/01/woman-2562216_1280.jpg
END:VEVENT
BEGIN:VEVENT
DTSTART;TZID=Europe/Berlin:20280402T200000
DTEND;TZID=Europe/Berlin:20280402T203500
DTSTAMP:20260420T233354
CREATED:20260131T072652Z
LAST-MODIFIED:20260131T072652Z
UID:10000391-1838318400-1838320500@bodyundmind.de
SUMMARY:Online-Yoga-Kurs (jeden 1. Sonntag im Monat)
DESCRIPTION:Kursbeginn: jeden 1. Sonntag im Monat \nKursgebühr: auf Anfrage \nVeranstalter: Monika Kreil-Brunauer (Yoga\, Cranio) \nAnmeldung: Anmeldung unter monika@herzhand.at \nWeitere Informationen:  Der Einstieg ist jederzeit möglich. \nFinde Deine Balance! Unser Körper als wunderbares Zusammenspiel kann durch gezielte Yogaübungen in seiner Ausgeglichenheit unterstützt werden.
URL:https://bodyundmind.de/veranstaltung-seminar/online-yoga-kurs-jeden-1-sonntag-im-monat-2/2028-04-02/
CATEGORIES:Yoga
ATTACH;FMTTYPE=image/jpeg:https://bodyundmind.de/wp-content/uploads/2025/01/woman-2562216_1280.jpg
END:VEVENT
BEGIN:VEVENT
DTSTART;TZID=Europe/Berlin:20280507T080000
DTEND;TZID=Europe/Berlin:20280507T083500
DTSTAMP:20260420T233354
CREATED:20260131T071658Z
LAST-MODIFIED:20260131T071658Z
UID:10000272-1841299200-1841301300@bodyundmind.de
SUMMARY:Online-Yoga-Kurs (jeden 1. Sonntag im Monat)
DESCRIPTION:Kursbeginn: jeden 1. Sonntag im Monat \nKursgebühr: auf Anfrage \nVeranstalter: Monika Kreil-Brunauer (Yoga\, Cranio) \nAnmeldung: Anmeldung unter monika@herzhand.at \nWeitere Informationen:  Der Einstieg ist jederzeit möglich. \nFinde Deine Balance! Unser Körper als wunderbares Zusammenspiel kann durch gezielte Yogaübungen in seiner Ausgeglichenheit unterstützt werden.
URL:https://bodyundmind.de/veranstaltung-seminar/online-yoga-kurs-jeden-1-sonntag-im-monat/2028-05-07/
CATEGORIES:Yoga
ATTACH;FMTTYPE=image/jpeg:https://bodyundmind.de/wp-content/uploads/2025/01/woman-2562216_1280.jpg
END:VEVENT
BEGIN:VEVENT
DTSTART;TZID=Europe/Berlin:20280507T200000
DTEND;TZID=Europe/Berlin:20280507T203500
DTSTAMP:20260420T233354
CREATED:20260131T072652Z
LAST-MODIFIED:20260131T072652Z
UID:10000392-1841342400-1841344500@bodyundmind.de
SUMMARY:Online-Yoga-Kurs (jeden 1. Sonntag im Monat)
DESCRIPTION:Kursbeginn: jeden 1. Sonntag im Monat \nKursgebühr: auf Anfrage \nVeranstalter: Monika Kreil-Brunauer (Yoga\, Cranio) \nAnmeldung: Anmeldung unter monika@herzhand.at \nWeitere Informationen:  Der Einstieg ist jederzeit möglich. \nFinde Deine Balance! Unser Körper als wunderbares Zusammenspiel kann durch gezielte Yogaübungen in seiner Ausgeglichenheit unterstützt werden.
URL:https://bodyundmind.de/veranstaltung-seminar/online-yoga-kurs-jeden-1-sonntag-im-monat-2/2028-05-07/
CATEGORIES:Yoga
ATTACH;FMTTYPE=image/jpeg:https://bodyundmind.de/wp-content/uploads/2025/01/woman-2562216_1280.jpg
END:VEVENT
END:VCALENDAR