BEGIN:VCALENDAR
VERSION:2.0
PRODID:-//Body und Mind - ECPv6.15.16//NONSGML v1.0//EN
CALSCALE:GREGORIAN
METHOD:PUBLISH
X-ORIGINAL-URL:https://bodyundmind.de
X-WR-CALDESC:Veranstaltungen für Body und Mind
REFRESH-INTERVAL;VALUE=DURATION:PT1H
X-Robots-Tag:noindex
X-PUBLISHED-TTL:PT1H
BEGIN:VTIMEZONE
TZID:Europe/Berlin
BEGIN:DAYLIGHT
TZOFFSETFROM:+0100
TZOFFSETTO:+0200
TZNAME:CEST
DTSTART:20250330T010000
END:DAYLIGHT
BEGIN:STANDARD
TZOFFSETFROM:+0200
TZOFFSETTO:+0100
TZNAME:CET
DTSTART:20251026T010000
END:STANDARD
BEGIN:DAYLIGHT
TZOFFSETFROM:+0100
TZOFFSETTO:+0200
TZNAME:CEST
DTSTART:20260329T010000
END:DAYLIGHT
BEGIN:STANDARD
TZOFFSETFROM:+0200
TZOFFSETTO:+0100
TZNAME:CET
DTSTART:20261025T010000
END:STANDARD
BEGIN:DAYLIGHT
TZOFFSETFROM:+0100
TZOFFSETTO:+0200
TZNAME:CEST
DTSTART:20270328T010000
END:DAYLIGHT
BEGIN:STANDARD
TZOFFSETFROM:+0200
TZOFFSETTO:+0100
TZNAME:CET
DTSTART:20271031T010000
END:STANDARD
BEGIN:DAYLIGHT
TZOFFSETFROM:+0100
TZOFFSETTO:+0200
TZNAME:CEST
DTSTART:20280326T010000
END:DAYLIGHT
BEGIN:STANDARD
TZOFFSETFROM:+0200
TZOFFSETTO:+0100
TZNAME:CET
DTSTART:20281029T010000
END:STANDARD
END:VTIMEZONE
BEGIN:VEVENT
DTSTART;TZID=Europe/Berlin:20260503T080000
DTEND;TZID=Europe/Berlin:20260503T083500
DTSTAMP:20260420T174106
CREATED:20260131T071658Z
LAST-MODIFIED:20260131T071658Z
UID:10000248-1777795200-1777797300@bodyundmind.de
SUMMARY:Online-Yoga-Kurs (jeden 1. Sonntag im Monat)
DESCRIPTION:Kursbeginn: jeden 1. Sonntag im Monat \nKursgebühr: auf Anfrage \nVeranstalter: Monika Kreil-Brunauer (Yoga\, Cranio) \nAnmeldung: Anmeldung unter monika@herzhand.at \nWeitere Informationen:  Der Einstieg ist jederzeit möglich. \nFinde Deine Balance! Unser Körper als wunderbares Zusammenspiel kann durch gezielte Yogaübungen in seiner Ausgeglichenheit unterstützt werden.
URL:https://bodyundmind.de/veranstaltung-seminar/online-yoga-kurs-jeden-1-sonntag-im-monat/2026-05-03/
CATEGORIES:Yoga
ATTACH;FMTTYPE=image/jpeg:https://bodyundmind.de/wp-content/uploads/2025/01/woman-2562216_1280.jpg
END:VEVENT
BEGIN:VEVENT
DTSTART;TZID=Europe/Berlin:20260503T200000
DTEND;TZID=Europe/Berlin:20260503T203500
DTSTAMP:20260420T174106
CREATED:20260131T072652Z
LAST-MODIFIED:20260131T072652Z
UID:10000368-1777838400-1777840500@bodyundmind.de
SUMMARY:Online-Yoga-Kurs (jeden 1. Sonntag im Monat)
DESCRIPTION:Kursbeginn: jeden 1. Sonntag im Monat \nKursgebühr: auf Anfrage \nVeranstalter: Monika Kreil-Brunauer (Yoga\, Cranio) \nAnmeldung: Anmeldung unter monika@herzhand.at \nWeitere Informationen:  Der Einstieg ist jederzeit möglich. \nFinde Deine Balance! Unser Körper als wunderbares Zusammenspiel kann durch gezielte Yogaübungen in seiner Ausgeglichenheit unterstützt werden.
URL:https://bodyundmind.de/veranstaltung-seminar/online-yoga-kurs-jeden-1-sonntag-im-monat-2/2026-05-03/
CATEGORIES:Yoga
ATTACH;FMTTYPE=image/jpeg:https://bodyundmind.de/wp-content/uploads/2025/01/woman-2562216_1280.jpg
END:VEVENT
BEGIN:VEVENT
DTSTART;TZID=Europe/Berlin:20260607T080000
DTEND;TZID=Europe/Berlin:20260607T083500
DTSTAMP:20260420T174106
CREATED:20260131T071658Z
LAST-MODIFIED:20260131T071658Z
UID:10000249-1780819200-1780821300@bodyundmind.de
SUMMARY:Online-Yoga-Kurs (jeden 1. Sonntag im Monat)
DESCRIPTION:Kursbeginn: jeden 1. Sonntag im Monat \nKursgebühr: auf Anfrage \nVeranstalter: Monika Kreil-Brunauer (Yoga\, Cranio) \nAnmeldung: Anmeldung unter monika@herzhand.at \nWeitere Informationen:  Der Einstieg ist jederzeit möglich. \nFinde Deine Balance! Unser Körper als wunderbares Zusammenspiel kann durch gezielte Yogaübungen in seiner Ausgeglichenheit unterstützt werden.
URL:https://bodyundmind.de/veranstaltung-seminar/online-yoga-kurs-jeden-1-sonntag-im-monat/2026-06-07/
CATEGORIES:Yoga
ATTACH;FMTTYPE=image/jpeg:https://bodyundmind.de/wp-content/uploads/2025/01/woman-2562216_1280.jpg
END:VEVENT
BEGIN:VEVENT
DTSTART;TZID=Europe/Berlin:20260607T200000
DTEND;TZID=Europe/Berlin:20260607T203500
DTSTAMP:20260420T174106
CREATED:20260131T072652Z
LAST-MODIFIED:20260131T072652Z
UID:10000369-1780862400-1780864500@bodyundmind.de
SUMMARY:Online-Yoga-Kurs (jeden 1. Sonntag im Monat)
DESCRIPTION:Kursbeginn: jeden 1. Sonntag im Monat \nKursgebühr: auf Anfrage \nVeranstalter: Monika Kreil-Brunauer (Yoga\, Cranio) \nAnmeldung: Anmeldung unter monika@herzhand.at \nWeitere Informationen:  Der Einstieg ist jederzeit möglich. \nFinde Deine Balance! Unser Körper als wunderbares Zusammenspiel kann durch gezielte Yogaübungen in seiner Ausgeglichenheit unterstützt werden.
URL:https://bodyundmind.de/veranstaltung-seminar/online-yoga-kurs-jeden-1-sonntag-im-monat-2/2026-06-07/
CATEGORIES:Yoga
ATTACH;FMTTYPE=image/jpeg:https://bodyundmind.de/wp-content/uploads/2025/01/woman-2562216_1280.jpg
END:VEVENT
BEGIN:VEVENT
DTSTART;TZID=Europe/Berlin:20260705T080000
DTEND;TZID=Europe/Berlin:20260705T083500
DTSTAMP:20260420T174106
CREATED:20260131T071658Z
LAST-MODIFIED:20260131T071658Z
UID:10000250-1783238400-1783240500@bodyundmind.de
SUMMARY:Online-Yoga-Kurs (jeden 1. Sonntag im Monat)
DESCRIPTION:Kursbeginn: jeden 1. Sonntag im Monat \nKursgebühr: auf Anfrage \nVeranstalter: Monika Kreil-Brunauer (Yoga\, Cranio) \nAnmeldung: Anmeldung unter monika@herzhand.at \nWeitere Informationen:  Der Einstieg ist jederzeit möglich. \nFinde Deine Balance! Unser Körper als wunderbares Zusammenspiel kann durch gezielte Yogaübungen in seiner Ausgeglichenheit unterstützt werden.
URL:https://bodyundmind.de/veranstaltung-seminar/online-yoga-kurs-jeden-1-sonntag-im-monat/2026-07-05/
CATEGORIES:Yoga
ATTACH;FMTTYPE=image/jpeg:https://bodyundmind.de/wp-content/uploads/2025/01/woman-2562216_1280.jpg
END:VEVENT
BEGIN:VEVENT
DTSTART;TZID=Europe/Berlin:20260705T200000
DTEND;TZID=Europe/Berlin:20260705T203500
DTSTAMP:20260420T174106
CREATED:20260131T072652Z
LAST-MODIFIED:20260131T072652Z
UID:10000370-1783281600-1783283700@bodyundmind.de
SUMMARY:Online-Yoga-Kurs (jeden 1. Sonntag im Monat)
DESCRIPTION:Kursbeginn: jeden 1. Sonntag im Monat \nKursgebühr: auf Anfrage \nVeranstalter: Monika Kreil-Brunauer (Yoga\, Cranio) \nAnmeldung: Anmeldung unter monika@herzhand.at \nWeitere Informationen:  Der Einstieg ist jederzeit möglich. \nFinde Deine Balance! Unser Körper als wunderbares Zusammenspiel kann durch gezielte Yogaübungen in seiner Ausgeglichenheit unterstützt werden.
URL:https://bodyundmind.de/veranstaltung-seminar/online-yoga-kurs-jeden-1-sonntag-im-monat-2/2026-07-05/
CATEGORIES:Yoga
ATTACH;FMTTYPE=image/jpeg:https://bodyundmind.de/wp-content/uploads/2025/01/woman-2562216_1280.jpg
END:VEVENT
BEGIN:VEVENT
DTSTART;TZID=Europe/Berlin:20260802T080000
DTEND;TZID=Europe/Berlin:20260802T083500
DTSTAMP:20260420T174106
CREATED:20260131T071658Z
LAST-MODIFIED:20260131T071658Z
UID:10000251-1785657600-1785659700@bodyundmind.de
SUMMARY:Online-Yoga-Kurs (jeden 1. Sonntag im Monat)
DESCRIPTION:Kursbeginn: jeden 1. Sonntag im Monat \nKursgebühr: auf Anfrage \nVeranstalter: Monika Kreil-Brunauer (Yoga\, Cranio) \nAnmeldung: Anmeldung unter monika@herzhand.at \nWeitere Informationen:  Der Einstieg ist jederzeit möglich. \nFinde Deine Balance! Unser Körper als wunderbares Zusammenspiel kann durch gezielte Yogaübungen in seiner Ausgeglichenheit unterstützt werden.
URL:https://bodyundmind.de/veranstaltung-seminar/online-yoga-kurs-jeden-1-sonntag-im-monat/2026-08-02/
CATEGORIES:Yoga
ATTACH;FMTTYPE=image/jpeg:https://bodyundmind.de/wp-content/uploads/2025/01/woman-2562216_1280.jpg
END:VEVENT
BEGIN:VEVENT
DTSTART;TZID=Europe/Berlin:20260802T200000
DTEND;TZID=Europe/Berlin:20260802T203500
DTSTAMP:20260420T174106
CREATED:20260131T072652Z
LAST-MODIFIED:20260131T072652Z
UID:10000371-1785700800-1785702900@bodyundmind.de
SUMMARY:Online-Yoga-Kurs (jeden 1. Sonntag im Monat)
DESCRIPTION:Kursbeginn: jeden 1. Sonntag im Monat \nKursgebühr: auf Anfrage \nVeranstalter: Monika Kreil-Brunauer (Yoga\, Cranio) \nAnmeldung: Anmeldung unter monika@herzhand.at \nWeitere Informationen:  Der Einstieg ist jederzeit möglich. \nFinde Deine Balance! Unser Körper als wunderbares Zusammenspiel kann durch gezielte Yogaübungen in seiner Ausgeglichenheit unterstützt werden.
URL:https://bodyundmind.de/veranstaltung-seminar/online-yoga-kurs-jeden-1-sonntag-im-monat-2/2026-08-02/
CATEGORIES:Yoga
ATTACH;FMTTYPE=image/jpeg:https://bodyundmind.de/wp-content/uploads/2025/01/woman-2562216_1280.jpg
END:VEVENT
BEGIN:VEVENT
DTSTART;TZID=Europe/Berlin:20260906T080000
DTEND;TZID=Europe/Berlin:20260906T083500
DTSTAMP:20260420T174106
CREATED:20260131T071658Z
LAST-MODIFIED:20260131T071658Z
UID:10000252-1788681600-1788683700@bodyundmind.de
SUMMARY:Online-Yoga-Kurs (jeden 1. Sonntag im Monat)
DESCRIPTION:Kursbeginn: jeden 1. Sonntag im Monat \nKursgebühr: auf Anfrage \nVeranstalter: Monika Kreil-Brunauer (Yoga\, Cranio) \nAnmeldung: Anmeldung unter monika@herzhand.at \nWeitere Informationen:  Der Einstieg ist jederzeit möglich. \nFinde Deine Balance! Unser Körper als wunderbares Zusammenspiel kann durch gezielte Yogaübungen in seiner Ausgeglichenheit unterstützt werden.
URL:https://bodyundmind.de/veranstaltung-seminar/online-yoga-kurs-jeden-1-sonntag-im-monat/2026-09-06/
CATEGORIES:Yoga
ATTACH;FMTTYPE=image/jpeg:https://bodyundmind.de/wp-content/uploads/2025/01/woman-2562216_1280.jpg
END:VEVENT
BEGIN:VEVENT
DTSTART;TZID=Europe/Berlin:20260906T200000
DTEND;TZID=Europe/Berlin:20260906T203500
DTSTAMP:20260420T174106
CREATED:20260131T072652Z
LAST-MODIFIED:20260131T072652Z
UID:10000372-1788724800-1788726900@bodyundmind.de
SUMMARY:Online-Yoga-Kurs (jeden 1. Sonntag im Monat)
DESCRIPTION:Kursbeginn: jeden 1. Sonntag im Monat \nKursgebühr: auf Anfrage \nVeranstalter: Monika Kreil-Brunauer (Yoga\, Cranio) \nAnmeldung: Anmeldung unter monika@herzhand.at \nWeitere Informationen:  Der Einstieg ist jederzeit möglich. \nFinde Deine Balance! Unser Körper als wunderbares Zusammenspiel kann durch gezielte Yogaübungen in seiner Ausgeglichenheit unterstützt werden.
URL:https://bodyundmind.de/veranstaltung-seminar/online-yoga-kurs-jeden-1-sonntag-im-monat-2/2026-09-06/
CATEGORIES:Yoga
ATTACH;FMTTYPE=image/jpeg:https://bodyundmind.de/wp-content/uploads/2025/01/woman-2562216_1280.jpg
END:VEVENT
BEGIN:VEVENT
DTSTART;TZID=Europe/Berlin:20261004T080000
DTEND;TZID=Europe/Berlin:20261004T083500
DTSTAMP:20260420T174106
CREATED:20260131T071658Z
LAST-MODIFIED:20260131T071658Z
UID:10000253-1791100800-1791102900@bodyundmind.de
SUMMARY:Online-Yoga-Kurs (jeden 1. Sonntag im Monat)
DESCRIPTION:Kursbeginn: jeden 1. Sonntag im Monat \nKursgebühr: auf Anfrage \nVeranstalter: Monika Kreil-Brunauer (Yoga\, Cranio) \nAnmeldung: Anmeldung unter monika@herzhand.at \nWeitere Informationen:  Der Einstieg ist jederzeit möglich. \nFinde Deine Balance! Unser Körper als wunderbares Zusammenspiel kann durch gezielte Yogaübungen in seiner Ausgeglichenheit unterstützt werden.
URL:https://bodyundmind.de/veranstaltung-seminar/online-yoga-kurs-jeden-1-sonntag-im-monat/2026-10-04/
CATEGORIES:Yoga
ATTACH;FMTTYPE=image/jpeg:https://bodyundmind.de/wp-content/uploads/2025/01/woman-2562216_1280.jpg
END:VEVENT
BEGIN:VEVENT
DTSTART;TZID=Europe/Berlin:20261004T200000
DTEND;TZID=Europe/Berlin:20261004T203500
DTSTAMP:20260420T174106
CREATED:20260131T072652Z
LAST-MODIFIED:20260131T072652Z
UID:10000373-1791144000-1791146100@bodyundmind.de
SUMMARY:Online-Yoga-Kurs (jeden 1. Sonntag im Monat)
DESCRIPTION:Kursbeginn: jeden 1. Sonntag im Monat \nKursgebühr: auf Anfrage \nVeranstalter: Monika Kreil-Brunauer (Yoga\, Cranio) \nAnmeldung: Anmeldung unter monika@herzhand.at \nWeitere Informationen:  Der Einstieg ist jederzeit möglich. \nFinde Deine Balance! Unser Körper als wunderbares Zusammenspiel kann durch gezielte Yogaübungen in seiner Ausgeglichenheit unterstützt werden.
URL:https://bodyundmind.de/veranstaltung-seminar/online-yoga-kurs-jeden-1-sonntag-im-monat-2/2026-10-04/
CATEGORIES:Yoga
ATTACH;FMTTYPE=image/jpeg:https://bodyundmind.de/wp-content/uploads/2025/01/woman-2562216_1280.jpg
END:VEVENT
BEGIN:VEVENT
DTSTART;TZID=Europe/Berlin:20261101T080000
DTEND;TZID=Europe/Berlin:20261101T083500
DTSTAMP:20260420T174106
CREATED:20260131T071658Z
LAST-MODIFIED:20260131T071658Z
UID:10000254-1793520000-1793522100@bodyundmind.de
SUMMARY:Online-Yoga-Kurs (jeden 1. Sonntag im Monat)
DESCRIPTION:Kursbeginn: jeden 1. Sonntag im Monat \nKursgebühr: auf Anfrage \nVeranstalter: Monika Kreil-Brunauer (Yoga\, Cranio) \nAnmeldung: Anmeldung unter monika@herzhand.at \nWeitere Informationen:  Der Einstieg ist jederzeit möglich. \nFinde Deine Balance! Unser Körper als wunderbares Zusammenspiel kann durch gezielte Yogaübungen in seiner Ausgeglichenheit unterstützt werden.
URL:https://bodyundmind.de/veranstaltung-seminar/online-yoga-kurs-jeden-1-sonntag-im-monat/2026-11-01/
CATEGORIES:Yoga
ATTACH;FMTTYPE=image/jpeg:https://bodyundmind.de/wp-content/uploads/2025/01/woman-2562216_1280.jpg
END:VEVENT
BEGIN:VEVENT
DTSTART;TZID=Europe/Berlin:20261101T200000
DTEND;TZID=Europe/Berlin:20261101T203500
DTSTAMP:20260420T174106
CREATED:20260131T072652Z
LAST-MODIFIED:20260131T072652Z
UID:10000374-1793563200-1793565300@bodyundmind.de
SUMMARY:Online-Yoga-Kurs (jeden 1. Sonntag im Monat)
DESCRIPTION:Kursbeginn: jeden 1. Sonntag im Monat \nKursgebühr: auf Anfrage \nVeranstalter: Monika Kreil-Brunauer (Yoga\, Cranio) \nAnmeldung: Anmeldung unter monika@herzhand.at \nWeitere Informationen:  Der Einstieg ist jederzeit möglich. \nFinde Deine Balance! Unser Körper als wunderbares Zusammenspiel kann durch gezielte Yogaübungen in seiner Ausgeglichenheit unterstützt werden.
URL:https://bodyundmind.de/veranstaltung-seminar/online-yoga-kurs-jeden-1-sonntag-im-monat-2/2026-11-01/
CATEGORIES:Yoga
ATTACH;FMTTYPE=image/jpeg:https://bodyundmind.de/wp-content/uploads/2025/01/woman-2562216_1280.jpg
END:VEVENT
BEGIN:VEVENT
DTSTART;TZID=Europe/Berlin:20261206T080000
DTEND;TZID=Europe/Berlin:20261206T083500
DTSTAMP:20260420T174106
CREATED:20260131T071658Z
LAST-MODIFIED:20260131T071658Z
UID:10000255-1796544000-1796546100@bodyundmind.de
SUMMARY:Online-Yoga-Kurs (jeden 1. Sonntag im Monat)
DESCRIPTION:Kursbeginn: jeden 1. Sonntag im Monat \nKursgebühr: auf Anfrage \nVeranstalter: Monika Kreil-Brunauer (Yoga\, Cranio) \nAnmeldung: Anmeldung unter monika@herzhand.at \nWeitere Informationen:  Der Einstieg ist jederzeit möglich. \nFinde Deine Balance! Unser Körper als wunderbares Zusammenspiel kann durch gezielte Yogaübungen in seiner Ausgeglichenheit unterstützt werden.
URL:https://bodyundmind.de/veranstaltung-seminar/online-yoga-kurs-jeden-1-sonntag-im-monat/2026-12-06/
CATEGORIES:Yoga
ATTACH;FMTTYPE=image/jpeg:https://bodyundmind.de/wp-content/uploads/2025/01/woman-2562216_1280.jpg
END:VEVENT
BEGIN:VEVENT
DTSTART;TZID=Europe/Berlin:20261206T200000
DTEND;TZID=Europe/Berlin:20261206T203500
DTSTAMP:20260420T174106
CREATED:20260131T072652Z
LAST-MODIFIED:20260131T072652Z
UID:10000375-1796587200-1796589300@bodyundmind.de
SUMMARY:Online-Yoga-Kurs (jeden 1. Sonntag im Monat)
DESCRIPTION:Kursbeginn: jeden 1. Sonntag im Monat \nKursgebühr: auf Anfrage \nVeranstalter: Monika Kreil-Brunauer (Yoga\, Cranio) \nAnmeldung: Anmeldung unter monika@herzhand.at \nWeitere Informationen:  Der Einstieg ist jederzeit möglich. \nFinde Deine Balance! Unser Körper als wunderbares Zusammenspiel kann durch gezielte Yogaübungen in seiner Ausgeglichenheit unterstützt werden.
URL:https://bodyundmind.de/veranstaltung-seminar/online-yoga-kurs-jeden-1-sonntag-im-monat-2/2026-12-06/
CATEGORIES:Yoga
ATTACH;FMTTYPE=image/jpeg:https://bodyundmind.de/wp-content/uploads/2025/01/woman-2562216_1280.jpg
END:VEVENT
BEGIN:VEVENT
DTSTART;TZID=Europe/Berlin:20270103T080000
DTEND;TZID=Europe/Berlin:20270103T083500
DTSTAMP:20260420T174106
CREATED:20260131T071658Z
LAST-MODIFIED:20260131T071658Z
UID:10000256-1798963200-1798965300@bodyundmind.de
SUMMARY:Online-Yoga-Kurs (jeden 1. Sonntag im Monat)
DESCRIPTION:Kursbeginn: jeden 1. Sonntag im Monat \nKursgebühr: auf Anfrage \nVeranstalter: Monika Kreil-Brunauer (Yoga\, Cranio) \nAnmeldung: Anmeldung unter monika@herzhand.at \nWeitere Informationen:  Der Einstieg ist jederzeit möglich. \nFinde Deine Balance! Unser Körper als wunderbares Zusammenspiel kann durch gezielte Yogaübungen in seiner Ausgeglichenheit unterstützt werden.
URL:https://bodyundmind.de/veranstaltung-seminar/online-yoga-kurs-jeden-1-sonntag-im-monat/2027-01-03/
CATEGORIES:Yoga
ATTACH;FMTTYPE=image/jpeg:https://bodyundmind.de/wp-content/uploads/2025/01/woman-2562216_1280.jpg
END:VEVENT
BEGIN:VEVENT
DTSTART;TZID=Europe/Berlin:20270103T200000
DTEND;TZID=Europe/Berlin:20270103T203500
DTSTAMP:20260420T174106
CREATED:20260131T072652Z
LAST-MODIFIED:20260131T072652Z
UID:10000376-1799006400-1799008500@bodyundmind.de
SUMMARY:Online-Yoga-Kurs (jeden 1. Sonntag im Monat)
DESCRIPTION:Kursbeginn: jeden 1. Sonntag im Monat \nKursgebühr: auf Anfrage \nVeranstalter: Monika Kreil-Brunauer (Yoga\, Cranio) \nAnmeldung: Anmeldung unter monika@herzhand.at \nWeitere Informationen:  Der Einstieg ist jederzeit möglich. \nFinde Deine Balance! Unser Körper als wunderbares Zusammenspiel kann durch gezielte Yogaübungen in seiner Ausgeglichenheit unterstützt werden.
URL:https://bodyundmind.de/veranstaltung-seminar/online-yoga-kurs-jeden-1-sonntag-im-monat-2/2027-01-03/
CATEGORIES:Yoga
ATTACH;FMTTYPE=image/jpeg:https://bodyundmind.de/wp-content/uploads/2025/01/woman-2562216_1280.jpg
END:VEVENT
BEGIN:VEVENT
DTSTART;TZID=Europe/Berlin:20270207T080000
DTEND;TZID=Europe/Berlin:20270207T083500
DTSTAMP:20260420T174106
CREATED:20260131T071658Z
LAST-MODIFIED:20260131T071658Z
UID:10000257-1801987200-1801989300@bodyundmind.de
SUMMARY:Online-Yoga-Kurs (jeden 1. Sonntag im Monat)
DESCRIPTION:Kursbeginn: jeden 1. Sonntag im Monat \nKursgebühr: auf Anfrage \nVeranstalter: Monika Kreil-Brunauer (Yoga\, Cranio) \nAnmeldung: Anmeldung unter monika@herzhand.at \nWeitere Informationen:  Der Einstieg ist jederzeit möglich. \nFinde Deine Balance! Unser Körper als wunderbares Zusammenspiel kann durch gezielte Yogaübungen in seiner Ausgeglichenheit unterstützt werden.
URL:https://bodyundmind.de/veranstaltung-seminar/online-yoga-kurs-jeden-1-sonntag-im-monat/2027-02-07/
CATEGORIES:Yoga
ATTACH;FMTTYPE=image/jpeg:https://bodyundmind.de/wp-content/uploads/2025/01/woman-2562216_1280.jpg
END:VEVENT
BEGIN:VEVENT
DTSTART;TZID=Europe/Berlin:20270207T200000
DTEND;TZID=Europe/Berlin:20270207T203500
DTSTAMP:20260420T174106
CREATED:20260131T072652Z
LAST-MODIFIED:20260131T072652Z
UID:10000377-1802030400-1802032500@bodyundmind.de
SUMMARY:Online-Yoga-Kurs (jeden 1. Sonntag im Monat)
DESCRIPTION:Kursbeginn: jeden 1. Sonntag im Monat \nKursgebühr: auf Anfrage \nVeranstalter: Monika Kreil-Brunauer (Yoga\, Cranio) \nAnmeldung: Anmeldung unter monika@herzhand.at \nWeitere Informationen:  Der Einstieg ist jederzeit möglich. \nFinde Deine Balance! Unser Körper als wunderbares Zusammenspiel kann durch gezielte Yogaübungen in seiner Ausgeglichenheit unterstützt werden.
URL:https://bodyundmind.de/veranstaltung-seminar/online-yoga-kurs-jeden-1-sonntag-im-monat-2/2027-02-07/
CATEGORIES:Yoga
ATTACH;FMTTYPE=image/jpeg:https://bodyundmind.de/wp-content/uploads/2025/01/woman-2562216_1280.jpg
END:VEVENT
BEGIN:VEVENT
DTSTART;TZID=Europe/Berlin:20270307T080000
DTEND;TZID=Europe/Berlin:20270307T083500
DTSTAMP:20260420T174106
CREATED:20260131T071658Z
LAST-MODIFIED:20260131T071658Z
UID:10000258-1804406400-1804408500@bodyundmind.de
SUMMARY:Online-Yoga-Kurs (jeden 1. Sonntag im Monat)
DESCRIPTION:Kursbeginn: jeden 1. Sonntag im Monat \nKursgebühr: auf Anfrage \nVeranstalter: Monika Kreil-Brunauer (Yoga\, Cranio) \nAnmeldung: Anmeldung unter monika@herzhand.at \nWeitere Informationen:  Der Einstieg ist jederzeit möglich. \nFinde Deine Balance! Unser Körper als wunderbares Zusammenspiel kann durch gezielte Yogaübungen in seiner Ausgeglichenheit unterstützt werden.
URL:https://bodyundmind.de/veranstaltung-seminar/online-yoga-kurs-jeden-1-sonntag-im-monat/2027-03-07/
CATEGORIES:Yoga
ATTACH;FMTTYPE=image/jpeg:https://bodyundmind.de/wp-content/uploads/2025/01/woman-2562216_1280.jpg
END:VEVENT
BEGIN:VEVENT
DTSTART;TZID=Europe/Berlin:20270307T200000
DTEND;TZID=Europe/Berlin:20270307T203500
DTSTAMP:20260420T174106
CREATED:20260131T072652Z
LAST-MODIFIED:20260131T072652Z
UID:10000378-1804449600-1804451700@bodyundmind.de
SUMMARY:Online-Yoga-Kurs (jeden 1. Sonntag im Monat)
DESCRIPTION:Kursbeginn: jeden 1. Sonntag im Monat \nKursgebühr: auf Anfrage \nVeranstalter: Monika Kreil-Brunauer (Yoga\, Cranio) \nAnmeldung: Anmeldung unter monika@herzhand.at \nWeitere Informationen:  Der Einstieg ist jederzeit möglich. \nFinde Deine Balance! Unser Körper als wunderbares Zusammenspiel kann durch gezielte Yogaübungen in seiner Ausgeglichenheit unterstützt werden.
URL:https://bodyundmind.de/veranstaltung-seminar/online-yoga-kurs-jeden-1-sonntag-im-monat-2/2027-03-07/
CATEGORIES:Yoga
ATTACH;FMTTYPE=image/jpeg:https://bodyundmind.de/wp-content/uploads/2025/01/woman-2562216_1280.jpg
END:VEVENT
BEGIN:VEVENT
DTSTART;TZID=Europe/Berlin:20270404T080000
DTEND;TZID=Europe/Berlin:20270404T083500
DTSTAMP:20260420T174106
CREATED:20260131T071658Z
LAST-MODIFIED:20260131T071658Z
UID:10000259-1806825600-1806827700@bodyundmind.de
SUMMARY:Online-Yoga-Kurs (jeden 1. Sonntag im Monat)
DESCRIPTION:Kursbeginn: jeden 1. Sonntag im Monat \nKursgebühr: auf Anfrage \nVeranstalter: Monika Kreil-Brunauer (Yoga\, Cranio) \nAnmeldung: Anmeldung unter monika@herzhand.at \nWeitere Informationen:  Der Einstieg ist jederzeit möglich. \nFinde Deine Balance! Unser Körper als wunderbares Zusammenspiel kann durch gezielte Yogaübungen in seiner Ausgeglichenheit unterstützt werden.
URL:https://bodyundmind.de/veranstaltung-seminar/online-yoga-kurs-jeden-1-sonntag-im-monat/2027-04-04/
CATEGORIES:Yoga
ATTACH;FMTTYPE=image/jpeg:https://bodyundmind.de/wp-content/uploads/2025/01/woman-2562216_1280.jpg
END:VEVENT
BEGIN:VEVENT
DTSTART;TZID=Europe/Berlin:20270404T200000
DTEND;TZID=Europe/Berlin:20270404T203500
DTSTAMP:20260420T174106
CREATED:20260131T072652Z
LAST-MODIFIED:20260131T072652Z
UID:10000379-1806868800-1806870900@bodyundmind.de
SUMMARY:Online-Yoga-Kurs (jeden 1. Sonntag im Monat)
DESCRIPTION:Kursbeginn: jeden 1. Sonntag im Monat \nKursgebühr: auf Anfrage \nVeranstalter: Monika Kreil-Brunauer (Yoga\, Cranio) \nAnmeldung: Anmeldung unter monika@herzhand.at \nWeitere Informationen:  Der Einstieg ist jederzeit möglich. \nFinde Deine Balance! Unser Körper als wunderbares Zusammenspiel kann durch gezielte Yogaübungen in seiner Ausgeglichenheit unterstützt werden.
URL:https://bodyundmind.de/veranstaltung-seminar/online-yoga-kurs-jeden-1-sonntag-im-monat-2/2027-04-04/
CATEGORIES:Yoga
ATTACH;FMTTYPE=image/jpeg:https://bodyundmind.de/wp-content/uploads/2025/01/woman-2562216_1280.jpg
END:VEVENT
BEGIN:VEVENT
DTSTART;TZID=Europe/Berlin:20270502T080000
DTEND;TZID=Europe/Berlin:20270502T083500
DTSTAMP:20260420T174106
CREATED:20260131T071658Z
LAST-MODIFIED:20260131T071658Z
UID:10000260-1809244800-1809246900@bodyundmind.de
SUMMARY:Online-Yoga-Kurs (jeden 1. Sonntag im Monat)
DESCRIPTION:Kursbeginn: jeden 1. Sonntag im Monat \nKursgebühr: auf Anfrage \nVeranstalter: Monika Kreil-Brunauer (Yoga\, Cranio) \nAnmeldung: Anmeldung unter monika@herzhand.at \nWeitere Informationen:  Der Einstieg ist jederzeit möglich. \nFinde Deine Balance! Unser Körper als wunderbares Zusammenspiel kann durch gezielte Yogaübungen in seiner Ausgeglichenheit unterstützt werden.
URL:https://bodyundmind.de/veranstaltung-seminar/online-yoga-kurs-jeden-1-sonntag-im-monat/2027-05-02/
CATEGORIES:Yoga
ATTACH;FMTTYPE=image/jpeg:https://bodyundmind.de/wp-content/uploads/2025/01/woman-2562216_1280.jpg
END:VEVENT
BEGIN:VEVENT
DTSTART;TZID=Europe/Berlin:20270502T200000
DTEND;TZID=Europe/Berlin:20270502T203500
DTSTAMP:20260420T174106
CREATED:20260131T072652Z
LAST-MODIFIED:20260131T072652Z
UID:10000380-1809288000-1809290100@bodyundmind.de
SUMMARY:Online-Yoga-Kurs (jeden 1. Sonntag im Monat)
DESCRIPTION:Kursbeginn: jeden 1. Sonntag im Monat \nKursgebühr: auf Anfrage \nVeranstalter: Monika Kreil-Brunauer (Yoga\, Cranio) \nAnmeldung: Anmeldung unter monika@herzhand.at \nWeitere Informationen:  Der Einstieg ist jederzeit möglich. \nFinde Deine Balance! Unser Körper als wunderbares Zusammenspiel kann durch gezielte Yogaübungen in seiner Ausgeglichenheit unterstützt werden.
URL:https://bodyundmind.de/veranstaltung-seminar/online-yoga-kurs-jeden-1-sonntag-im-monat-2/2027-05-02/
CATEGORIES:Yoga
ATTACH;FMTTYPE=image/jpeg:https://bodyundmind.de/wp-content/uploads/2025/01/woman-2562216_1280.jpg
END:VEVENT
BEGIN:VEVENT
DTSTART;TZID=Europe/Berlin:20270606T080000
DTEND;TZID=Europe/Berlin:20270606T083500
DTSTAMP:20260420T174106
CREATED:20260131T071658Z
LAST-MODIFIED:20260131T071658Z
UID:10000261-1812268800-1812270900@bodyundmind.de
SUMMARY:Online-Yoga-Kurs (jeden 1. Sonntag im Monat)
DESCRIPTION:Kursbeginn: jeden 1. Sonntag im Monat \nKursgebühr: auf Anfrage \nVeranstalter: Monika Kreil-Brunauer (Yoga\, Cranio) \nAnmeldung: Anmeldung unter monika@herzhand.at \nWeitere Informationen:  Der Einstieg ist jederzeit möglich. \nFinde Deine Balance! Unser Körper als wunderbares Zusammenspiel kann durch gezielte Yogaübungen in seiner Ausgeglichenheit unterstützt werden.
URL:https://bodyundmind.de/veranstaltung-seminar/online-yoga-kurs-jeden-1-sonntag-im-monat/2027-06-06/
CATEGORIES:Yoga
ATTACH;FMTTYPE=image/jpeg:https://bodyundmind.de/wp-content/uploads/2025/01/woman-2562216_1280.jpg
END:VEVENT
BEGIN:VEVENT
DTSTART;TZID=Europe/Berlin:20270606T200000
DTEND;TZID=Europe/Berlin:20270606T203500
DTSTAMP:20260420T174106
CREATED:20260131T072652Z
LAST-MODIFIED:20260131T072652Z
UID:10000381-1812312000-1812314100@bodyundmind.de
SUMMARY:Online-Yoga-Kurs (jeden 1. Sonntag im Monat)
DESCRIPTION:Kursbeginn: jeden 1. Sonntag im Monat \nKursgebühr: auf Anfrage \nVeranstalter: Monika Kreil-Brunauer (Yoga\, Cranio) \nAnmeldung: Anmeldung unter monika@herzhand.at \nWeitere Informationen:  Der Einstieg ist jederzeit möglich. \nFinde Deine Balance! Unser Körper als wunderbares Zusammenspiel kann durch gezielte Yogaübungen in seiner Ausgeglichenheit unterstützt werden.
URL:https://bodyundmind.de/veranstaltung-seminar/online-yoga-kurs-jeden-1-sonntag-im-monat-2/2027-06-06/
CATEGORIES:Yoga
ATTACH;FMTTYPE=image/jpeg:https://bodyundmind.de/wp-content/uploads/2025/01/woman-2562216_1280.jpg
END:VEVENT
BEGIN:VEVENT
DTSTART;TZID=Europe/Berlin:20270704T080000
DTEND;TZID=Europe/Berlin:20270704T083500
DTSTAMP:20260420T174106
CREATED:20260131T071658Z
LAST-MODIFIED:20260131T071658Z
UID:10000262-1814688000-1814690100@bodyundmind.de
SUMMARY:Online-Yoga-Kurs (jeden 1. Sonntag im Monat)
DESCRIPTION:Kursbeginn: jeden 1. Sonntag im Monat \nKursgebühr: auf Anfrage \nVeranstalter: Monika Kreil-Brunauer (Yoga\, Cranio) \nAnmeldung: Anmeldung unter monika@herzhand.at \nWeitere Informationen:  Der Einstieg ist jederzeit möglich. \nFinde Deine Balance! Unser Körper als wunderbares Zusammenspiel kann durch gezielte Yogaübungen in seiner Ausgeglichenheit unterstützt werden.
URL:https://bodyundmind.de/veranstaltung-seminar/online-yoga-kurs-jeden-1-sonntag-im-monat/2027-07-04/
CATEGORIES:Yoga
ATTACH;FMTTYPE=image/jpeg:https://bodyundmind.de/wp-content/uploads/2025/01/woman-2562216_1280.jpg
END:VEVENT
BEGIN:VEVENT
DTSTART;TZID=Europe/Berlin:20270704T200000
DTEND;TZID=Europe/Berlin:20270704T203500
DTSTAMP:20260420T174106
CREATED:20260131T072652Z
LAST-MODIFIED:20260131T072652Z
UID:10000382-1814731200-1814733300@bodyundmind.de
SUMMARY:Online-Yoga-Kurs (jeden 1. Sonntag im Monat)
DESCRIPTION:Kursbeginn: jeden 1. Sonntag im Monat \nKursgebühr: auf Anfrage \nVeranstalter: Monika Kreil-Brunauer (Yoga\, Cranio) \nAnmeldung: Anmeldung unter monika@herzhand.at \nWeitere Informationen:  Der Einstieg ist jederzeit möglich. \nFinde Deine Balance! Unser Körper als wunderbares Zusammenspiel kann durch gezielte Yogaübungen in seiner Ausgeglichenheit unterstützt werden.
URL:https://bodyundmind.de/veranstaltung-seminar/online-yoga-kurs-jeden-1-sonntag-im-monat-2/2027-07-04/
CATEGORIES:Yoga
ATTACH;FMTTYPE=image/jpeg:https://bodyundmind.de/wp-content/uploads/2025/01/woman-2562216_1280.jpg
END:VEVENT
END:VCALENDAR