BEGIN:VCALENDAR
VERSION:2.0
PRODID:-//Body und Mind - ECPv6.15.16//NONSGML v1.0//EN
CALSCALE:GREGORIAN
METHOD:PUBLISH
X-ORIGINAL-URL:https://bodyundmind.de
X-WR-CALDESC:Veranstaltungen für Body und Mind
REFRESH-INTERVAL;VALUE=DURATION:PT1H
X-Robots-Tag:noindex
X-PUBLISHED-TTL:PT1H
BEGIN:VTIMEZONE
TZID:Europe/Berlin
BEGIN:DAYLIGHT
TZOFFSETFROM:+0100
TZOFFSETTO:+0200
TZNAME:CEST
DTSTART:20240331T010000
END:DAYLIGHT
BEGIN:STANDARD
TZOFFSETFROM:+0200
TZOFFSETTO:+0100
TZNAME:CET
DTSTART:20241027T010000
END:STANDARD
BEGIN:DAYLIGHT
TZOFFSETFROM:+0100
TZOFFSETTO:+0200
TZNAME:CEST
DTSTART:20250330T010000
END:DAYLIGHT
BEGIN:STANDARD
TZOFFSETFROM:+0200
TZOFFSETTO:+0100
TZNAME:CET
DTSTART:20251026T010000
END:STANDARD
BEGIN:DAYLIGHT
TZOFFSETFROM:+0100
TZOFFSETTO:+0200
TZNAME:CEST
DTSTART:20260329T010000
END:DAYLIGHT
BEGIN:STANDARD
TZOFFSETFROM:+0200
TZOFFSETTO:+0100
TZNAME:CET
DTSTART:20261025T010000
END:STANDARD
BEGIN:DAYLIGHT
TZOFFSETFROM:+0100
TZOFFSETTO:+0200
TZNAME:CEST
DTSTART:20270328T010000
END:DAYLIGHT
BEGIN:STANDARD
TZOFFSETFROM:+0200
TZOFFSETTO:+0100
TZNAME:CET
DTSTART:20271031T010000
END:STANDARD
END:VTIMEZONE
BEGIN:VEVENT
DTSTART;TZID=Europe/Berlin:20260314T090000
DTEND;TZID=Europe/Berlin:20260314T120000
DTSTAMP:20260420T202447
CREATED:20260131T154351Z
LAST-MODIFIED:20260201T090630Z
UID:10000426-1773478800-1773489600@bodyundmind.de
SUMMARY:Erste Hilfe am Kind und Säugling am 14.03.2026
DESCRIPTION:Kursbeginn: 14.03.2026 (09:00-12:00 Uhr) \nKursgebühr: 50 € \nVeranstalter: Heilpraktikerschule-Rippel in Emmerting \nAnmeldung:Online-Anmeldung \nWeitere Informationen: weiterer Kurs im September \nDieser Kindernotfallkurs richtet sich an alle werdenden Eltern und Großeltern! Der Kurs ist speziell auf die Besonderheiten im Kindesalter (Neugeborene & Kind) ausgerichtet. Inhalte sind u.a.: \n\nWiederbelebung & stabile Seitenlage\nVerschlucken von Fremdkörpern in Atemwegen\nFieberkrampf & Epilepsie\nGehirnerschütterung\nErtrinkungsunfall\nAllergische Reaktionen\nVergiftungen\nVerbrennungen\, Hitzschlag & Sonnenstich\n\n 
URL:https://bodyundmind.de/veranstaltung-seminar/erste-hilfe-am-kind-und-saeugling-am-14-03-2026/
LOCATION:Haus der Familie in Burghausen\, Prießnitzstr. 1\, Burghausen\, Landkreis Altötting\, 84489\, Germany
CATEGORIES:Ausbildung & Fortbildung
ATTACH;FMTTYPE=image/webp:https://bodyundmind.de/wp-content/uploads/2025/07/Erste-Hilfe-Kurs-Kind-Saeugling.webp
ORGANIZER;CN="Cordula Rippel":MAILTO:info@heilpraktikerschule-rippel.de
GEO:48.1692205;12.8298229
X-APPLE-STRUCTURED-LOCATION;VALUE=URI;X-ADDRESS=Haus der Familie in Burghausen Prießnitzstr. 1 Burghausen Landkreis Altötting 84489 Germany;X-APPLE-RADIUS=500;X-TITLE=Prießnitzstr. 1:geo:12.8298229,48.1692205
END:VEVENT
BEGIN:VEVENT
DTSTART;TZID=Europe/Berlin:20260207T090000
DTEND;TZID=Europe/Berlin:20260207T120000
DTSTAMP:20260420T202447
CREATED:20260131T151647Z
LAST-MODIFIED:20260131T151647Z
UID:10000425-1770454800-1770465600@bodyundmind.de
SUMMARY:Erste Hilfe am Kind und Säugling am 07.02.2026
DESCRIPTION:Kursbeginn: 07.02.2026 (09:00-12:00 Uhr) \nKursgebühr: 50 € \nVeranstalter: Heilpraktikerschule-Rippel in Emmerting \nAnmeldung:Online-Anmeldung \nWeitere Informationen: weiterer Kurs im September \nDieser Kindernotfallkurs richtet sich an alle werdenden Eltern und Großeltern! Der Kurs ist speziell auf die Besonderheiten im Kindesalter (Neugeborene & Kind) ausgerichtet. Inhalte sind u.a.: \n\nWiederbelebung & stabile Seitenlage\nVerschlucken von Fremdkörpern in Atemwegen\nFieberkrampf & Epilepsie\nGehirnerschütterung\nErtrinkungsunfall\nAllergische Reaktionen\nVergiftungen\nVerbrennungen\, Hitzschlag & Sonnenstich\n\n 
URL:https://bodyundmind.de/veranstaltung-seminar/erste-hilfe-am-kind-und-saeugling-am-07-02-2026/
LOCATION:Hebammenpraxis Baumgarten\, Baumgarten 1\, Kastl\, Landkreis Altötting\, 84556
CATEGORIES:Ausbildung & Fortbildung
ATTACH;FMTTYPE=image/webp:https://bodyundmind.de/wp-content/uploads/2025/07/Erste-Hilfe-Kurs-Kind-Saeugling.webp
ORGANIZER;CN="Cordula Rippel":MAILTO:info@heilpraktikerschule-rippel.de
GEO:48.1835403;12.6564248
X-APPLE-STRUCTURED-LOCATION;VALUE=URI;X-ADDRESS=Hebammenpraxis Baumgarten Baumgarten 1 Kastl Landkreis Altötting 84556;X-APPLE-RADIUS=500;X-TITLE=Baumgarten 1:geo:12.6564248,48.1835403
END:VEVENT
BEGIN:VEVENT
DTSTART;TZID=Europe/Berlin:20251121T090000
DTEND;TZID=Europe/Berlin:20251121T120000
DTSTAMP:20260420T202447
CREATED:20251009T173057Z
LAST-MODIFIED:20251009T173105Z
UID:10000031-1763715600-1763726400@bodyundmind.de
SUMMARY:Erste Hilfe am Kind und Säugling am 21.11.2025
DESCRIPTION:Kursbeginn: 21.11.2025 (09:00-12:00 Uhr) \nKursgebühr: 50 € \nVeranstalter: Heilpraktikerschule-Rippel in Emmerting \nAnmeldung:Online-Anmeldung \nWeitere Informationen: weiterer Kurs im September \nDieser Kindernotfallkurs richtet sich an alle werdenden Eltern und Großeltern! Der Kurs ist speziell auf die Besonderheiten im Kindesalter (Neugeborene & Kind) ausgerichtet. Inhalte sind u.a.: \n\nWiederbelebung & stabile Seitenlage\nVerschlucken von Fremdkörpern in Atemwegen\nFieberkrampf & Epilepsie\nGehirnerschütterung\nErtrinkungsunfall\nAllergische Reaktionen\nVergiftungen\nVerbrennungen\, Hitzschlag & Sonnenstich\n\n 
URL:https://bodyundmind.de/veranstaltung-seminar/erste-hilfe-am-kind-und-saeugling-am-21-11-2025/
LOCATION:Hebammenpraxis Baumgarten\, Baumgarten 1\, Kastl\, Landkreis Altötting\, 84556
CATEGORIES:Ausbildung & Fortbildung
ATTACH;FMTTYPE=image/webp:https://bodyundmind.de/wp-content/uploads/2025/07/Erste-Hilfe-Kurs-Kind-Saeugling.webp
ORGANIZER;CN="Cordula Rippel":MAILTO:info@heilpraktikerschule-rippel.de
GEO:48.1835403;12.6564248
X-APPLE-STRUCTURED-LOCATION;VALUE=URI;X-ADDRESS=Hebammenpraxis Baumgarten Baumgarten 1 Kastl Landkreis Altötting 84556;X-APPLE-RADIUS=500;X-TITLE=Baumgarten 1:geo:12.6564248,48.1835403
END:VEVENT
BEGIN:VEVENT
DTSTART;TZID=Europe/Berlin:20250922T090000
DTEND;TZID=Europe/Berlin:20250922T120000
DTSTAMP:20260420T202447
CREATED:20250912T052255Z
LAST-MODIFIED:20250912T052255Z
UID:10000027-1758531600-1758542400@bodyundmind.de
SUMMARY:Erste Hilfe am Kind und Säugling in Emmerting
DESCRIPTION:Kursbeginn: 22.09.2025 (09:00-12:00 Uhr) \nKursgebühr: 50 € \nVeranstalter: Heilpraktikerschule-Rippel in Emmerting \nAnmeldung:Online-Anmeldung \nWeitere Informationen: weiterer Kurs im September \nDieser Kindernotfallkurs richtet sich an alle werdenden Eltern und Großeltern! Der Kurs ist speziell auf die Besonderheiten im Kindesalter (Neugeborene & Kind) ausgerichtet. Inhalte sind u.a.: \n\nWiederbelebung & stabile Seitenlage\nVerschlucken von Fremdkörpern in Atemwegen\nFieberkrampf & Epilepsie\nGehirnerschütterung\nErtrinkungsunfall\nAllergische Reaktionen\nVergiftungen\nVerbrennungen\, Hitzschlag & Sonnenstich\n\n 
URL:https://bodyundmind.de/veranstaltung-seminar/erste-hilfe-am-kind-und-saeugling-in-emmerting-september/
LOCATION:Heilpraktikerschule-Rippel Cordula & Heiko Rippel\, Hauptstraße 18\, Emmerting\, Landkreis Altötting\, 84547\, Germany
CATEGORIES:Ausbildung & Fortbildung
ATTACH;FMTTYPE=image/webp:https://bodyundmind.de/wp-content/uploads/2025/07/Erste-Hilfe-Kurs-Kind-Saeugling.webp
ORGANIZER;CN="Cordula Rippel":MAILTO:info@heilpraktikerschule-rippel.de
GEO:48.1973413;12.7673765
X-APPLE-STRUCTURED-LOCATION;VALUE=URI;X-ADDRESS=Heilpraktikerschule-Rippel Cordula & Heiko Rippel Hauptstraße 18 Emmerting Landkreis Altötting 84547 Germany;X-APPLE-RADIUS=500;X-TITLE=Hauptstraße 18:geo:12.7673765,48.1973413
END:VEVENT
BEGIN:VEVENT
DTSTART;TZID=Europe/Berlin:20250726T083000
DTEND;TZID=Europe/Berlin:20250726T163000
DTSTAMP:20260420T202447
CREATED:20250723T040227Z
LAST-MODIFIED:20250723T170539Z
UID:10000024-1753518600-1753547400@bodyundmind.de
SUMMARY:Erste-Hilfe-Kurs Führerschein/ betriebliche Ersthelfer gemäß DGUV in Emmerting
DESCRIPTION:Kursbeginn: 26.07.2025 (08:30-16:30 Uhr) \nKursgebühr: 50 € (9 UE a 45 Minuten) \nVeranstalter: Heilpraktikerschule-Rippel in Emmerting \nAnmeldung:Online-Anmeldung \nWeitere Informationen: In Emmerting jeden letzten Samstag im Monat. \nUnsere Erste-Hilfe-Kurse bieten Ihnen das Wissen und die Fertigkeiten\, um in Notfallsituationen schnell und effektiv zu handeln. Anhand von praktischen Übungen erlernen Sie lebensrettende Maßnahmen von der Wundversorgung bis zur Herzlungen-Wiederbelebung. Online Erste Hilfe Kurse werden Online nicht anerkannt\, daher finden unsere Kurse alle in Präsenz statt. Als langjährige Erste Hilfe Ausbilder ermöglichen wir eine praxisnahe Vorbereitung für Notfälle. Mehr Informationen zum Kursablauf und den Inhalten haben wir für Sie bei unseren speziellen Kursangeboten aufgeführt. \n 
URL:https://bodyundmind.de/veranstaltung-seminar/erste-hilfe-kurs-fuehrerschein-betriebliche-ersthelfer-gemaess-dguv-in-emmerting/
LOCATION:Heilpraktikerschule-Rippel Cordula & Heiko Rippel\, Hauptstraße 18\, Emmerting\, Landkreis Altötting\, 84547\, Germany
CATEGORIES:Ausbildung & Fortbildung
ATTACH;FMTTYPE=image/webp:https://bodyundmind.de/wp-content/uploads/2025/07/Erste-Hilfe-Kurs-6.jpg.webp
ORGANIZER;CN="Cordula Rippel":MAILTO:info@heilpraktikerschule-rippel.de
GEO:48.1973413;12.7673765
X-APPLE-STRUCTURED-LOCATION;VALUE=URI;X-ADDRESS=Heilpraktikerschule-Rippel Cordula & Heiko Rippel Hauptstraße 18 Emmerting Landkreis Altötting 84547 Germany;X-APPLE-RADIUS=500;X-TITLE=Hauptstraße 18:geo:12.7673765,48.1973413
END:VEVENT
END:VCALENDAR